{"text_format":"1","workbook":"xlsx","n_sheets":70,"sheets":["Инструкция","modInstruction","Лог обновления","Контакты","Список организаций","Список объектов","Т итого","Т","Поставки топлива","Свод","Результаты загрузки","Комментарии","Проверка","TECHSHEET","TECH_HORISONTAL","TECH_VERTICAL","REESTR_ORG","REESTR_SOURCE","FILE_STORE_DATA_1","FILE_STORE_DATA_2","FILE_STORE_DATA_3","EGR_BY_ORGN_DATA","modGetGeoBase","REESTR_MO","AUTHORISATION","PLAN1X_LIST_ORG","PLAN1X_LIST_SRC","PLAN1X_AGGREGATE","PLAN1X_LIST_SUBSIDIARY","PLAN1X_LIST_OKOPF","PLAN1X_FUEL_USAGE","ORG_DATA_REGION","SRC_DATA_REGION","FUEL_DATA_REGION","SUPPLY_DATA_REGION","SUPPLY_PREV_DATA_REGION","TOTAL_COMS_DATA_REGION","COMS_DATA_REGION","LIST_RST_ORG","TEMPLATE_PARAMS","modLoad","modLoadResults","modLoadFiles","modInfo","modUIButtons","modVLDCommon","modVLDIntegrity","modVLDData","modGeneralAPI","modFuelData","modListOrg","modListObjects","modfrmRegion","modVLDGeneral","modVLDUniqueness","modfrmReestr","modfrmOrg","modUpdTemplMain","modfrmCheckUpdates","modfrmHEATAdditionalOrgData","modOpen","modData_TOPL_QX","modDataRegion","modRequestSpecificData","modRequestReestrData","modFuelSupply","modfrmFuelTransferMethods","modfrmDateChoose","modfrmPurchaseRegNumber","modfrmEGRSearch"],"not_rendered":{"charts":0,"images":40,"macros":1,"external_links":0,"defined_names":393,"comments":4,"pivot_tables":0},"unopened":[],"bounds":{"document_bytes":16777216,"sheet_cells":100000,"rows_first":2000,"rows_last":500,"rows_between":2000,"halvings":0,"cell_chars":16384,"cell_head_chars":4096},"cells_cut":0,"cells_raw":0,"read":"whole","date_system":"1900"}

{"sheet":"Инструкция","index":0,"n_rows":105,"n_cols":27,"rows_kept":105,"cut":false,"hidden":false,"merged":[[58,10,58,23],[94,5,94,18],[1,1,1,6],[2,1,2,2],[4,1,4,24],[6,4,18,23],[21,5,21,12],[34,4,38,23],[59,4,59,9],[59,10,59,23],[20,5,20,12],[20,15,20,23],[21,15,21,23],[40,4,40,16],[40,17,40,24],[45,4,56,23],[58,4,58,9],[104,4,104,16],[104,17,104,24],[96,5,96,23],[75,4,75,6],[75,7,75,23],[76,4,76,9],[76,10,76,23],[78,10,78,23],[102,4,102,16],[102,17,102,24],[103,4,103,16],[103,17,103,24],[78,4,78,9],[77,4,77,9],[77,10,77,23],[92,4,92,23]]}
[null,null,null,null,null,null,null,null,null,null,null,null,null,null,null,null,null,null,null,null,null,null,null,null,null,null," (требуется обновление)"]
[null,{"$f":"\"Код отчёта: \" & GetCode()","v":"Код отчёта: WARM.TOPL.Q1.2020"}]
[null,{"$f":"\"Версия \" & GetVersion()","v":"Версия 1.0"}]
[]
[null,{"$f":"\"Информация о фактически сложившихся ценах и объёмах потребления топлива по итогам \" & CURRENT_PRD &  \" \" & god & \" года\"","v":"Информация о фактически сложившихся ценах и объёмах потребления топлива по итогам I квартала 2020 года"}]
[]
[null,null,null,null,"• На рабочем месте должен быть установлен MS Office 2003 SP3, 2007 SP3, 2010, 2013, 2016 с полной версией MS Excel\n\n• Макросы во время работы должны быть включены (!)\n\n• Для корректной работы отчёта требуется выбрать низкий уровень безопасности\n(В меню MS Excel 2003: Сервис | Макрос | Безопасность | выбрать пункт «Низкая безопасность» | OK)\n(В меню MS Excel 2007/2010/2013/2016: Параметры Excel | Центр управления безопасностью | Параметры центра управления безопасностью | Параметры макросов | Включить все макросы | ОК)\n\n• Если Вы работаете в табличном процессоре MS Excel 2007 и выше, то можете использовать для работы формат XLSB (Двоичная книга Excel). При работе в формате XLSB заметно быстрее происходит сохранение файла, а также уменьшается размер по сравнению с форматами XLS и XLSM\n\n• Не рекомендуется снимать защиту с листов и каким-либо образом модифицировать защищаемые формулы и расчётные поля, в противном случае, отчёт будет отклонён системой\n\n• При сохранении не следует выбирать формат XLSX (Книга Excel), так как в указанном формате макросы, необходимые для работы отчёта, безвозвратно удаляются"]
[]
[]
[]
[]
[]
[]
[]
[]
[]
[]
[]
[]
[]
[null,null,null,null,"A"," - предназначенные для заполнения",null,null,null,null,null,null,null,null,"A"," - ссылки и автозаполняемые поля"]
[null,null,null,null,"A"," - с формулами и константами",null,null,null,null,null,null,null,null,"A"," - обязательные для заполнения"]
[]
[]
[]
[]
[]
[]
[]
[]
[]
[]
[]
[]
[null,null,null,null,"Если в предложенном Вам списке необходимая организация, МР/МО отсутствуют, обновите реестры с помощью кнопок на листе \"Список организаций\"\n\nВ результате синхронизации с базой данных список организаций (МР/МО) будет заменён актуальным (механизм синхронизации требует подключения к сети Интернет и основан на использовании протокола HTTPS (TCP порт 443))\n\nЕсли после обновления Вам не удалось найти необходимую организацию в списке, обратитесь к ответственному за поддержание реестра Вашего региона."]
[]
[]
[]
[]
[]
[null,null,null,null,"Адрес сервера ЕИАС для запроса данных:",null,null,null,null,null,null,null,null,null,null,null,null,"https://eias.ru"]
[]
[]
[]
[]
[null,null,null,null,"• При сохранении шаблона осуществляется проверка корректности данных, в том числе на наличие значений в ячейках, обязательных для заполнения\n\n• Если какая-то ячейка не удовлетворяет условию проверки, на лист «Проверка» добавляется гиперссылка на данную ячейку и указывается причина ошибки\n\n• В колонке «Статус» для каждого сообщения возможны 2 значения: ошибка и предупреждение\n\n• При наличии сообщений со статусом «Ошибка» шаблон будет отклонён системой и не будет загружен в хранилище данных, сообщения со статусом «Предупреждение» носят информационный характер, и такой шаблон будет принят системой"]
[]
[]
[]
[]
[]
[]
[]
[]
[]
[]
[]
[]
[null,null,null,null,"Консультации:",null,null,null,null,null,"Обратиться за помощью"]
[null,null,null,null,"Дистрибутивы:",null,null,null,null,null,"Перейти"]
[]
[]
[]
[]
[]
[]
[]
[]
[]
[]
[]
[]
[]
[]
[]
[]
[null,null,null,null,"Сопровождение:",null,null,null,null,null,"Обратиться за помощью"]
[null,null,null,null,"Отчётные формы:",null,null,null,null,null,"Перейти к разделу"]
[null,null,null,null,"Хранилище документов:",null,null,null,null,null,"Руководство по загрузке документов"]
[]
[]
[]
[]
[]
[]
[]
[]
[]
[]
[]
[]
[]
[null,null,null,null,"При наличии подключения к Интернет, можно автоматически проверять наличие доступных обновлений. Выберите способ оповещения о наличии обновлений для отчёта:"]
[]
[null,null,null,null,null,"проверять доступные обновления (рекомендуется)",null,null,null,null,null,null,null,null,null,null,null,null,null,null,null,null,null,null,null,null,"y"]
[]
[null,null,null,null,null,"никогда не проверять наличие обновлений (не рекомендуется)"]
[]
[]
[]
[]
[]
[null,null,null,null,"Использовать прокси-сервер для запроса обновлений",null,null,null,null,null,null,null,null,null,null,null,null,"нет"]
[null,null,null,null,"Адрес прокси-сервера"]
[null,null,null,null,"Порт"]

{"sheet":"modInstruction","index":1,"n_rows":0,"n_cols":0,"rows_kept":0,"cut":false,"hidden":true,"merged":[]}

{"sheet":"Лог обновления","index":2,"n_rows":6,"n_cols":4,"rows_kept":6,"cut":false,"hidden":true,"merged":[]}
[]
["3/17/2012  12:12:41 AM","Дата/Время","Сообщение","Статус"]
[null,"5/30/2020  9:10:42 PM","Проверка доступных обновлений...","Информация"]
[null,"5/30/2020  9:10:44 PM","Нет доступных обновлений для отчёта с кодом WARM.TOPL.Q1.2020!","Информация"]
[null,"6/2/2020  10:25:29 AM","Проверка доступных обновлений...","Информация"]
[null,"6/2/2020  10:25:31 AM","Нет доступных обновлений для отчёта с кодом WARM.TOPL.Q1.2020!","Информация"]

{"sheet":"Контакты","index":3,"n_rows":25,"n_cols":10,"rows_kept":25,"cut":false,"hidden":true,"merged":[[5,5,5,6],[6,4,6,6],[8,5,8,6],[9,4,9,5]]}
[]
[]
[]
[]
[null,null,null,null,null,null,{"$f":"version","v":"Версия 1.0"}]
[]
[null,null,null,null,"Контактные данные"]
[]
[]
[null,null,null,null,"Субъект РФ",null,"Ставропольский край",null,null,2020]
[null,null,null,null,null,null,null,null,null,"I квартала"]
[null,null,null,null,null,null,"Региональный орган исполнительной власти в области тарифного регулирования"]
[null,null,null,null,null,"Полное название"]
[null,null,null,null,null,"(код) телефон приёмной"]
[null,null,null,null,null,"(код) факс приёмной"]
[]
[null,null,null,null,null,null,"Ответственный за предоставление информации"]
["L1","Фамилия Имя Отчество",null,null,null,"ФИО"]
["L2","Должность",null,null,null,"Должность"]
["L3","(код) телефон",null,null,null,"(код) телефон"]
["L4","e-mail",null,null,null,"e-mail"]
[]
[null,null,null,null,null,null,"Руководитель"]
[null,null,null,null,null,"ФИО"]
[null,null,null,null,null,"(код) телефон"]

{"sheet":"Список организаций","index":4,"n_rows":22,"n_cols":84,"rows_kept":22,"cut":false,"hidden":false,"merged":[[6,80,6,83],[11,62,13,62],[11,80,11,83],[12,83,13,83],[11,78,13,78],[11,79,13,79],[6,72,6,77],[11,64,13,64],[11,65,13,65],[11,66,13,66],[11,77,13,77],[6,69,6,71],[11,67,13,67],[11,71,13,71],[11,76,13,76],[11,75,13,75],[12,82,13,82],[11,70,13,70],[11,30,13,30],[11,31,13,31],[11,60,13,60],[11,61,13,61],[11,51,13,51],[11,52,13,52],[11,39,13,39],[11,34,13,34],[11,54,13,54],[11,47,13,47],[11,44,13,44],[11,42,13,42],[11,43,13,43],[11,45,13,45],[12,81,13,81],[11,63,13,63],[11,69,13,69],[11,50,13,50],[11,53,13,53],[12,80,13,80],[11,58,13,58],[11,73,13,73],[11,74,13,74],[11,59,13,59],[11,72,13,72],[4,8,4,9],[11,21,13,21],[11,11,13,11],[11,10,13,10],[11,22,13,22],[11,14,13,14],[11,17,13,17],[11,18,13,18],[11,15,13,15],[18,13,21,13],[18,5,18,10],[11,29,13,29],[11,19,13,19],[11,5,13,5],[11,20,13,20],[11,28,13,28],[11,23,13,23],[11,27,13,27],[20,5,20,10],[11,68,13,68],[11,40,13,40],[11,41,13,41],[11,55,13,55],[19,5,19,10],[18,11,21,12],[11,9,13,9],[11,7,13,7],[11,8,13,8],[11,56,13,56],[11,6,13,6],[21,5,21,10],[11,12,13,12],[11,33,13,33],[11,26,13,26],[11,36,13,36],[11,57,13,57],[11,13,13,13],[11,16,13,16],[11,25,13,25],[11,35,13,35],[11,38,13,38],[11,46,13,46],[11,32,13,32],[11,37,13,37],[11,24,13,24],[11,49,13,49],[11,48,13,48]]}
[]
[]
[]
[null,null,null,null,null,null,null,"Перечень организаций, оказывающих услуги теплоснабжения"]
[]
[]
[]
[]
[]
[]
[]
[null,null,null,null,null,"№ п/п","ИНН","КПП","Наименование юридического лица","Организационно-правовая форма","Наименование (описание) обособленного подразделения","Вид(-ы) деятельности организации","Плательщик НДС","Объекты организации","RST_ORG_ID","STATUS",null,"Муниципальный район","Муниципальное образование","ОКТМО","Тип муниципального образования",null,"PREVIOUS NUMBER",null,null,null,null,null,"Вид(-ы) теплоносителя(-ей)",null,null,null,null,null,null,null,null,null,null,null,null,null,null,null,null,null,null,null,null,null,null,null,null,null,null,null,null,null,null,null,null,null,null,null,null,null,null,null,null,null,null,null,null,null,null,null,null,null,"URL-ссылка на пояснительную записку с подробным описанием почему для организации в принятых тарифных решениях и фактически используются разные виды (марки) топлива",null,"Ответственный за предоставление информации"]
[null,null,null,null,null,null,null,null,null,null,null,null,null,null,null,null,null,null,null,null,null,null,null,null,null,null,null,null,null,null,null,null,null,null,null,null,null,null,null,null,null,null,null,null,null,null,null,null,null,null,null,null,null,null,null,null,null,null,null,null,null,null,null,null,null,null,null,null,null,null,null,null,null,null,null,null,null,null,null,null,"ФИО","Должность","(код) телефон","e-mail"]
[]
[null,null,null,null,null,0]
[null,null,null,"Изменить","О","1","263410214911","отсутствует","ИП Согоян Геворг Владимирович","5 01 02 | Индивидуальные предприниматели","","Некомбинированное производство :: Сбыт","нет",{"$f":"IF('Список объектов'!$Q$16=\"\",\"Не определено\",'Список объектов'!$Q$16)","v":1},"30479512",{"$f":"IF(LEN(BZ16)=0,\"ACTI\",\"DELD\")","v":"ACTI"},null,"Город Ставрополь","Город Ставрополь","07701000",{"$f":"IF(LEN(T16)=0,\"\",VLOOKUP(T16,OKTMO_VS_TYPE_LIST,2,FALSE))","v":"городской округ"},null,"PLAN1X",null,null,null,null,null,"Тариф: Носитель - горячая вода (К)",null,null,null,null,null,null,null,null,null,null,null,null,null,null,null,null,null,null,null,null,null,null,null,null,null,null,null,null,null,null,null,null,null,null,null,null,null,null,null,null,null,null,null,null,null,null,null,null,null,null,null,"Согоян Г.В.","ИП","(8652)-26-71-69","passaz26@mail.ru"]
[null,null," ",null," ",null,"Добавить организацию"]
[null,null,null,null,"   "]
[null,null,null,null,null,"Дата последнего обновления реестра МР/МО/ОКТМО: 30.05.2020 21:12:48",null,null,null,null,null,"Показывать настройки проверки при сохранении",null,""]
[null,null,null,null,null,"Дата последнего обновления реестра организаций: 30.05.2020 21:12:50"]
[null,null,null,null,null,"Дата загрузки в отчёт данных мониторинга \"Информация о фактически сложившихся ценах и объёмах потребления топлива по итогам {...} 2020 года\": (обновление не выполнялось)"]
[null,null,null,null,null,"Дата последнего обновления данных мониторинга принятых тарифных решений для организаций ТС на 2020 год: 30.05.2020 21:12:44"]

{"sheet":"Список объектов","index":5,"n_rows":20,"n_cols":82,"rows_kept":20,"cut":false,"hidden":false,"merged":[[11,41,13,41],[11,44,13,44],[11,42,13,42],[4,8,4,9],[12,33,13,33],[12,34,13,34],[11,9,13,9],[11,10,13,10],[11,11,13,11],[11,12,13,12],[11,33,11,39],[11,30,11,32],[12,30,13,30],[12,31,13,31],[12,32,13,32],[11,21,13,21],[11,22,13,22],[11,23,13,23],[11,13,13,13],[11,14,13,14],[11,15,13,15],[11,58,13,58],[11,65,13,65],[11,54,13,54],[11,55,13,55],[11,56,13,56],[12,64,13,64],[11,57,13,57],[11,68,13,68],[11,78,13,78],[11,59,11,60],[12,61,13,61],[12,62,13,62],[12,63,13,63],[11,61,11,62],[11,63,11,64],[12,59,13,59],[12,60,13,60],[11,66,13,66],[11,67,13,67],[11,69,13,69],[11,70,13,70],[11,81,13,81],[11,77,13,77],[11,80,13,80],[11,71,13,71],[11,72,13,72],[11,73,13,73],[11,74,13,74],[11,75,13,75],[11,79,13,79],[11,76,13,76],[12,52,13,52],[12,46,13,46],[12,47,13,47],[11,40,13,40],[11,17,13,17],[12,39,13,39],[12,35,13,35],[12,38,13,38],[11,18,13,18],[11,19,13,19],[11,43,13,43],[12,36,13,36],[12,48,13,48],[11,45,13,45],[12,49,13,49],[12,50,13,50],[12,51,13,51],[11,24,13,24],[11,25,13,25],[11,5,13,5],[11,6,13,6],[11,7,13,7],[11,8,13,8],[11,16,13,16],[11,26,13,26],[11,27,13,27],[11,46,11,53],[12,53,13,53],[11,28,13,28],[12,37,13,37],[11,29,13,29],[11,20,13,20],[15,19,17,19],[15,5,17,5],[15,6,17,6],[15,7,17,7],[15,8,17,8],[15,9,17,9],[15,10,17,10],[15,11,17,11],[15,12,17,12],[15,13,17,13],[15,14,17,14],[15,16,17,16]]}
[]
[]
[]
[null,null,null,null,null,null,null,"Перечень объектов организаций, оказывающих услуги теплоснабжения"]
[]
[]
[]
[]
[]
[]
[]
[null,null,null,null,null,"№ п/п","ИНН","КПП","Наименование юридического лица","Организационно-правовая форма","Наименование (описание) обособленного подразделения","Вид(-ы) деятельности организации",null,null,"RST_ORG_ID",null,"Количество объектов","NUMBER",null,"ОКТМО",null,null,null,null,null,null,null,"№ п/п","Наименование объекта","Тип объекта","Виды деятельности",null,null,"Адрес объекта",null,null,null,null,null,null,null,null,null,null,null,null,"Территория оказания услуг",null,null,null,null,null,null,null,null,null,null,null,null,"Производство",null,"Передача",null,"Сбыт",null,null,null,null,null,null,null,null,null,null,null,null,null,null,null,null,null,"Комментарии"]
[null,null,null,null,null,null,null,null,null,null,null,null,null,null,null,null,null,null,null,null,null,null,null,null,null,null,null,null,null,null,"Производство","Передача","Сбыт","Муниципальный район","Муниципальное образование","ОКТМО","Населённый пункт","ОКТМО","улица, проезд, проспект, переулок и т.п.","дом, корпус, строение",null,null,null,null,null,null,"Муниципальный район","Муниципальное образование","ОКТМО","Населённый пункт","ОКТМО",null,null,null,null,null,null,null,null,"Установленная мощность, Гкал/час","Подключенная нагрузка, Гкал/час","Установленная мощность, Гкал/час","Подключенная нагрузка, Гкал/час","Установленная мощность, Гкал/час","Подключенная нагрузка, Гкал/час"]
[]
[null,null,null,null,null,0]
[null,null,null,"Изменить","Удалить",{"$f":"IF('Список организаций'!$F$16=\"\",\"\",'Список организаций'!$F$16)","v":"1"},{"$f":"IF('Список организаций'!$G$16=\"\",\"\",'Список организаций'!$G$16)","v":"263410214911"},{"$f":"IF('Список организаций'!$H$16=\"\",\"\",'Список организаций'!$H$16)","v":"отсутствует"},{"$f":"IF('Список организаций'!$I$16=\"\",\"\",'Список организаций'!$I$16)","v":"ИП Согоян Геворг Владимирович"},{"$f":"IF('Список организаций'!$J$16=\"\",\"\",'Список организаций'!$J$16)","v":"5 01 02 | Индивидуальные предприниматели"},{"$f":"IF('Список организаций'!$K$16=\"\",\"\",'Список организаций'!$K$16)","v":""},{"$f":"IF('Список организаций'!$L$16=\"\",\"\",'Список организаций'!$L$16)","v":"Некомбинированное производство :: Сбыт"},null,null,{"$f":"IF('Список организаций'!$O$16=\"\",\"\",'Список организаций'!$O$16)","v":"30479512"},null,{"$f":"ROW(P18)-ROW(P16)-1","v":1},{"$f":"F16 & \".0\"","v":"1.0"},null,{"$f":"IF('Список организаций'!$T$16=\"\",\"\",'Список организаций'!$T$16)","v":"07701000"},null,null,null,null,null,null,null,"0"]
[null,null,null,null,null,null,null,null,null,null,null,null,null,null,null,null,null,null,null,null,null,null,null,null,null,"Изменить","О","1","Котельная","ТИ","да","нет","нет","Город Ставрополь","Город Ставрополь","07701000","г Ставрополь","07701000001","проспект К.Маркса","59",null,null,null,null,null,null,"Город Ставрополь","Город Ставрополь","07701000","г Ставрополь","07701000001",null,null,null,null,null,null,null,null,0.86,0.73,0,0,0,0]
[null,null,null,null,null,null,null,null,null,null,null,null,null,null,null,null,null,null,null,null,null,null,null,null,null,null,null,null,"Добавить объект"]
[null,null," ",null," ",null,"Добавить организацию"]
[null,null,null,null,"   "]

{"sheet":"Т итого","index":6,"n_rows":52,"n_cols":187,"rows_kept":52,"cut":false,"hidden":true,"merged":[[7,123,7,126],[34,7,38,7],[16,6,16,9],[17,6,17,9],[18,6,18,9],[19,6,20,8],[21,6,23,7],[21,8,22,8],[23,8,23,9],[24,6,38,6],[24,7,28,7],[24,8,25,8],[26,8,26,9],[27,8,28,8],[29,7,33,7],[29,8,30,8],[31,8,31,9],[34,8,35,8],[36,8,36,9],[37,8,38,8],[7,127,7,130],[7,131,7,134],[7,135,7,138],[7,139,7,142],[7,143,7,146],[7,147,7,150],[7,151,7,154],[7,155,7,158],[7,159,7,162],[7,51,7,54],[7,55,7,58],[7,75,7,78],[7,119,7,122],[7,79,7,82],[7,83,7,86],[7,87,7,90],[7,91,7,94],[7,95,7,98],[7,99,7,102],[7,103,7,106],[7,107,7,110],[7,111,7,114],[7,115,7,118],[7,15,7,18],[7,19,7,22],[7,23,7,26],[7,27,7,30],[7,31,7,34],[7,35,7,38],[7,39,7,42],[7,43,7,46],[7,47,7,50],[6,115,6,118],[6,119,6,122],[6,123,6,126],[6,127,6,130],[6,131,6,134],[6,135,6,138],[6,139,6,142],[6,143,6,146],[6,147,6,150],[6,79,6,82],[6,83,6,86],[6,87,6,90],[6,91,6,94],[6,95,6,98],[6,99,6,102],[6,103,6,106],[6,107,6,110],[6,111,6,114],[6,27,6,30],[6,31,6,34],[6,35,6,38],[6,51,6,54],[6,55,6,58],[6,75,6,78],[6,39,6,42],[6,43,6,46],[6,47,6,50],[6,59,6,62],[7,175,7,178],[7,179,7,182],[7,183,7,186],[5,151,5,154],[5,155,5,158],[5,159,5,162],[5,163,5,166],[5,167,5,170],[5,171,5,174],[5,175,5,178],[5,179,5,182],[5,183,5,186],[6,151,6,154],[6,155,6,158],[6,159,6,162],[6,163,6,166],[6,167,6,170],[6,171,6,174],[6,175,6,178],[6,179,6,182],[6,183,6,186],[7,163,7,166],[7,167,7,170],[7,171,7,174],[5,91,5,94],[5,95,5,98],[5,99,5,102],[5,143,5,146],[5,147,5,150],[5,103,5,106],[5,107,5,110],[5,111,5,114],[5,115,5,118],[5,119,5,122],[5,123,5,126],[5,127,5,130],[5,131,5,134],[5,135,5,138],[5,139,5,142],[5,55,5,58],[5,75,5,78],[5,79,5,82],[5,83,5,86],[5,87,5,90],[5,59,5,62],[5,63,5,66],[5,67,5,70],[5,71,5,74],[51,5,53,9],[5,5,8,5],[5,6,8,8],[5,10,8,10],[10,6,11,8],[12,6,13,8],[14,6,15,8],[32,8,33,8],[5,11,8,11],[41,7,41,9],[42,7,43,8],[45,8,45,9],[46,8,46,9],[47,8,47,9],[45,5,47,7],[49,5,49,9],[39,6,43,6],[39,7,40,8],[6,63,6,66],[6,67,6,70],[6,71,6,74],[7,59,7,62],[7,63,7,66],[7,67,7,70],[7,71,7,74],[3,5,3,9],[4,5,4,9],[5,12,8,12],[5,13,8,13],[5,15,5,18],[5,19,5,22],[5,23,5,26],[6,15,6,18],[6,19,6,22],[6,23,6,26],[5,27,5,30],[5,31,5,34],[5,35,5,38],[5,39,5,42],[5,43,5,46],[5,47,5,50],[5,51,5,54]]}
[]
[]
[null,null,null,null,null,null,null,null,null,null,null,null,null,null,null,1,1,1,1,2,2,2,2,3,3,3,3,4,4,4,4,5,5,5,5,6,6,6,6,7,7,7,7,8,8,8,8,9,9,9,9,10,10,10,10,11,11,11,11,12,12,12,12,13,13,13,13,14,14,14,14,15,15,15,15,16,16,16,16,17,17,17,17,18,18,18,18,19,19,19,19,20,20,20,20,21,21,21,21,22,22,22,22,23,23,23,23,24,24,24,24,25,25,25,25,26,26,26,26,27,27,27,27,28,28,28,28,29,29,29,29,30,30,30,30,31,31,31,31,32,32,32,32,33,33,33,33,34,34,34,34,35,35,35,35,36,36,36,36,37,37,37,37,38,38,38,38,39,39,39,39,40,40,40,40,41,41,41,41,42,42,42,42,43,43,43,43]
[null,null,null,null,null,{"$f":"\"Информация о фактически сложившихся ценах и объёмах потребления топлива по итогам \" & CURRENT_PRD & \" \" & god & \" года\"","v":"Информация о фактически сложившихся ценах и объёмах потребления топлива по итогам I квартала 2020 года"}]
[null,null,null,null,null,{"$f":"\"Субъект Российской Федерации: \" & REGION_NAME","v":"Субъект Российской Федерации: Ставропольский край"}]
[null,null,null,null,null,"№ п/п","Показатели",null,null,"Вид топлива",null,null,null,null,null,"Газ природный",null,null,null,"Газ природный",null,null,null,"Газ природный",null,null,null,"Газ природный",null,null,null,"Газ доменный",null,null,null,"Газ коксовый",null,null,null,"Газ нефтяной (попутный)",null,null,null,"Газ сухой отбензиненный",null,null,null,"Газовый конденсат",null,null,null,"Газ сжиженный",null,null,null,"Дизельное топливо",null,null,null,"Дизельное топливо",null,null,null,"Дизельное топливо",null,null,null,"Дизельное топливо",null,null,null,"Дизельное топливо",null,null,null,"Мазут",null,null,null,"Мазут",null,null,null,"Мазут",null,null,null,"Мазут",null,null,null,"Мазут",null,null,null,"Мазут",null,null,null,"Мазут",null,null,null,"Нефть",null,null,null,"Уголь",null,null,null,"Уголь",null,null,null,"Уголь",null,null,null,"Уголь",null,null,null,"Уголь",null,null,null,"Уголь",null,null,null,"Уголь",null,null,null,"Уголь",null,null,null,"Уголь",null,null,null,"Уголь",null,null,null,"Электроэнергия",null,null,null,"Электроэнергия",null,null,null,"Уголь",null,null,null,"Дрова",null,null,null,"Пеллеты",null,null,null,"Опилки",null,null,null,"Торф",null,null,null,"Сланцы",null,null,null,"Печное бытовое топливо",null,null,null,"Прочие виды топлива"]
[null,null,null,null,null,null,null,null,null,"Марка топлива",null,null,null,null,null,"Всего",null,null,null,"Газ лимитный",null,null,null,"Газ сверхлимитный",null,null,null,"Газ коммерческий",null,null,null,null,null,null,null,null,null,null,null,null,null,null,null,null,null,null,null,null,null,null,null,null,null,null,null,"Всего",null,null,null,"А (арктическое)",null,null,null,"З (зимнее)",null,null,null,"Л (летнее)",null,null,null,"Е (межсезонное)",null,null,null,"Всего",null,null,null,"М-40",null,null,null,"М-100",null,null,null,"М-200",null,null,null,"мазут марки \"Т\"",null,null,null,"Ф-5",null,null,null,"Ф-12",null,null,null,null,null,null,null,"Всего",null,null,null,"Уголь антрацит",null,null,null,"Уголь бурый",null,null,null,"Уголь газовый",null,null,null,"Уголь длиннопламенный",null,null,null,"Уголь жирный",null,null,null,"Уголь коксовый",null,null,null,"Уголь отощённо-спекающийся",null,null,null,"Уголь слабоспекающийся",null,null,null,"Уголь тощий",null,null,null,"Энергия",null,null,null,"Заявленная мощность",null,null,null,"Уголь древесный"]
[null,null,null,null,null,null,null,null,null,"Единица измерения",null,null,null,null,null,"тыс.куб.м",null,null,null,"тыс.куб.м",null,null,null,"тыс.куб.м",null,null,null,"тыс.куб.м",null,null,null,"тыс.куб.м",null,null,null,"тыс.куб.м",null,null,null,"тыс.куб.м",null,null,null,"тыс.куб.м",null,null,null,"тнт",null,null,null,"тнт",null,null,null,"тнт",null,null,null,"тнт",null,null,null,"тнт",null,null,null,"тнт",null,null,null,"тнт",null,null,null,"тнт",null,null,null,"тнт",null,null,null,"тнт",null,null,null,"тнт",null,null,null,"тнт",null,null,null,"тнт",null,null,null,"тнт",null,null,null,"тнт",null,null,null,"тнт",null,null,null,"тнт",null,null,null,"тнт",null,null,null,"тнт",null,null,null,"тнт",null,null,null,"тнт",null,null,null,"тнт",null,null,null,"тнт",null,null,null,"тнт",null,null,null,"тнт",null,null,null,"тыс.кВт*час",null,null,null,"МВт",null,null,null,"тнт",null,null,null,"тнт",null,null,null,"тнт",null,null,null,"тнт",null,null,null,"тнт",null,null,null,"тнт",null,null,null,"тнт",null,null,null,"тнт"]
[null,null,null,null,null,null,null,null,null,"Период",null,null,null,null,null,"12 месяцев","9 месяцев","I полугодие","I квартал","12 месяцев","9 месяцев","I полугодие","I квартал","12 месяцев","9 месяцев","I полугодие","I квартал","12 месяцев","9 месяцев","I полугодие","I квартал","12 месяцев","9 месяцев","I полугодие","I квартал","12 месяцев","9 месяцев","I полугодие","I квартал","12 месяцев","9 месяцев","I полугодие","I квартал","12 месяцев","9 месяцев","I полугодие","I квартал","12 месяцев","9 месяцев","I полугодие","I квартал","12 месяцев","9 месяцев","I полугодие","I квартал","12 месяцев","9 месяцев","I полугодие","I квартал","12 месяцев","9 месяцев","I полугодие","I квартал","12 месяцев","9 месяцев","I полугодие","I квартал","12 месяцев","9 месяцев","I полугодие","I квартал","12 месяцев","9 месяцев","I полугодие","I квартал","12 месяцев","9 месяцев","I полугодие","I квартал","12 месяцев","9 месяцев","I полугодие","I квартал","12 месяцев","9 месяцев","I полугодие","I квартал","12 месяцев","9 месяцев","I полугодие","I квартал","12 месяцев","9 месяцев","I полугодие","I квартал","12 месяцев","9 месяцев","I полугодие","I квартал","12 месяцев","9 месяцев","I полугодие","I квартал","12 месяцев","9 месяцев","I полугодие","I квартал","12 месяцев","9 месяцев","I полугодие","I квартал","12 месяцев","9 месяцев","I полугодие","I квартал","12 месяцев","9 месяцев","I полугодие","I квартал","12 месяцев","9 месяцев","I полугодие","I квартал","12 месяцев","9 месяцев","I полугодие","I квартал","12 месяцев","9 месяцев","I полугодие","I квартал","12 месяцев","9 месяцев","I полугодие","I квартал","12 месяцев","9 месяцев","I полугодие","I квартал","12 месяцев","9 месяцев","I полугодие","I квартал","12 месяцев","9 месяцев","I полугодие","I квартал","12 месяцев","9 месяцев","I полугодие","I квартал","12 месяцев","9 месяцев","I полугодие","I квартал","12 месяцев","9 месяцев","I полугодие","I квартал","12 месяцев","9 месяцев","I полугодие","I квартал","12 месяцев","9 месяцев","I полугодие","I квартал","12 месяцев","9 месяцев","I полугодие","I квартал","12 месяцев","9 месяцев","I полугодие","I квартал","12 месяцев","9 месяцев","I полугодие","I квартал","12 месяцев","9 месяцев","I полугодие","I квартал","12 месяцев","9 месяцев","I полугодие","I квартал"]
[]
[null,null,null,null,null,"1.1.1","Цена натурального топлива без учёта транспортировки (руб./ед.изм.)",null,null,"без НДС",null,null,null,null,null,null,null,null,null,null,null,null,null,null,null,null,null,null,null,null,null,null,null,null,null,null,null,null,null,null,null,null,null,null,null,null,null,{"$f":"Т!AV11","v":0},{"$f":"Т!AW11","v":0},{"$f":"Т!AX11","v":0},{"$f":"Т!AY11","v":0},{"$f":"Т!AZ11","v":0},{"$f":"Т!BA11","v":0},{"$f":"Т!BB11","v":0},{"$f":"Т!BC11","v":0},{"$f":"Т!BD11","v":0},{"$f":"Т!BE11","v":0},{"$f":"Т!BF11","v":0},{"$f":"Т!BG11","v":0},{"$f":"Т!BH11","v":0},{"$f":"Т!BI11","v":0},{"$f":"Т!BJ11","v":0},{"$f":"Т!BK11","v":0},{"$f":"Т!BL11","v":0},{"$f":"Т!BM11","v":0},{"$f":"Т!BN11","v":0},{"$f":"Т!BO11","v":0},{"$f":"Т!BP11","v":0},{"$f":"Т!BQ11","v":0},{"$f":"Т!BR11","v":0},{"$f":"Т!BS11","v":0},{"$f":"Т!BT11","v":0},{"$f":"Т!BU11","v":0},{"$f":"Т!BV11","v":0},{"$f":"Т!BW11","v":0},{"$f":"Т!BX11","v":0},{"$f":"Т!BY11","v":0},{"$f":"Т!BZ11","v":0},{"$f":"Т!CA11","v":0},{"$f":"Т!CB11","v":0},{"$f":"Т!CC11","v":0},{"$f":"Т!CD11","v":0},{"$f":"Т!CE11","v":0},{"$f":"Т!CF11","v":0},{"$f":"Т!CG11","v":0},{"$f":"Т!CH11","v":0},{"$f":"Т!CI11","v":0},{"$f":"Т!CJ11","v":0},{"$f":"Т!CK11","v":0},{"$f":"Т!CL11","v":0},{"$f":"Т!CM11","v":0},{"$f":"Т!CN11","v":0},{"$f":"Т!CO11","v":0},{"$f":"Т!CP11","v":0},{"$f":"Т!CQ11","v":0},{"$f":"Т!CR11","v":0},{"$f":"Т!CS11","v":0},{"$f":"Т!CT11","v":0},{"$f":"Т!CU11","v":0},{"$f":"Т!CV11","v":0},{"$f":"Т!CW11","v":0},{"$f":"Т!CX11","v":0},{"$f":"Т!CY11","v":0},{"$f":"Т!CZ11","v":0},{"$f":"Т!DA11","v":0},{"$f":"Т!DB11","v":0},{"$f":"Т!DC11","v":0},{"$f":"Т!DD11","v":0},{"$f":"Т!DE11","v":0},{"$f":"Т!DF11","v":0},{"$f":"Т!DG11","v":0},{"$f":"Т!DH11","v":0},{"$f":"Т!DI11","v":0},{"$f":"Т!DJ11","v":0},{"$f":"Т!DK11","v":0},{"$f":"Т!DL11","v":0},{"$f":"Т!DM11","v":0},{"$f":"Т!DN11","v":0},{"$f":"Т!DO11","v":0},{"$f":"Т!DP11","v":0},{"$f":"Т!DQ11","v":0},{"$f":"Т!DR11","v":0},{"$f":"Т!DS11","v":0},{"$f":"Т!DT11","v":0},{"$f":"Т!DU11","v":0},{"$f":"Т!DV11","v":0},{"$f":"Т!DW11","v":0},{"$f":"Т!DX11","v":0},{"$f":"Т!DY11","v":0},{"$f":"Т!DZ11","v":0},{"$f":"Т!EA11","v":0},{"$f":"Т!EB11","v":0},{"$f":"Т!EC11","v":0},{"$f":"Т!ED11","v":0},{"$f":"Т!EE11","v":0},{"$f":"Т!EF11","v":0},{"$f":"Т!EG11","v":0},{"$f":"Т!EH11","v":0},{"$f":"Т!EI11","v":0},{"$f":"Т!EJ11","v":0},{"$f":"Т!EK11","v":0},{"$f":"Т!EL11","v":0},{"$f":"Т!EM11","v":0},{"$f":"Т!EN11","v":0},{"$f":"Т!EO11","v":0},{"$f":"Т!EP11","v":0},{"$f":"Т!EQ11","v":0},null,null,null,null,null,null,null,null,{"$f":"Т!EZ11","v":0},{"$f":"Т!FA11","v":0},{"$f":"Т!FB11","v":0},{"$f":"Т!FC11","v":0},{"$f":"Т!FD11","v":0},{"$f":"Т!FE11","v":0},{"$f":"Т!FF11","v":0},{"$f":"Т!FG11","v":0},{"$f":"Т!FH11","v":0},{"$f":"Т!FI11","v":0},{"$f":"Т!FJ11","v":0},{"$f":"Т!FK11","v":0},{"$f":"Т!FL11","v":0},{"$f":"Т!FM11","v":0},{"$f":"Т!FN11","v":0},{"$f":"Т!FO11","v":0},{"$f":"Т!FP11","v":0},{"$f":"Т!FQ11","v":0},{"$f":"Т!FR11","v":0},{"$f":"Т!FS11","v":0},{"$f":"Т!FT11","v":0},{"$f":"Т!FU11","v":0},{"$f":"Т!FV11","v":0},{"$f":"Т!FW11","v":0},{"$f":"Т!FX11","v":0},{"$f":"Т!FY11","v":0},{"$f":"Т!FZ11","v":0},{"$f":"Т!GA11","v":0},{"$f":"Т!GB11","v":0},{"$f":"Т!GC11","v":0},{"$f":"Т!GD11","v":0},{"$f":"Т!GE11","v":0}]
[null,null,null,null,null,"1.1.2",null,null,null,"с НДС",null,null,null,null,null,null,null,null,null,null,null,null,null,null,null,null,null,null,null,null,null,null,null,null,null,null,null,null,null,null,null,null,null,null,null,null,null,{"$f":"Т!AV12","v":0},{"$f":"Т!AW12","v":0},{"$f":"Т!AX12","v":0},{"$f":"Т!AY12","v":0},{"$f":"Т!AZ12","v":0},{"$f":"Т!BA12","v":0},{"$f":"Т!BB12","v":0},{"$f":"Т!BC12","v":0},{"$f":"Т!BD12","v":0},{"$f":"Т!BE12","v":0},{"$f":"Т!BF12","v":0},{"$f":"Т!BG12","v":0},{"$f":"Т!BH12","v":0},{"$f":"Т!BI12","v":0},{"$f":"Т!BJ12","v":0},{"$f":"Т!BK12","v":0},{"$f":"Т!BL12","v":0},{"$f":"Т!BM12","v":0},{"$f":"Т!BN12","v":0},{"$f":"Т!BO12","v":0},{"$f":"Т!BP12","v":0},{"$f":"Т!BQ12","v":0},{"$f":"Т!BR12","v":0},{"$f":"Т!BS12","v":0},{"$f":"Т!BT12","v":0},{"$f":"Т!BU12","v":0},{"$f":"Т!BV12","v":0},{"$f":"Т!BW12","v":0},{"$f":"Т!BX12","v":0},{"$f":"Т!BY12","v":0},{"$f":"Т!BZ12","v":0},{"$f":"Т!CA12","v":0},{"$f":"Т!CB12","v":0},{"$f":"Т!CC12","v":0},{"$f":"Т!CD12","v":0},{"$f":"Т!CE12","v":0},{"$f":"Т!CF12","v":0},{"$f":"Т!CG12","v":0},{"$f":"Т!CH12","v":0},{"$f":"Т!CI12","v":0},{"$f":"Т!CJ12","v":0},{"$f":"Т!CK12","v":0},{"$f":"Т!CL12","v":0},{"$f":"Т!CM12","v":0},{"$f":"Т!CN12","v":0},{"$f":"Т!CO12","v":0},{"$f":"Т!CP12","v":0},{"$f":"Т!CQ12","v":0},{"$f":"Т!CR12","v":0},{"$f":"Т!CS12","v":0},{"$f":"Т!CT12","v":0},{"$f":"Т!CU12","v":0},{"$f":"Т!CV12","v":0},{"$f":"Т!CW12","v":0},{"$f":"Т!CX12","v":0},{"$f":"Т!CY12","v":0},{"$f":"Т!CZ12","v":0},{"$f":"Т!DA12","v":0},{"$f":"Т!DB12","v":0},{"$f":"Т!DC12","v":0},{"$f":"Т!DD12","v":0},{"$f":"Т!DE12","v":0},{"$f":"Т!DF12","v":0},{"$f":"Т!DG12","v":0},{"$f":"Т!DH12","v":0},{"$f":"Т!DI12","v":0},{"$f":"Т!DJ12","v":0},{"$f":"Т!DK12","v":0},{"$f":"Т!DL12","v":0},{"$f":"Т!DM12","v":0},{"$f":"Т!DN12","v":0},{"$f":"Т!DO12","v":0},{"$f":"Т!DP12","v":0},{"$f":"Т!DQ12","v":0},{"$f":"Т!DR12","v":0},{"$f":"Т!DS12","v":0},{"$f":"Т!DT12","v":0},{"$f":"Т!DU12","v":0},{"$f":"Т!DV12","v":0},{"$f":"Т!DW12","v":0},{"$f":"Т!DX12","v":0},{"$f":"Т!DY12","v":0},{"$f":"Т!DZ12","v":0},{"$f":"Т!EA12","v":0},{"$f":"Т!EB12","v":0},{"$f":"Т!EC12","v":0},{"$f":"Т!ED12","v":0},{"$f":"Т!EE12","v":0},{"$f":"Т!EF12","v":0},{"$f":"Т!EG12","v":0},{"$f":"Т!EH12","v":0},{"$f":"Т!EI12","v":0},{"$f":"Т!EJ12","v":0},{"$f":"Т!EK12","v":0},{"$f":"Т!EL12","v":0},{"$f":"Т!EM12","v":0},{"$f":"Т!EN12","v":0},{"$f":"Т!EO12","v":0},{"$f":"Т!EP12","v":0},{"$f":"Т!EQ12","v":0},null,null,null,null,null,null,null,null,{"$f":"Т!EZ12","v":0},{"$f":"Т!FA12","v":0},{"$f":"Т!FB12","v":0},{"$f":"Т!FC12","v":0},{"$f":"Т!FD12","v":0},{"$f":"Т!FE12","v":0},{"$f":"Т!FF12","v":0},{"$f":"Т!FG12","v":0},{"$f":"Т!FH12","v":0},{"$f":"Т!FI12","v":0},{"$f":"Т!FJ12","v":0},{"$f":"Т!FK12","v":0},{"$f":"Т!FL12","v":0},{"$f":"Т!FM12","v":0},{"$f":"Т!FN12","v":0},{"$f":"Т!FO12","v":0},{"$f":"Т!FP12","v":0},{"$f":"Т!FQ12","v":0},{"$f":"Т!FR12","v":0},{"$f":"Т!FS12","v":0},{"$f":"Т!FT12","v":0},{"$f":"Т!FU12","v":0},{"$f":"Т!FV12","v":0},{"$f":"Т!FW12","v":0},{"$f":"Т!FX12","v":0},{"$f":"Т!FY12","v":0},{"$f":"Т!FZ12","v":0},{"$f":"Т!GA12","v":0},{"$f":"Т!GB12","v":0},{"$f":"Т!GC12","v":0},{"$f":"Т!GD12","v":0},{"$f":"Т!GE12","v":0}]
[null,null,null,null,null,"1.2.1","Цена натурального топлива с учётом транспортировки (руб./ед.изм.)",null,null,"без НДС",null,null,null,null,null,{"$f":"Т!P13","v":0},{"$f":"Т!Q13","v":0},{"$f":"Т!R13","v":0},{"$f":"Т!S13","v":7262.1526898192269},{"$f":"Т!T13","v":0},{"$f":"Т!U13","v":0},{"$f":"Т!V13","v":0},{"$f":"Т!W13","v":7122.5684000000001},{"$f":"Т!X13","v":0},{"$f":"Т!Y13","v":0},{"$f":"Т!Z13","v":0},{"$f":"Т!AA13","v":10580.3045},{"$f":"Т!AB13","v":0},{"$f":"Т!AC13","v":0},{"$f":"Т!AD13","v":0},{"$f":"Т!AE13","v":0},{"$f":"Т!AF13","v":0},{"$f":"Т!AG13","v":0},{"$f":"Т!AH13","v":0},{"$f":"Т!AI13","v":0},{"$f":"Т!AJ13","v":0},{"$f":"Т!AK13","v":0},{"$f":"Т!AL13","v":0},{"$f":"Т!AM13","v":0},{"$f":"Т!AN13","v":0},{"$f":"Т!AO13","v":0},{"$f":"Т!AP13","v":0},{"$f":"Т!AQ13","v":0},{"$f":"Т!AR13","v":0},{"$f":"Т!AS13","v":0},{"$f":"Т!AT13","v":0},{"$f":"Т!AU13","v":0},{"$f":"Т!AV13","v":0},{"$f":"Т!AW13","v":0},{"$f":"Т!AX13","v":0},{"$f":"Т!AY13","v":0},{"$f":"Т!AZ13","v":0},{"$f":"Т!BA13","v":0},{"$f":"Т!BB13","v":0},{"$f":"Т!BC13","v":0},{"$f":"Т!BD13","v":0},{"$f":"Т!BE13","v":0},{"$f":"Т!BF13","v":0},{"$f":"Т!BG13","v":0},{"$f":"Т!BH13","v":0},{"$f":"Т!BI13","v":0},{"$f":"Т!BJ13","v":0},{"$f":"Т!BK13","v":0},{"$f":"Т!BL13","v":0},{"$f":"Т!BM13","v":0},{"$f":"Т!BN13","v":0},{"$f":"Т!BO13","v":0},{"$f":"Т!BP13","v":0},{"$f":"Т!BQ13","v":0},{"$f":"Т!BR13","v":0},{"$f":"Т!BS13","v":0},{"$f":"Т!BT13","v":0},{"$f":"Т!BU13","v":0},{"$f":"Т!BV13","v":0},{"$f":"Т!BW13","v":0},{"$f":"Т!BX13","v":0},{"$f":"Т!BY13","v":0},{"$f":"Т!BZ13","v":0},{"$f":"Т!CA13","v":0},{"$f":"Т!CB13","v":0},{"$f":"Т!CC13","v":0},{"$f":"Т!CD13","v":0},{"$f":"Т!CE13","v":0},{"$f":"Т!CF13","v":0},{"$f":"Т!CG13","v":0},{"$f":"Т!CH13","v":0},{"$f":"Т!CI13","v":0},{"$f":"Т!CJ13","v":0},{"$f":"Т!CK13","v":0},{"$f":"Т!CL13","v":0},{"$f":"Т!CM13","v":0},{"$f":"Т!CN13","v":0},{"$f":"Т!CO13","v":0},{"$f":"Т!CP13","v":0},{"$f":"Т!CQ13","v":0},{"$f":"Т!CR13","v":0},{"$f":"Т!CS13","v":0},{"$f":"Т!CT13","v":0},{"$f":"Т!CU13","v":0},{"$f":"Т!CV13","v":0},{"$f":"Т!CW13","v":0},{"$f":"Т!CX13","v":0},{"$f":"Т!CY13","v":0},{"$f":"Т!CZ13","v":0},{"$f":"Т!DA13","v":0},{"$f":"Т!DB13","v":0},{"$f":"Т!DC13","v":0},{"$f":"Т!DD13","v":0},{"$f":"Т!DE13","v":0},{"$f":"Т!DF13","v":0},{"$f":"Т!DG13","v":0},{"$f":"Т!DH13","v":0},{"$f":"Т!DI13","v":0},{"$f":"Т!DJ13","v":0},{"$f":"Т!DK13","v":0},{"$f":"Т!DL13","v":0},{"$f":"Т!DM13","v":0},{"$f":"Т!DN13","v":0},{"$f":"Т!DO13","v":0},{"$f":"Т!DP13","v":0},{"$f":"Т!DQ13","v":0},{"$f":"Т!DR13","v":0},{"$f":"Т!DS13","v":0},{"$f":"Т!DT13","v":0},{"$f":"Т!DU13","v":0},{"$f":"Т!DV13","v":0},{"$f":"Т!DW13","v":0},{"$f":"Т!DX13","v":0},{"$f":"Т!DY13","v":0},{"$f":"Т!DZ13","v":0},{"$f":"Т!EA13","v":0},{"$f":"Т!EB13","v":0},{"$f":"Т!EC13","v":0},{"$f":"Т!ED13","v":0},{"$f":"Т!EE13","v":0},{"$f":"Т!EF13","v":0},{"$f":"Т!EG13","v":0},{"$f":"Т!EH13","v":0},{"$f":"Т!EI13","v":0},{"$f":"Т!EJ13","v":0},{"$f":"Т!EK13","v":0},{"$f":"Т!EL13","v":0},{"$f":"Т!EM13","v":0},{"$f":"Т!EN13","v":0},{"$f":"Т!EO13","v":0},{"$f":"Т!EP13","v":0},{"$f":"Т!EQ13","v":0},null,null,null,null,null,null,null,null,{"$f":"Т!EZ13","v":0},{"$f":"Т!FA13","v":0},{"$f":"Т!FB13","v":0},{"$f":"Т!FC13","v":0},{"$f":"Т!FD13","v":0},{"$f":"Т!FE13","v":0},{"$f":"Т!FF13","v":0},{"$f":"Т!FG13","v":0},{"$f":"Т!FH13","v":0},{"$f":"Т!FI13","v":0},{"$f":"Т!FJ13","v":0},{"$f":"Т!FK13","v":0},{"$f":"Т!FL13","v":0},{"$f":"Т!FM13","v":0},{"$f":"Т!FN13","v":0},{"$f":"Т!FO13","v":0},{"$f":"Т!FP13","v":0},{"$f":"Т!FQ13","v":0},{"$f":"Т!FR13","v":0},{"$f":"Т!FS13","v":0},{"$f":"Т!FT13","v":0},{"$f":"Т!FU13","v":0},{"$f":"Т!FV13","v":0},{"$f":"Т!FW13","v":0},{"$f":"Т!FX13","v":0},{"$f":"Т!FY13","v":0},{"$f":"Т!FZ13","v":0},{"$f":"Т!GA13","v":0},{"$f":"Т!GB13","v":0},{"$f":"Т!GC13","v":0},{"$f":"Т!GD13","v":0},{"$f":"Т!GE13","v":0}]
[null,null,null,null,null,"1.2.2",null,null,null,"с НДС",null,null,null,null,null,{"$f":"Т!P14","v":0},{"$f":"Т!Q14","v":0},{"$f":"Т!R14","v":0},{"$f":"Т!S14","v":7262.1526898192269},{"$f":"Т!T14","v":0},{"$f":"Т!U14","v":0},{"$f":"Т!V14","v":0},{"$f":"Т!W14","v":7122.5684000000001},{"$f":"Т!X14","v":0},{"$f":"Т!Y14","v":0},{"$f":"Т!Z14","v":0},{"$f":"Т!AA14","v":10580.3045},{"$f":"Т!AB14","v":0},{"$f":"Т!AC14","v":0},{"$f":"Т!AD14","v":0},{"$f":"Т!AE14","v":0},{"$f":"Т!AF14","v":0},{"$f":"Т!AG14","v":0},{"$f":"Т!AH14","v":0},{"$f":"Т!AI14","v":0},{"$f":"Т!AJ14","v":0},{"$f":"Т!AK14","v":0},{"$f":"Т!AL14","v":0},{"$f":"Т!AM14","v":0},{"$f":"Т!AN14","v":0},{"$f":"Т!AO14","v":0},{"$f":"Т!AP14","v":0},{"$f":"Т!AQ14","v":0},{"$f":"Т!AR14","v":0},{"$f":"Т!AS14","v":0},{"$f":"Т!AT14","v":0},{"$f":"Т!AU14","v":0},{"$f":"Т!AV14","v":0},{"$f":"Т!AW14","v":0},{"$f":"Т!AX14","v":0},{"$f":"Т!AY14","v":0},{"$f":"Т!AZ14","v":0},{"$f":"Т!BA14","v":0},{"$f":"Т!BB14","v":0},{"$f":"Т!BC14","v":0},{"$f":"Т!BD14","v":0},{"$f":"Т!BE14","v":0},{"$f":"Т!BF14","v":0},{"$f":"Т!BG14","v":0},{"$f":"Т!BH14","v":0},{"$f":"Т!BI14","v":0},{"$f":"Т!BJ14","v":0},{"$f":"Т!BK14","v":0},{"$f":"Т!BL14","v":0},{"$f":"Т!BM14","v":0},{"$f":"Т!BN14","v":0},{"$f":"Т!BO14","v":0},{"$f":"Т!BP14","v":0},{"$f":"Т!BQ14","v":0},{"$f":"Т!BR14","v":0},{"$f":"Т!BS14","v":0},{"$f":"Т!BT14","v":0},{"$f":"Т!BU14","v":0},{"$f":"Т!BV14","v":0},{"$f":"Т!BW14","v":0},{"$f":"Т!BX14","v":0},{"$f":"Т!BY14","v":0},{"$f":"Т!BZ14","v":0},{"$f":"Т!CA14","v":0},{"$f":"Т!CB14","v":0},{"$f":"Т!CC14","v":0},{"$f":"Т!CD14","v":0},{"$f":"Т!CE14","v":0},{"$f":"Т!CF14","v":0},{"$f":"Т!CG14","v":0},{"$f":"Т!CH14","v":0},{"$f":"Т!CI14","v":0},{"$f":"Т!CJ14","v":0},{"$f":"Т!CK14","v":0},{"$f":"Т!CL14","v":0},{"$f":"Т!CM14","v":0},{"$f":"Т!CN14","v":0},{"$f":"Т!CO14","v":0},{"$f":"Т!CP14","v":0},{"$f":"Т!CQ14","v":0},{"$f":"Т!CR14","v":0},{"$f":"Т!CS14","v":0},{"$f":"Т!CT14","v":0},{"$f":"Т!CU14","v":0},{"$f":"Т!CV14","v":0},{"$f":"Т!CW14","v":0},{"$f":"Т!CX14","v":0},{"$f":"Т!CY14","v":0},{"$f":"Т!CZ14","v":0},{"$f":"Т!DA14","v":0},{"$f":"Т!DB14","v":0},{"$f":"Т!DC14","v":0},{"$f":"Т!DD14","v":0},{"$f":"Т!DE14","v":0},{"$f":"Т!DF14","v":0},{"$f":"Т!DG14","v":0},{"$f":"Т!DH14","v":0},{"$f":"Т!DI14","v":0},{"$f":"Т!DJ14","v":0},{"$f":"Т!DK14","v":0},{"$f":"Т!DL14","v":0},{"$f":"Т!DM14","v":0},{"$f":"Т!DN14","v":0},{"$f":"Т!DO14","v":0},{"$f":"Т!DP14","v":0},{"$f":"Т!DQ14","v":0},{"$f":"Т!DR14","v":0},{"$f":"Т!DS14","v":0},{"$f":"Т!DT14","v":0},{"$f":"Т!DU14","v":0},{"$f":"Т!DV14","v":0},{"$f":"Т!DW14","v":0},{"$f":"Т!DX14","v":0},{"$f":"Т!DY14","v":0},{"$f":"Т!DZ14","v":0},{"$f":"Т!EA14","v":0},{"$f":"Т!EB14","v":0},{"$f":"Т!EC14","v":0},{"$f":"Т!ED14","v":0},{"$f":"Т!EE14","v":0},{"$f":"Т!EF14","v":0},{"$f":"Т!EG14","v":0},{"$f":"Т!EH14","v":0},{"$f":"Т!EI14","v":0},{"$f":"Т!EJ14","v":0},{"$f":"Т!EK14","v":0},{"$f":"Т!EL14","v":0},{"$f":"Т!EM14","v":0},{"$f":"Т!EN14","v":0},{"$f":"Т!EO14","v":0},{"$f":"Т!EP14","v":0},{"$f":"Т!EQ14","v":0},null,null,null,null,null,null,null,null,{"$f":"Т!EZ14","v":0},{"$f":"Т!FA14","v":0},{"$f":"Т!FB14","v":0},{"$f":"Т!FC14","v":0},{"$f":"Т!FD14","v":0},{"$f":"Т!FE14","v":0},{"$f":"Т!FF14","v":0},{"$f":"Т!FG14","v":0},{"$f":"Т!FH14","v":0},{"$f":"Т!FI14","v":0},{"$f":"Т!FJ14","v":0},{"$f":"Т!FK14","v":0},{"$f":"Т!FL14","v":0},{"$f":"Т!FM14","v":0},{"$f":"Т!FN14","v":0},{"$f":"Т!FO14","v":0},{"$f":"Т!FP14","v":0},{"$f":"Т!FQ14","v":0},{"$f":"Т!FR14","v":0},{"$f":"Т!FS14","v":0},{"$f":"Т!FT14","v":0},{"$f":"Т!FU14","v":0},{"$f":"Т!FV14","v":0},{"$f":"Т!FW14","v":0},{"$f":"Т!FX14","v":0},{"$f":"Т!FY14","v":0},{"$f":"Т!FZ14","v":0},{"$f":"Т!GA14","v":0},{"$f":"Т!GB14","v":0},{"$f":"Т!GC14","v":0},{"$f":"Т!GD14","v":0},{"$f":"Т!GE14","v":0}]
[null,null,null,null,null,"1.3.1","Цена условного топлива с учётом транспортировки (руб./тут)",null,null,"без НДС",null,null,null,null,null,{"$f":"Т!P15","v":0},{"$f":"Т!Q15","v":0},{"$f":"Т!R15","v":0},{"$f":"Т!S15","v":6225.591675798737},{"$f":"Т!T15","v":0},{"$f":"Т!U15","v":0},{"$f":"Т!V15","v":0},{"$f":"Т!W15","v":6105.9309044149168},{"$f":"Т!X15","v":0},{"$f":"Т!Y15","v":0},{"$f":"Т!Z15","v":0},{"$f":"Т!AA15","v":9070.1281611658815},{"$f":"Т!AB15","v":0},{"$f":"Т!AC15","v":0},{"$f":"Т!AD15","v":0},{"$f":"Т!AE15","v":0},{"$f":"Т!AF15","v":0},{"$f":"Т!AG15","v":0},{"$f":"Т!AH15","v":0},{"$f":"Т!AI15","v":0},{"$f":"Т!AJ15","v":0},{"$f":"Т!AK15","v":0},{"$f":"Т!AL15","v":0},{"$f":"Т!AM15","v":0},{"$f":"Т!AN15","v":0},{"$f":"Т!AO15","v":0},{"$f":"Т!AP15","v":0},{"$f":"Т!AQ15","v":0},{"$f":"Т!AR15","v":0},{"$f":"Т!AS15","v":0},{"$f":"Т!AT15","v":0},{"$f":"Т!AU15","v":0},{"$f":"Т!AV15","v":0},{"$f":"Т!AW15","v":0},{"$f":"Т!AX15","v":0},{"$f":"Т!AY15","v":0},{"$f":"Т!AZ15","v":0},{"$f":"Т!BA15","v":0},{"$f":"Т!BB15","v":0},{"$f":"Т!BC15","v":0},{"$f":"Т!BD15","v":0},{"$f":"Т!BE15","v":0},{"$f":"Т!BF15","v":0},{"$f":"Т!BG15","v":0},{"$f":"Т!BH15","v":0},{"$f":"Т!BI15","v":0},{"$f":"Т!BJ15","v":0},{"$f":"Т!BK15","v":0},{"$f":"Т!BL15","v":0},{"$f":"Т!BM15","v":0},{"$f":"Т!BN15","v":0},{"$f":"Т!BO15","v":0},{"$f":"Т!BP15","v":0},{"$f":"Т!BQ15","v":0},{"$f":"Т!BR15","v":0},{"$f":"Т!BS15","v":0},{"$f":"Т!BT15","v":0},{"$f":"Т!BU15","v":0},{"$f":"Т!BV15","v":0},{"$f":"Т!BW15","v":0},{"$f":"Т!BX15","v":0},{"$f":"Т!BY15","v":0},{"$f":"Т!BZ15","v":0},{"$f":"Т!CA15","v":0},{"$f":"Т!CB15","v":0},{"$f":"Т!CC15","v":0},{"$f":"Т!CD15","v":0},{"$f":"Т!CE15","v":0},{"$f":"Т!CF15","v":0},{"$f":"Т!CG15","v":0},{"$f":"Т!CH15","v":0},{"$f":"Т!CI15","v":0},{"$f":"Т!CJ15","v":0},{"$f":"Т!CK15","v":0},{"$f":"Т!CL15","v":0},{"$f":"Т!CM15","v":0},{"$f":"Т!CN15","v":0},{"$f":"Т!CO15","v":0},{"$f":"Т!CP15","v":0},{"$f":"Т!CQ15","v":0},{"$f":"Т!CR15","v":0},{"$f":"Т!CS15","v":0},{"$f":"Т!CT15","v":0},{"$f":"Т!CU15","v":0},{"$f":"Т!CV15","v":0},{"$f":"Т!CW15","v":0},{"$f":"Т!CX15","v":0},{"$f":"Т!CY15","v":0},{"$f":"Т!CZ15","v":0},{"$f":"Т!DA15","v":0},{"$f":"Т!DB15","v":0},{"$f":"Т!DC15","v":0},{"$f":"Т!DD15","v":0},{"$f":"Т!DE15","v":0},{"$f":"Т!DF15","v":0},{"$f":"Т!DG15","v":0},{"$f":"Т!DH15","v":0},{"$f":"Т!DI15","v":0},{"$f":"Т!DJ15","v":0},{"$f":"Т!DK15","v":0},{"$f":"Т!DL15","v":0},{"$f":"Т!DM15","v":0},{"$f":"Т!DN15","v":0},{"$f":"Т!DO15","v":0},{"$f":"Т!DP15","v":0},{"$f":"Т!DQ15","v":0},{"$f":"Т!DR15","v":0},{"$f":"Т!DS15","v":0},{"$f":"Т!DT15","v":0},{"$f":"Т!DU15","v":0},{"$f":"Т!DV15","v":0},{"$f":"Т!DW15","v":0},{"$f":"Т!DX15","v":0},{"$f":"Т!DY15","v":0},{"$f":"Т!DZ15","v":0},{"$f":"Т!EA15","v":0},{"$f":"Т!EB15","v":0},{"$f":"Т!EC15","v":0},{"$f":"Т!ED15","v":0},{"$f":"Т!EE15","v":0},{"$f":"Т!EF15","v":0},{"$f":"Т!EG15","v":0},{"$f":"Т!EH15","v":0},{"$f":"Т!EI15","v":0},{"$f":"Т!EJ15","v":0},{"$f":"Т!EK15","v":0},{"$f":"Т!EL15","v":0},{"$f":"Т!EM15","v":0},{"$f":"Т!EN15","v":0},{"$f":"Т!EO15","v":0},{"$f":"Т!EP15","v":0},{"$f":"Т!EQ15","v":0},null,null,null,null,null,null,null,null,{"$f":"Т!EZ15","v":0},{"$f":"Т!FA15","v":0},{"$f":"Т!FB15","v":0},{"$f":"Т!FC15","v":0},{"$f":"Т!FD15","v":0},{"$f":"Т!FE15","v":0},{"$f":"Т!FF15","v":0},{"$f":"Т!FG15","v":0},{"$f":"Т!FH15","v":0},{"$f":"Т!FI15","v":0},{"$f":"Т!FJ15","v":0},{"$f":"Т!FK15","v":0},{"$f":"Т!FL15","v":0},{"$f":"Т!FM15","v":0},{"$f":"Т!FN15","v":0},{"$f":"Т!FO15","v":0},{"$f":"Т!FP15","v":0},{"$f":"Т!FQ15","v":0},{"$f":"Т!FR15","v":0},{"$f":"Т!FS15","v":0},{"$f":"Т!FT15","v":0},{"$f":"Т!FU15","v":0},{"$f":"Т!FV15","v":0},{"$f":"Т!FW15","v":0},{"$f":"Т!FX15","v":0},{"$f":"Т!FY15","v":0},{"$f":"Т!FZ15","v":0},{"$f":"Т!GA15","v":0},{"$f":"Т!GB15","v":0},{"$f":"Т!GC15","v":0},{"$f":"Т!GD15","v":0},{"$f":"Т!GE15","v":0}]
[null,null,null,null,null,"1.3.2",null,null,null,"с НДС",null,null,null,null,null,{"$f":"Т!P16","v":0},{"$f":"Т!Q16","v":0},{"$f":"Т!R16","v":0},{"$f":"Т!S16","v":6225.591675798737},{"$f":"Т!T16","v":0},{"$f":"Т!U16","v":0},{"$f":"Т!V16","v":0},{"$f":"Т!W16","v":6105.9309044149168},{"$f":"Т!X16","v":0},{"$f":"Т!Y16","v":0},{"$f":"Т!Z16","v":0},{"$f":"Т!AA16","v":9070.1281611658815},{"$f":"Т!AB16","v":0},{"$f":"Т!AC16","v":0},{"$f":"Т!AD16","v":0},{"$f":"Т!AE16","v":0},{"$f":"Т!AF16","v":0},{"$f":"Т!AG16","v":0},{"$f":"Т!AH16","v":0},{"$f":"Т!AI16","v":0},{"$f":"Т!AJ16","v":0},{"$f":"Т!AK16","v":0},{"$f":"Т!AL16","v":0},{"$f":"Т!AM16","v":0},{"$f":"Т!AN16","v":0},{"$f":"Т!AO16","v":0},{"$f":"Т!AP16","v":0},{"$f":"Т!AQ16","v":0},{"$f":"Т!AR16","v":0},{"$f":"Т!AS16","v":0},{"$f":"Т!AT16","v":0},{"$f":"Т!AU16","v":0},{"$f":"Т!AV16","v":0},{"$f":"Т!AW16","v":0},{"$f":"Т!AX16","v":0},{"$f":"Т!AY16","v":0},{"$f":"Т!AZ16","v":0},{"$f":"Т!BA16","v":0},{"$f":"Т!BB16","v":0},{"$f":"Т!BC16","v":0},{"$f":"Т!BD16","v":0},{"$f":"Т!BE16","v":0},{"$f":"Т!BF16","v":0},{"$f":"Т!BG16","v":0},{"$f":"Т!BH16","v":0},{"$f":"Т!BI16","v":0},{"$f":"Т!BJ16","v":0},{"$f":"Т!BK16","v":0},{"$f":"Т!BL16","v":0},{"$f":"Т!BM16","v":0},{"$f":"Т!BN16","v":0},{"$f":"Т!BO16","v":0},{"$f":"Т!BP16","v":0},{"$f":"Т!BQ16","v":0},{"$f":"Т!BR16","v":0},{"$f":"Т!BS16","v":0},{"$f":"Т!BT16","v":0},{"$f":"Т!BU16","v":0},{"$f":"Т!BV16","v":0},{"$f":"Т!BW16","v":0},{"$f":"Т!BX16","v":0},{"$f":"Т!BY16","v":0},{"$f":"Т!BZ16","v":0},{"$f":"Т!CA16","v":0},{"$f":"Т!CB16","v":0},{"$f":"Т!CC16","v":0},{"$f":"Т!CD16","v":0},{"$f":"Т!CE16","v":0},{"$f":"Т!CF16","v":0},{"$f":"Т!CG16","v":0},{"$f":"Т!CH16","v":0},{"$f":"Т!CI16","v":0},{"$f":"Т!CJ16","v":0},{"$f":"Т!CK16","v":0},{"$f":"Т!CL16","v":0},{"$f":"Т!CM16","v":0},{"$f":"Т!CN16","v":0},{"$f":"Т!CO16","v":0},{"$f":"Т!CP16","v":0},{"$f":"Т!CQ16","v":0},{"$f":"Т!CR16","v":0},{"$f":"Т!CS16","v":0},{"$f":"Т!CT16","v":0},{"$f":"Т!CU16","v":0},{"$f":"Т!CV16","v":0},{"$f":"Т!CW16","v":0},{"$f":"Т!CX16","v":0},{"$f":"Т!CY16","v":0},{"$f":"Т!CZ16","v":0},{"$f":"Т!DA16","v":0},{"$f":"Т!DB16","v":0},{"$f":"Т!DC16","v":0},{"$f":"Т!DD16","v":0},{"$f":"Т!DE16","v":0},{"$f":"Т!DF16","v":0},{"$f":"Т!DG16","v":0},{"$f":"Т!DH16","v":0},{"$f":"Т!DI16","v":0},{"$f":"Т!DJ16","v":0},{"$f":"Т!DK16","v":0},{"$f":"Т!DL16","v":0},{"$f":"Т!DM16","v":0},{"$f":"Т!DN16","v":0},{"$f":"Т!DO16","v":0},{"$f":"Т!DP16","v":0},{"$f":"Т!DQ16","v":0},{"$f":"Т!DR16","v":0},{"$f":"Т!DS16","v":0},{"$f":"Т!DT16","v":0},{"$f":"Т!DU16","v":0},{"$f":"Т!DV16","v":0},{"$f":"Т!DW16","v":0},{"$f":"Т!DX16","v":0},{"$f":"Т!DY16","v":0},{"$f":"Т!DZ16","v":0},{"$f":"Т!EA16","v":0},{"$f":"Т!EB16","v":0},{"$f":"Т!EC16","v":0},{"$f":"Т!ED16","v":0},{"$f":"Т!EE16","v":0},{"$f":"Т!EF16","v":0},{"$f":"Т!EG16","v":0},{"$f":"Т!EH16","v":0},{"$f":"Т!EI16","v":0},{"$f":"Т!EJ16","v":0},{"$f":"Т!EK16","v":0},{"$f":"Т!EL16","v":0},{"$f":"Т!EM16","v":0},{"$f":"Т!EN16","v":0},{"$f":"Т!EO16","v":0},{"$f":"Т!EP16","v":0},{"$f":"Т!EQ16","v":0},null,null,null,null,null,null,null,null,{"$f":"Т!EZ16","v":0},{"$f":"Т!FA16","v":0},{"$f":"Т!FB16","v":0},{"$f":"Т!FC16","v":0},{"$f":"Т!FD16","v":0},{"$f":"Т!FE16","v":0},{"$f":"Т!FF16","v":0},{"$f":"Т!FG16","v":0},{"$f":"Т!FH16","v":0},{"$f":"Т!FI16","v":0},{"$f":"Т!FJ16","v":0},{"$f":"Т!FK16","v":0},{"$f":"Т!FL16","v":0},{"$f":"Т!FM16","v":0},{"$f":"Т!FN16","v":0},{"$f":"Т!FO16","v":0},{"$f":"Т!FP16","v":0},{"$f":"Т!FQ16","v":0},{"$f":"Т!FR16","v":0},{"$f":"Т!FS16","v":0},{"$f":"Т!FT16","v":0},{"$f":"Т!FU16","v":0},{"$f":"Т!FV16","v":0},{"$f":"Т!FW16","v":0},{"$f":"Т!FX16","v":0},{"$f":"Т!FY16","v":0},{"$f":"Т!FZ16","v":0},{"$f":"Т!GA16","v":0},{"$f":"Т!GB16","v":0},{"$f":"Т!GC16","v":0},{"$f":"Т!GD16","v":0},{"$f":"Т!GE16","v":0}]
[null,null,null,null,null,"2.1","Объём натурального топлива, всего",null,null,null,null,null,null,null,null,{"$f":"Т!P17","v":0},{"$f":"Т!Q17","v":0},{"$f":"Т!R17","v":0},{"$f":"Т!S17","v":67.155999999999992},{"$f":"Т!T17","v":0},{"$f":"Т!U17","v":0},{"$f":"Т!V17","v":0},{"$f":"Т!W17","v":64.444999999999993},{"$f":"Т!X17","v":0},{"$f":"Т!Y17","v":0},{"$f":"Т!Z17","v":0},{"$f":"Т!AA17","v":2.7109999999999999},{"$f":"Т!AB17","v":0},{"$f":"Т!AC17","v":0},{"$f":"Т!AD17","v":0},{"$f":"Т!AE17","v":0},{"$f":"Т!AF17","v":0},{"$f":"Т!AG17","v":0},{"$f":"Т!AH17","v":0},{"$f":"Т!AI17","v":0},{"$f":"Т!AJ17","v":0},{"$f":"Т!AK17","v":0},{"$f":"Т!AL17","v":0},{"$f":"Т!AM17","v":0},{"$f":"Т!AN17","v":0},{"$f":"Т!AO17","v":0},{"$f":"Т!AP17","v":0},{"$f":"Т!AQ17","v":0},{"$f":"Т!AR17","v":0},{"$f":"Т!AS17","v":0},{"$f":"Т!AT17","v":0},{"$f":"Т!AU17","v":0},{"$f":"Т!AV17","v":0},{"$f":"Т!AW17","v":0},{"$f":"Т!AX17","v":0},{"$f":"Т!AY17","v":0},{"$f":"Т!AZ17","v":0},{"$f":"Т!BA17","v":0},{"$f":"Т!BB17","v":0},{"$f":"Т!BC17","v":0},{"$f":"Т!BD17","v":0},{"$f":"Т!BE17","v":0},{"$f":"Т!BF17","v":0},{"$f":"Т!BG17","v":0},{"$f":"Т!BH17","v":0},{"$f":"Т!BI17","v":0},{"$f":"Т!BJ17","v":0},{"$f":"Т!BK17","v":0},{"$f":"Т!BL17","v":0},{"$f":"Т!BM17","v":0},{"$f":"Т!BN17","v":0},{"$f":"Т!BO17","v":0},{"$f":"Т!BP17","v":0},{"$f":"Т!BQ17","v":0},{"$f":"Т!BR17","v":0},{"$f":"Т!BS17","v":0},{"$f":"Т!BT17","v":0},{"$f":"Т!BU17","v":0},{"$f":"Т!BV17","v":0},{"$f":"Т!BW17","v":0},{"$f":"Т!BX17","v":0},{"$f":"Т!BY17","v":0},{"$f":"Т!BZ17","v":0},{"$f":"Т!CA17","v":0},{"$f":"Т!CB17","v":0},{"$f":"Т!CC17","v":0},{"$f":"Т!CD17","v":0},{"$f":"Т!CE17","v":0},{"$f":"Т!CF17","v":0},{"$f":"Т!CG17","v":0},{"$f":"Т!CH17","v":0},{"$f":"Т!CI17","v":0},{"$f":"Т!CJ17","v":0},{"$f":"Т!CK17","v":0},{"$f":"Т!CL17","v":0},{"$f":"Т!CM17","v":0},{"$f":"Т!CN17","v":0},{"$f":"Т!CO17","v":0},{"$f":"Т!CP17","v":0},{"$f":"Т!CQ17","v":0},{"$f":"Т!CR17","v":0},{"$f":"Т!CS17","v":0},{"$f":"Т!CT17","v":0},{"$f":"Т!CU17","v":0},{"$f":"Т!CV17","v":0},{"$f":"Т!CW17","v":0},{"$f":"Т!CX17","v":0},{"$f":"Т!CY17","v":0},{"$f":"Т!CZ17","v":0},{"$f":"Т!DA17","v":0},{"$f":"Т!DB17","v":0},{"$f":"Т!DC17","v":0},{"$f":"Т!DD17","v":0},{"$f":"Т!DE17","v":0},{"$f":"Т!DF17","v":0},{"$f":"Т!DG17","v":0},{"$f":"Т!DH17","v":0},{"$f":"Т!DI17","v":0},{"$f":"Т!DJ17","v":0},{"$f":"Т!DK17","v":0},{"$f":"Т!DL17","v":0},{"$f":"Т!DM17","v":0},{"$f":"Т!DN17","v":0},{"$f":"Т!DO17","v":0},{"$f":"Т!DP17","v":0},{"$f":"Т!DQ17","v":0},{"$f":"Т!DR17","v":0},{"$f":"Т!DS17","v":0},{"$f":"Т!DT17","v":0},{"$f":"Т!DU17","v":0},{"$f":"Т!DV17","v":0},{"$f":"Т!DW17","v":0},{"$f":"Т!DX17","v":0},{"$f":"Т!DY17","v":0},{"$f":"Т!DZ17","v":0},{"$f":"Т!EA17","v":0},{"$f":"Т!EB17","v":0},{"$f":"Т!EC17","v":0},{"$f":"Т!ED17","v":0},{"$f":"Т!EE17","v":0},{"$f":"Т!EF17","v":0},{"$f":"Т!EG17","v":0},{"$f":"Т!EH17","v":0},{"$f":"Т!EI17","v":0},{"$f":"Т!EJ17","v":0},{"$f":"Т!EK17","v":0},{"$f":"Т!EL17","v":0},{"$f":"Т!EM17","v":0},{"$f":"Т!EN17","v":0},{"$f":"Т!EO17","v":0},{"$f":"Т!EP17","v":0},{"$f":"Т!EQ17","v":0},null,null,null,null,null,null,null,null,{"$f":"Т!EZ17","v":0},{"$f":"Т!FA17","v":0},{"$f":"Т!FB17","v":0},{"$f":"Т!FC17","v":0},{"$f":"Т!FD17","v":0},{"$f":"Т!FE17","v":0},{"$f":"Т!FF17","v":0},{"$f":"Т!FG17","v":0},{"$f":"Т!FH17","v":0},{"$f":"Т!FI17","v":0},{"$f":"Т!FJ17","v":0},{"$f":"Т!FK17","v":0},{"$f":"Т!FL17","v":0},{"$f":"Т!FM17","v":0},{"$f":"Т!FN17","v":0},{"$f":"Т!FO17","v":0},{"$f":"Т!FP17","v":0},{"$f":"Т!FQ17","v":0},{"$f":"Т!FR17","v":0},{"$f":"Т!FS17","v":0},{"$f":"Т!FT17","v":0},{"$f":"Т!FU17","v":0},{"$f":"Т!FV17","v":0},{"$f":"Т!FW17","v":0},{"$f":"Т!FX17","v":0},{"$f":"Т!FY17","v":0},{"$f":"Т!FZ17","v":0},{"$f":"Т!GA17","v":0},{"$f":"Т!GB17","v":0},{"$f":"Т!GC17","v":0},{"$f":"Т!GD17","v":0},{"$f":"Т!GE17","v":0}]
[null,null,null,null,null,"2.2","Переводной коэффициент"]
[null,null,null,null,null,"2.3","Объём условного топлива, всего (тут)",null,null,null,null,null,null,null,null,{"$f":"Т!P19","v":0},{"$f":"Т!Q19","v":0},{"$f":"Т!R19","v":0},{"$f":"Т!S19","v":78.337473999999986},{"$f":"Т!T19","v":0},{"$f":"Т!U19","v":0},{"$f":"Т!V19","v":0},{"$f":"Т!W19","v":75.175092499999991},{"$f":"Т!X19","v":0},{"$f":"Т!Y19","v":0},{"$f":"Т!Z19","v":0},{"$f":"Т!AA19","v":3.1623815},{"$f":"Т!AB19","v":0},{"$f":"Т!AC19","v":0},{"$f":"Т!AD19","v":0},{"$f":"Т!AE19","v":0},{"$f":"Т!AF19","v":0},{"$f":"Т!AG19","v":0},{"$f":"Т!AH19","v":0},{"$f":"Т!AI19","v":0},{"$f":"Т!AJ19","v":0},{"$f":"Т!AK19","v":0},{"$f":"Т!AL19","v":0},{"$f":"Т!AM19","v":0},{"$f":"Т!AN19","v":0},{"$f":"Т!AO19","v":0},{"$f":"Т!AP19","v":0},{"$f":"Т!AQ19","v":0},{"$f":"Т!AR19","v":0},{"$f":"Т!AS19","v":0},{"$f":"Т!AT19","v":0},{"$f":"Т!AU19","v":0},{"$f":"Т!AV19","v":0},{"$f":"Т!AW19","v":0},{"$f":"Т!AX19","v":0},{"$f":"Т!AY19","v":0},{"$f":"Т!AZ19","v":0},{"$f":"Т!BA19","v":0},{"$f":"Т!BB19","v":0},{"$f":"Т!BC19","v":0},{"$f":"Т!BD19","v":0},{"$f":"Т!BE19","v":0},{"$f":"Т!BF19","v":0},{"$f":"Т!BG19","v":0},{"$f":"Т!BH19","v":0},{"$f":"Т!BI19","v":0},{"$f":"Т!BJ19","v":0},{"$f":"Т!BK19","v":0},{"$f":"Т!BL19","v":0},{"$f":"Т!BM19","v":0},{"$f":"Т!BN19","v":0},{"$f":"Т!BO19","v":0},{"$f":"Т!BP19","v":0},{"$f":"Т!BQ19","v":0},{"$f":"Т!BR19","v":0},{"$f":"Т!BS19","v":0},{"$f":"Т!BT19","v":0},{"$f":"Т!BU19","v":0},{"$f":"Т!BV19","v":0},{"$f":"Т!BW19","v":0},{"$f":"Т!BX19","v":0},{"$f":"Т!BY19","v":0},{"$f":"Т!BZ19","v":0},{"$f":"Т!CA19","v":0},{"$f":"Т!CB19","v":0},{"$f":"Т!CC19","v":0},{"$f":"Т!CD19","v":0},{"$f":"Т!CE19","v":0},{"$f":"Т!CF19","v":0},{"$f":"Т!CG19","v":0},{"$f":"Т!CH19","v":0},{"$f":"Т!CI19","v":0},{"$f":"Т!CJ19","v":0},{"$f":"Т!CK19","v":0},{"$f":"Т!CL19","v":0},{"$f":"Т!CM19","v":0},{"$f":"Т!CN19","v":0},{"$f":"Т!CO19","v":0},{"$f":"Т!CP19","v":0},{"$f":"Т!CQ19","v":0},{"$f":"Т!CR19","v":0},{"$f":"Т!CS19","v":0},{"$f":"Т!CT19","v":0},{"$f":"Т!CU19","v":0},{"$f":"Т!CV19","v":0},{"$f":"Т!CW19","v":0},{"$f":"Т!CX19","v":0},{"$f":"Т!CY19","v":0},{"$f":"Т!CZ19","v":0},{"$f":"Т!DA19","v":0},{"$f":"Т!DB19","v":0},{"$f":"Т!DC19","v":0},{"$f":"Т!DD19","v":0},{"$f":"Т!DE19","v":0},{"$f":"Т!DF19","v":0},{"$f":"Т!DG19","v":0},{"$f":"Т!DH19","v":0},{"$f":"Т!DI19","v":0},{"$f":"Т!DJ19","v":0},{"$f":"Т!DK19","v":0},{"$f":"Т!DL19","v":0},{"$f":"Т!DM19","v":0},{"$f":"Т!DN19","v":0},{"$f":"Т!DO19","v":0},{"$f":"Т!DP19","v":0},{"$f":"Т!DQ19","v":0},{"$f":"Т!DR19","v":0},{"$f":"Т!DS19","v":0},{"$f":"Т!DT19","v":0},{"$f":"Т!DU19","v":0},{"$f":"Т!DV19","v":0},{"$f":"Т!DW19","v":0},{"$f":"Т!DX19","v":0},{"$f":"Т!DY19","v":0},{"$f":"Т!DZ19","v":0},{"$f":"Т!EA19","v":0},{"$f":"Т!EB19","v":0},{"$f":"Т!EC19","v":0},{"$f":"Т!ED19","v":0},{"$f":"Т!EE19","v":0},{"$f":"Т!EF19","v":0},{"$f":"Т!EG19","v":0},{"$f":"Т!EH19","v":0},{"$f":"Т!EI19","v":0},{"$f":"Т!EJ19","v":0},{"$f":"Т!EK19","v":0},{"$f":"Т!EL19","v":0},{"$f":"Т!EM19","v":0},{"$f":"Т!EN19","v":0},{"$f":"Т!EO19","v":0},{"$f":"Т!EP19","v":0},{"$f":"Т!EQ19","v":0},null,null,null,null,null,null,null,null,{"$f":"Т!EZ19","v":0},{"$f":"Т!FA19","v":0},{"$f":"Т!FB19","v":0},{"$f":"Т!FC19","v":0},{"$f":"Т!FD19","v":0},{"$f":"Т!FE19","v":0},{"$f":"Т!FF19","v":0},{"$f":"Т!FG19","v":0},{"$f":"Т!FH19","v":0},{"$f":"Т!FI19","v":0},{"$f":"Т!FJ19","v":0},{"$f":"Т!FK19","v":0},{"$f":"Т!FL19","v":0},{"$f":"Т!FM19","v":0},{"$f":"Т!FN19","v":0},{"$f":"Т!FO19","v":0},{"$f":"Т!FP19","v":0},{"$f":"Т!FQ19","v":0},{"$f":"Т!FR19","v":0},{"$f":"Т!FS19","v":0},{"$f":"Т!FT19","v":0},{"$f":"Т!FU19","v":0},{"$f":"Т!FV19","v":0},{"$f":"Т!FW19","v":0},{"$f":"Т!FX19","v":0},{"$f":"Т!FY19","v":0},{"$f":"Т!FZ19","v":0},{"$f":"Т!GA19","v":0},{"$f":"Т!GB19","v":0},{"$f":"Т!GC19","v":0},{"$f":"Т!GD19","v":0},{"$f":"Т!GE19","v":0}]
[null,null,null,null,null,"3.1","Затраты на топливо, всего (тыс.руб.)",null,null,"без НДС",null,null,null,null,null,{"$f":"Т!P20","v":0},{"$f":"Т!Q20","v":0},{"$f":"Т!R20","v":0},{"$f":"Т!S20","v":487.69712603749991},{"$f":"Т!T20","v":0},{"$f":"Т!U20","v":0},{"$f":"Т!V20","v":0},{"$f":"Т!W20","v":459.01392053799992},{"$f":"Т!X20","v":0},{"$f":"Т!Y20","v":0},{"$f":"Т!Z20","v":0},{"$f":"Т!AA20","v":28.683205499500001},{"$f":"Т!AB20","v":0},{"$f":"Т!AC20","v":0},{"$f":"Т!AD20","v":0},{"$f":"Т!AE20","v":0},{"$f":"Т!AF20","v":0},{"$f":"Т!AG20","v":0},{"$f":"Т!AH20","v":0},{"$f":"Т!AI20","v":0},{"$f":"Т!AJ20","v":0},{"$f":"Т!AK20","v":0},{"$f":"Т!AL20","v":0},{"$f":"Т!AM20","v":0},{"$f":"Т!AN20","v":0},{"$f":"Т!AO20","v":0},{"$f":"Т!AP20","v":0},{"$f":"Т!AQ20","v":0},{"$f":"Т!AR20","v":0},{"$f":"Т!AS20","v":0},{"$f":"Т!AT20","v":0},{"$f":"Т!AU20","v":0},{"$f":"Т!AV20","v":0},{"$f":"Т!AW20","v":0},{"$f":"Т!AX20","v":0},{"$f":"Т!AY20","v":0},{"$f":"Т!AZ20","v":0},{"$f":"Т!BA20","v":0},{"$f":"Т!BB20","v":0},{"$f":"Т!BC20","v":0},{"$f":"Т!BD20","v":0},{"$f":"Т!BE20","v":0},{"$f":"Т!BF20","v":0},{"$f":"Т!BG20","v":0},{"$f":"Т!BH20","v":0},{"$f":"Т!BI20","v":0},{"$f":"Т!BJ20","v":0},{"$f":"Т!BK20","v":0},{"$f":"Т!BL20","v":0},{"$f":"Т!BM20","v":0},{"$f":"Т!BN20","v":0},{"$f":"Т!BO20","v":0},{"$f":"Т!BP20","v":0},{"$f":"Т!BQ20","v":0},{"$f":"Т!BR20","v":0},{"$f":"Т!BS20","v":0},{"$f":"Т!BT20","v":0},{"$f":"Т!BU20","v":0},{"$f":"Т!BV20","v":0},{"$f":"Т!BW20","v":0},{"$f":"Т!BX20","v":0},{"$f":"Т!BY20","v":0},{"$f":"Т!BZ20","v":0},{"$f":"Т!CA20","v":0},{"$f":"Т!CB20","v":0},{"$f":"Т!CC20","v":0},{"$f":"Т!CD20","v":0},{"$f":"Т!CE20","v":0},{"$f":"Т!CF20","v":0},{"$f":"Т!CG20","v":0},{"$f":"Т!CH20","v":0},{"$f":"Т!CI20","v":0},{"$f":"Т!CJ20","v":0},{"$f":"Т!CK20","v":0},{"$f":"Т!CL20","v":0},{"$f":"Т!CM20","v":0},{"$f":"Т!CN20","v":0},{"$f":"Т!CO20","v":0},{"$f":"Т!CP20","v":0},{"$f":"Т!CQ20","v":0},{"$f":"Т!CR20","v":0},{"$f":"Т!CS20","v":0},{"$f":"Т!CT20","v":0},{"$f":"Т!CU20","v":0},{"$f":"Т!CV20","v":0},{"$f":"Т!CW20","v":0},{"$f":"Т!CX20","v":0},{"$f":"Т!CY20","v":0},{"$f":"Т!CZ20","v":0},{"$f":"Т!DA20","v":0},{"$f":"Т!DB20","v":0},{"$f":"Т!DC20","v":0},{"$f":"Т!DD20","v":0},{"$f":"Т!DE20","v":0},{"$f":"Т!DF20","v":0},{"$f":"Т!DG20","v":0},{"$f":"Т!DH20","v":0},{"$f":"Т!DI20","v":0},{"$f":"Т!DJ20","v":0},{"$f":"Т!DK20","v":0},{"$f":"Т!DL20","v":0},{"$f":"Т!DM20","v":0},{"$f":"Т!DN20","v":0},{"$f":"Т!DO20","v":0},{"$f":"Т!DP20","v":0},{"$f":"Т!DQ20","v":0},{"$f":"Т!DR20","v":0},{"$f":"Т!DS20","v":0},{"$f":"Т!DT20","v":0},{"$f":"Т!DU20","v":0},{"$f":"Т!DV20","v":0},{"$f":"Т!DW20","v":0},{"$f":"Т!DX20","v":0},{"$f":"Т!DY20","v":0},{"$f":"Т!DZ20","v":0},{"$f":"Т!EA20","v":0},{"$f":"Т!EB20","v":0},{"$f":"Т!EC20","v":0},{"$f":"Т!ED20","v":0},{"$f":"Т!EE20","v":0},{"$f":"Т!EF20","v":0},{"$f":"Т!EG20","v":0},{"$f":"Т!EH20","v":0},{"$f":"Т!EI20","v":0},{"$f":"Т!EJ20","v":0},{"$f":"Т!EK20","v":0},{"$f":"Т!EL20","v":0},{"$f":"Т!EM20","v":0},{"$f":"Т!EN20","v":0},{"$f":"Т!EO20","v":0},{"$f":"Т!EP20","v":0},{"$f":"Т!EQ20","v":0},null,null,null,null,null,null,null,null,{"$f":"Т!EZ20","v":0},{"$f":"Т!FA20","v":0},{"$f":"Т!FB20","v":0},{"$f":"Т!FC20","v":0},{"$f":"Т!FD20","v":0},{"$f":"Т!FE20","v":0},{"$f":"Т!FF20","v":0},{"$f":"Т!FG20","v":0},{"$f":"Т!FH20","v":0},{"$f":"Т!FI20","v":0},{"$f":"Т!FJ20","v":0},{"$f":"Т!FK20","v":0},{"$f":"Т!FL20","v":0},{"$f":"Т!FM20","v":0},{"$f":"Т!FN20","v":0},{"$f":"Т!FO20","v":0},{"$f":"Т!FP20","v":0},{"$f":"Т!FQ20","v":0},{"$f":"Т!FR20","v":0},{"$f":"Т!FS20","v":0},{"$f":"Т!FT20","v":0},{"$f":"Т!FU20","v":0},{"$f":"Т!FV20","v":0},{"$f":"Т!FW20","v":0},{"$f":"Т!FX20","v":0},{"$f":"Т!FY20","v":0},{"$f":"Т!FZ20","v":0},{"$f":"Т!GA20","v":0},{"$f":"Т!GB20","v":0},{"$f":"Т!GC20","v":0},{"$f":"Т!GD20","v":0},{"$f":"Т!GE20","v":0}]
[null,null,null,null,null,"3.2",null,null,null,"с НДС",null,null,null,null,null,{"$f":"Т!P21","v":0},{"$f":"Т!Q21","v":0},{"$f":"Т!R21","v":0},{"$f":"Т!S21","v":487.69712603749991},{"$f":"Т!T21","v":0},{"$f":"Т!U21","v":0},{"$f":"Т!V21","v":0},{"$f":"Т!W21","v":459.01392053799992},{"$f":"Т!X21","v":0},{"$f":"Т!Y21","v":0},{"$f":"Т!Z21","v":0},{"$f":"Т!AA21","v":28.683205499500001},{"$f":"Т!AB21","v":0},{"$f":"Т!AC21","v":0},{"$f":"Т!AD21","v":0},{"$f":"Т!AE21","v":0},{"$f":"Т!AF21","v":0},{"$f":"Т!AG21","v":0},{"$f":"Т!AH21","v":0},{"$f":"Т!AI21","v":0},{"$f":"Т!AJ21","v":0},{"$f":"Т!AK21","v":0},{"$f":"Т!AL21","v":0},{"$f":"Т!AM21","v":0},{"$f":"Т!AN21","v":0},{"$f":"Т!AO21","v":0},{"$f":"Т!AP21","v":0},{"$f":"Т!AQ21","v":0},{"$f":"Т!AR21","v":0},{"$f":"Т!AS21","v":0},{"$f":"Т!AT21","v":0},{"$f":"Т!AU21","v":0},{"$f":"Т!AV21","v":0},{"$f":"Т!AW21","v":0},{"$f":"Т!AX21","v":0},{"$f":"Т!AY21","v":0},{"$f":"Т!AZ21","v":0},{"$f":"Т!BA21","v":0},{"$f":"Т!BB21","v":0},{"$f":"Т!BC21","v":0},{"$f":"Т!BD21","v":0},{"$f":"Т!BE21","v":0},{"$f":"Т!BF21","v":0},{"$f":"Т!BG21","v":0},{"$f":"Т!BH21","v":0},{"$f":"Т!BI21","v":0},{"$f":"Т!BJ21","v":0},{"$f":"Т!BK21","v":0},{"$f":"Т!BL21","v":0},{"$f":"Т!BM21","v":0},{"$f":"Т!BN21","v":0},{"$f":"Т!BO21","v":0},{"$f":"Т!BP21","v":0},{"$f":"Т!BQ21","v":0},{"$f":"Т!BR21","v":0},{"$f":"Т!BS21","v":0},{"$f":"Т!BT21","v":0},{"$f":"Т!BU21","v":0},{"$f":"Т!BV21","v":0},{"$f":"Т!BW21","v":0},{"$f":"Т!BX21","v":0},{"$f":"Т!BY21","v":0},{"$f":"Т!BZ21","v":0},{"$f":"Т!CA21","v":0},{"$f":"Т!CB21","v":0},{"$f":"Т!CC21","v":0},{"$f":"Т!CD21","v":0},{"$f":"Т!CE21","v":0},{"$f":"Т!CF21","v":0},{"$f":"Т!CG21","v":0},{"$f":"Т!CH21","v":0},{"$f":"Т!CI21","v":0},{"$f":"Т!CJ21","v":0},{"$f":"Т!CK21","v":0},{"$f":"Т!CL21","v":0},{"$f":"Т!CM21","v":0},{"$f":"Т!CN21","v":0},{"$f":"Т!CO21","v":0},{"$f":"Т!CP21","v":0},{"$f":"Т!CQ21","v":0},{"$f":"Т!CR21","v":0},{"$f":"Т!CS21","v":0},{"$f":"Т!CT21","v":0},{"$f":"Т!CU21","v":0},{"$f":"Т!CV21","v":0},{"$f":"Т!CW21","v":0},{"$f":"Т!CX21","v":0},{"$f":"Т!CY21","v":0},{"$f":"Т!CZ21","v":0},{"$f":"Т!DA21","v":0},{"$f":"Т!DB21","v":0},{"$f":"Т!DC21","v":0},{"$f":"Т!DD21","v":0},{"$f":"Т!DE21","v":0},{"$f":"Т!DF21","v":0},{"$f":"Т!DG21","v":0},{"$f":"Т!DH21","v":0},{"$f":"Т!DI21","v":0},{"$f":"Т!DJ21","v":0},{"$f":"Т!DK21","v":0},{"$f":"Т!DL21","v":0},{"$f":"Т!DM21","v":0},{"$f":"Т!DN21","v":0},{"$f":"Т!DO21","v":0},{"$f":"Т!DP21","v":0},{"$f":"Т!DQ21","v":0},{"$f":"Т!DR21","v":0},{"$f":"Т!DS21","v":0},{"$f":"Т!DT21","v":0},{"$f":"Т!DU21","v":0},{"$f":"Т!DV21","v":0},{"$f":"Т!DW21","v":0},{"$f":"Т!DX21","v":0},{"$f":"Т!DY21","v":0},{"$f":"Т!DZ21","v":0},{"$f":"Т!EA21","v":0},{"$f":"Т!EB21","v":0},{"$f":"Т!EC21","v":0},{"$f":"Т!ED21","v":0},{"$f":"Т!EE21","v":0},{"$f":"Т!EF21","v":0},{"$f":"Т!EG21","v":0},{"$f":"Т!EH21","v":0},{"$f":"Т!EI21","v":0},{"$f":"Т!EJ21","v":0},{"$f":"Т!EK21","v":0},{"$f":"Т!EL21","v":0},{"$f":"Т!EM21","v":0},{"$f":"Т!EN21","v":0},{"$f":"Т!EO21","v":0},{"$f":"Т!EP21","v":0},{"$f":"Т!EQ21","v":0},null,null,null,null,null,null,null,null,{"$f":"Т!EZ21","v":0},{"$f":"Т!FA21","v":0},{"$f":"Т!FB21","v":0},{"$f":"Т!FC21","v":0},{"$f":"Т!FD21","v":0},{"$f":"Т!FE21","v":0},{"$f":"Т!FF21","v":0},{"$f":"Т!FG21","v":0},{"$f":"Т!FH21","v":0},{"$f":"Т!FI21","v":0},{"$f":"Т!FJ21","v":0},{"$f":"Т!FK21","v":0},{"$f":"Т!FL21","v":0},{"$f":"Т!FM21","v":0},{"$f":"Т!FN21","v":0},{"$f":"Т!FO21","v":0},{"$f":"Т!FP21","v":0},{"$f":"Т!FQ21","v":0},{"$f":"Т!FR21","v":0},{"$f":"Т!FS21","v":0},{"$f":"Т!FT21","v":0},{"$f":"Т!FU21","v":0},{"$f":"Т!FV21","v":0},{"$f":"Т!FW21","v":0},{"$f":"Т!FX21","v":0},{"$f":"Т!FY21","v":0},{"$f":"Т!FZ21","v":0},{"$f":"Т!GA21","v":0},{"$f":"Т!GB21","v":0},{"$f":"Т!GC21","v":0},{"$f":"Т!GD21","v":0},{"$f":"Т!GE21","v":0}]
[null,null,null,null,null,"4.1.1","Топливо, транспортируемое по сетям, магистралям (трубопроводам)",null,"Средний тариф транзитной транспортировки (руб./тыс.куб.м)","без НДС"]
[null,null,null,null,null,"4.1.2",null,null,null,"с НДС"]
[null,null,null,null,null,"4.2",null,null,"Объём топлива, транспортируемого в транзитном потоке",null,null,null,null,null,null,{"$f":"Т!P24","v":0},{"$f":"Т!Q24","v":0},{"$f":"Т!R24","v":0},{"$f":"Т!S24","v":0},{"$f":"Т!T24","v":0},{"$f":"Т!U24","v":0},{"$f":"Т!V24","v":0},{"$f":"Т!W24","v":0},{"$f":"Т!X24","v":0},{"$f":"Т!Y24","v":0},{"$f":"Т!Z24","v":0},{"$f":"Т!AA24","v":0},{"$f":"Т!AB24","v":0},{"$f":"Т!AC24","v":0},{"$f":"Т!AD24","v":0},{"$f":"Т!AE24","v":0}]
[null,null,null,null,null,"5.1.1","Топливо, транспортируемое по дорогам (авто, ж/д), а также прочие виды транспортировки","Транспортировка топлива автоперевозками","Тариф (цена за единицу) (руб./ед.изм.)","без НДС",null,null,null,null,null,null,null,null,null,null,null,null,null,null,null,null,null,null,null,null,null,null,null,null,null,null,null,null,null,null,null,null,null,null,null,null,null,{"$f":"Т!AV25","v":0},{"$f":"Т!AW25","v":0},{"$f":"Т!AX25","v":0},{"$f":"Т!AY25","v":0},{"$f":"Т!AZ25","v":0},{"$f":"Т!BA25","v":0},{"$f":"Т!BB25","v":0},{"$f":"Т!BC25","v":0},{"$f":"Т!BD25","v":0},{"$f":"Т!BE25","v":0},{"$f":"Т!BF25","v":0},{"$f":"Т!BG25","v":0},{"$f":"Т!BH25","v":0},{"$f":"Т!BI25","v":0},{"$f":"Т!BJ25","v":0},{"$f":"Т!BK25","v":0},{"$f":"Т!BL25","v":0},{"$f":"Т!BM25","v":0},{"$f":"Т!BN25","v":0},{"$f":"Т!BO25","v":0},{"$f":"Т!BP25","v":0},{"$f":"Т!BQ25","v":0},{"$f":"Т!BR25","v":0},{"$f":"Т!BS25","v":0},{"$f":"Т!BT25","v":0},{"$f":"Т!BU25","v":0},{"$f":"Т!BV25","v":0},{"$f":"Т!BW25","v":0},{"$f":"Т!BX25","v":0},{"$f":"Т!BY25","v":0},{"$f":"Т!BZ25","v":0},{"$f":"Т!CA25","v":0},{"$f":"Т!CB25","v":0},{"$f":"Т!CC25","v":0},{"$f":"Т!CD25","v":0},{"$f":"Т!CE25","v":0},{"$f":"Т!CF25","v":0},{"$f":"Т!CG25","v":0},{"$f":"Т!CH25","v":0},{"$f":"Т!CI25","v":0},{"$f":"Т!CJ25","v":0},{"$f":"Т!CK25","v":0},{"$f":"Т!CL25","v":0},{"$f":"Т!CM25","v":0},{"$f":"Т!CN25","v":0},{"$f":"Т!CO25","v":0},{"$f":"Т!CP25","v":0},{"$f":"Т!CQ25","v":0},{"$f":"Т!CR25","v":0},{"$f":"Т!CS25","v":0},{"$f":"Т!CT25","v":0},{"$f":"Т!CU25","v":0},{"$f":"Т!CV25","v":0},{"$f":"Т!CW25","v":0},{"$f":"Т!CX25","v":0},{"$f":"Т!CY25","v":0},{"$f":"Т!CZ25","v":0},{"$f":"Т!DA25","v":0},{"$f":"Т!DB25","v":0},{"$f":"Т!DC25","v":0},{"$f":"Т!DD25","v":0},{"$f":"Т!DE25","v":0},{"$f":"Т!DF25","v":0},{"$f":"Т!DG25","v":0},{"$f":"Т!DH25","v":0},{"$f":"Т!DI25","v":0},{"$f":"Т!DJ25","v":0},{"$f":"Т!DK25","v":0},{"$f":"Т!DL25","v":0},{"$f":"Т!DM25","v":0},{"$f":"Т!DN25","v":0},{"$f":"Т!DO25","v":0},{"$f":"Т!DP25","v":0},{"$f":"Т!DQ25","v":0},{"$f":"Т!DR25","v":0},{"$f":"Т!DS25","v":0},{"$f":"Т!DT25","v":0},{"$f":"Т!DU25","v":0},{"$f":"Т!DV25","v":0},{"$f":"Т!DW25","v":0},{"$f":"Т!DX25","v":0},{"$f":"Т!DY25","v":0},{"$f":"Т!DZ25","v":0},{"$f":"Т!EA25","v":0},{"$f":"Т!EB25","v":0},{"$f":"Т!EC25","v":0},{"$f":"Т!ED25","v":0},{"$f":"Т!EE25","v":0},{"$f":"Т!EF25","v":0},{"$f":"Т!EG25","v":0},{"$f":"Т!EH25","v":0},{"$f":"Т!EI25","v":0},{"$f":"Т!EJ25","v":0},{"$f":"Т!EK25","v":0},{"$f":"Т!EL25","v":0},{"$f":"Т!EM25","v":0},{"$f":"Т!EN25","v":0},{"$f":"Т!EO25","v":0},{"$f":"Т!EP25","v":0},{"$f":"Т!EQ25","v":0},null,null,null,null,null,null,null,null,{"$f":"Т!EZ25","v":0},{"$f":"Т!FA25","v":0},{"$f":"Т!FB25","v":0},{"$f":"Т!FC25","v":0},{"$f":"Т!FD25","v":0},{"$f":"Т!FE25","v":0},{"$f":"Т!FF25","v":0},{"$f":"Т!FG25","v":0},{"$f":"Т!FH25","v":0},{"$f":"Т!FI25","v":0},{"$f":"Т!FJ25","v":0},{"$f":"Т!FK25","v":0},{"$f":"Т!FL25","v":0},{"$f":"Т!FM25","v":0},{"$f":"Т!FN25","v":0},{"$f":"Т!FO25","v":0},{"$f":"Т!FP25","v":0},{"$f":"Т!FQ25","v":0},{"$f":"Т!FR25","v":0},{"$f":"Т!FS25","v":0},{"$f":"Т!FT25","v":0},{"$f":"Т!FU25","v":0},{"$f":"Т!FV25","v":0},{"$f":"Т!FW25","v":0},{"$f":"Т!FX25","v":0},{"$f":"Т!FY25","v":0},{"$f":"Т!FZ25","v":0},{"$f":"Т!GA25","v":0},{"$f":"Т!GB25","v":0},{"$f":"Т!GC25","v":0},{"$f":"Т!GD25","v":0},{"$f":"Т!GE25","v":0}]
[null,null,null,null,null,"5.1.2",null,null,null,"с НДС",null,null,null,null,null,null,null,null,null,null,null,null,null,null,null,null,null,null,null,null,null,null,null,null,null,null,null,null,null,null,null,null,null,null,null,null,null,{"$f":"Т!AV26","v":0},{"$f":"Т!AW26","v":0},{"$f":"Т!AX26","v":0},{"$f":"Т!AY26","v":0},{"$f":"Т!AZ26","v":0},{"$f":"Т!BA26","v":0},{"$f":"Т!BB26","v":0},{"$f":"Т!BC26","v":0},{"$f":"Т!BD26","v":0},{"$f":"Т!BE26","v":0},{"$f":"Т!BF26","v":0},{"$f":"Т!BG26","v":0},{"$f":"Т!BH26","v":0},{"$f":"Т!BI26","v":0},{"$f":"Т!BJ26","v":0},{"$f":"Т!BK26","v":0},{"$f":"Т!BL26","v":0},{"$f":"Т!BM26","v":0},{"$f":"Т!BN26","v":0},{"$f":"Т!BO26","v":0},{"$f":"Т!BP26","v":0},{"$f":"Т!BQ26","v":0},{"$f":"Т!BR26","v":0},{"$f":"Т!BS26","v":0},{"$f":"Т!BT26","v":0},{"$f":"Т!BU26","v":0},{"$f":"Т!BV26","v":0},{"$f":"Т!BW26","v":0},{"$f":"Т!BX26","v":0},{"$f":"Т!BY26","v":0},{"$f":"Т!BZ26","v":0},{"$f":"Т!CA26","v":0},{"$f":"Т!CB26","v":0},{"$f":"Т!CC26","v":0},{"$f":"Т!CD26","v":0},{"$f":"Т!CE26","v":0},{"$f":"Т!CF26","v":0},{"$f":"Т!CG26","v":0},{"$f":"Т!CH26","v":0},{"$f":"Т!CI26","v":0},{"$f":"Т!CJ26","v":0},{"$f":"Т!CK26","v":0},{"$f":"Т!CL26","v":0},{"$f":"Т!CM26","v":0},{"$f":"Т!CN26","v":0},{"$f":"Т!CO26","v":0},{"$f":"Т!CP26","v":0},{"$f":"Т!CQ26","v":0},{"$f":"Т!CR26","v":0},{"$f":"Т!CS26","v":0},{"$f":"Т!CT26","v":0},{"$f":"Т!CU26","v":0},{"$f":"Т!CV26","v":0},{"$f":"Т!CW26","v":0},{"$f":"Т!CX26","v":0},{"$f":"Т!CY26","v":0},{"$f":"Т!CZ26","v":0},{"$f":"Т!DA26","v":0},{"$f":"Т!DB26","v":0},{"$f":"Т!DC26","v":0},{"$f":"Т!DD26","v":0},{"$f":"Т!DE26","v":0},{"$f":"Т!DF26","v":0},{"$f":"Т!DG26","v":0},{"$f":"Т!DH26","v":0},{"$f":"Т!DI26","v":0},{"$f":"Т!DJ26","v":0},{"$f":"Т!DK26","v":0},{"$f":"Т!DL26","v":0},{"$f":"Т!DM26","v":0},{"$f":"Т!DN26","v":0},{"$f":"Т!DO26","v":0},{"$f":"Т!DP26","v":0},{"$f":"Т!DQ26","v":0},{"$f":"Т!DR26","v":0},{"$f":"Т!DS26","v":0},{"$f":"Т!DT26","v":0},{"$f":"Т!DU26","v":0},{"$f":"Т!DV26","v":0},{"$f":"Т!DW26","v":0},{"$f":"Т!DX26","v":0},{"$f":"Т!DY26","v":0},{"$f":"Т!DZ26","v":0},{"$f":"Т!EA26","v":0},{"$f":"Т!EB26","v":0},{"$f":"Т!EC26","v":0},{"$f":"Т!ED26","v":0},{"$f":"Т!EE26","v":0},{"$f":"Т!EF26","v":0},{"$f":"Т!EG26","v":0},{"$f":"Т!EH26","v":0},{"$f":"Т!EI26","v":0},{"$f":"Т!EJ26","v":0},{"$f":"Т!EK26","v":0},{"$f":"Т!EL26","v":0},{"$f":"Т!EM26","v":0},{"$f":"Т!EN26","v":0},{"$f":"Т!EO26","v":0},{"$f":"Т!EP26","v":0},{"$f":"Т!EQ26","v":0},null,null,null,null,null,null,null,null,{"$f":"Т!EZ26","v":0},{"$f":"Т!FA26","v":0},{"$f":"Т!FB26","v":0},{"$f":"Т!FC26","v":0},{"$f":"Т!FD26","v":0},{"$f":"Т!FE26","v":0},{"$f":"Т!FF26","v":0},{"$f":"Т!FG26","v":0},{"$f":"Т!FH26","v":0},{"$f":"Т!FI26","v":0},{"$f":"Т!FJ26","v":0},{"$f":"Т!FK26","v":0},{"$f":"Т!FL26","v":0},{"$f":"Т!FM26","v":0},{"$f":"Т!FN26","v":0},{"$f":"Т!FO26","v":0},{"$f":"Т!FP26","v":0},{"$f":"Т!FQ26","v":0},{"$f":"Т!FR26","v":0},{"$f":"Т!FS26","v":0},{"$f":"Т!FT26","v":0},{"$f":"Т!FU26","v":0},{"$f":"Т!FV26","v":0},{"$f":"Т!FW26","v":0},{"$f":"Т!FX26","v":0},{"$f":"Т!FY26","v":0},{"$f":"Т!FZ26","v":0},{"$f":"Т!GA26","v":0},{"$f":"Т!GB26","v":0},{"$f":"Т!GC26","v":0},{"$f":"Т!GD26","v":0},{"$f":"Т!GE26","v":0}]
[null,null,null,null,null,"5.2",null,null,"Объём топлива",null,null,null,null,null,null,null,null,null,null,null,null,null,null,null,null,null,null,null,null,null,null,null,null,null,null,null,null,null,null,null,null,null,null,null,null,null,null,{"$f":"Т!AV27","v":0},{"$f":"Т!AW27","v":0},{"$f":"Т!AX27","v":0},{"$f":"Т!AY27","v":0},{"$f":"Т!AZ27","v":0},{"$f":"Т!BA27","v":0},{"$f":"Т!BB27","v":0},{"$f":"Т!BC27","v":0},{"$f":"Т!BD27","v":0},{"$f":"Т!BE27","v":0},{"$f":"Т!BF27","v":0},{"$f":"Т!BG27","v":0},{"$f":"Т!BH27","v":0},{"$f":"Т!BI27","v":0},{"$f":"Т!BJ27","v":0},{"$f":"Т!BK27","v":0},{"$f":"Т!BL27","v":0},{"$f":"Т!BM27","v":0},{"$f":"Т!BN27","v":0},{"$f":"Т!BO27","v":0},{"$f":"Т!BP27","v":0},{"$f":"Т!BQ27","v":0},{"$f":"Т!BR27","v":0},{"$f":"Т!BS27","v":0},{"$f":"Т!BT27","v":0},{"$f":"Т!BU27","v":0},{"$f":"Т!BV27","v":0},{"$f":"Т!BW27","v":0},{"$f":"Т!BX27","v":0},{"$f":"Т!BY27","v":0},{"$f":"Т!BZ27","v":0},{"$f":"Т!CA27","v":0},{"$f":"Т!CB27","v":0},{"$f":"Т!CC27","v":0},{"$f":"Т!CD27","v":0},{"$f":"Т!CE27","v":0},{"$f":"Т!CF27","v":0},{"$f":"Т!CG27","v":0},{"$f":"Т!CH27","v":0},{"$f":"Т!CI27","v":0},{"$f":"Т!CJ27","v":0},{"$f":"Т!CK27","v":0},{"$f":"Т!CL27","v":0},{"$f":"Т!CM27","v":0},{"$f":"Т!CN27","v":0},{"$f":"Т!CO27","v":0},{"$f":"Т!CP27","v":0},{"$f":"Т!CQ27","v":0},{"$f":"Т!CR27","v":0},{"$f":"Т!CS27","v":0},{"$f":"Т!CT27","v":0},{"$f":"Т!CU27","v":0},{"$f":"Т!CV27","v":0},{"$f":"Т!CW27","v":0},{"$f":"Т!CX27","v":0},{"$f":"Т!CY27","v":0},{"$f":"Т!CZ27","v":0},{"$f":"Т!DA27","v":0},{"$f":"Т!DB27","v":0},{"$f":"Т!DC27","v":0},{"$f":"Т!DD27","v":0},{"$f":"Т!DE27","v":0},{"$f":"Т!DF27","v":0},{"$f":"Т!DG27","v":0},{"$f":"Т!DH27","v":0},{"$f":"Т!DI27","v":0},{"$f":"Т!DJ27","v":0},{"$f":"Т!DK27","v":0},{"$f":"Т!DL27","v":0},{"$f":"Т!DM27","v":0},{"$f":"Т!DN27","v":0},{"$f":"Т!DO27","v":0},{"$f":"Т!DP27","v":0},{"$f":"Т!DQ27","v":0},{"$f":"Т!DR27","v":0},{"$f":"Т!DS27","v":0},{"$f":"Т!DT27","v":0},{"$f":"Т!DU27","v":0},{"$f":"Т!DV27","v":0},{"$f":"Т!DW27","v":0},{"$f":"Т!DX27","v":0},{"$f":"Т!DY27","v":0},{"$f":"Т!DZ27","v":0},{"$f":"Т!EA27","v":0},{"$f":"Т!EB27","v":0},{"$f":"Т!EC27","v":0},{"$f":"Т!ED27","v":0},{"$f":"Т!EE27","v":0},{"$f":"Т!EF27","v":0},{"$f":"Т!EG27","v":0},{"$f":"Т!EH27","v":0},{"$f":"Т!EI27","v":0},{"$f":"Т!EJ27","v":0},{"$f":"Т!EK27","v":0},{"$f":"Т!EL27","v":0},{"$f":"Т!EM27","v":0},{"$f":"Т!EN27","v":0},{"$f":"Т!EO27","v":0},{"$f":"Т!EP27","v":0},{"$f":"Т!EQ27","v":0},null,null,null,null,null,null,null,null,{"$f":"Т!EZ27","v":0},{"$f":"Т!FA27","v":0},{"$f":"Т!FB27","v":0},{"$f":"Т!FC27","v":0},{"$f":"Т!FD27","v":0},{"$f":"Т!FE27","v":0},{"$f":"Т!FF27","v":0},{"$f":"Т!FG27","v":0},{"$f":"Т!FH27","v":0},{"$f":"Т!FI27","v":0},{"$f":"Т!FJ27","v":0},{"$f":"Т!FK27","v":0},{"$f":"Т!FL27","v":0},{"$f":"Т!FM27","v":0},{"$f":"Т!FN27","v":0},{"$f":"Т!FO27","v":0},{"$f":"Т!FP27","v":0},{"$f":"Т!FQ27","v":0},{"$f":"Т!FR27","v":0},{"$f":"Т!FS27","v":0},{"$f":"Т!FT27","v":0},{"$f":"Т!FU27","v":0},{"$f":"Т!FV27","v":0},{"$f":"Т!FW27","v":0},{"$f":"Т!FX27","v":0},{"$f":"Т!FY27","v":0},{"$f":"Т!FZ27","v":0},{"$f":"Т!GA27","v":0},{"$f":"Т!GB27","v":0},{"$f":"Т!GC27","v":0},{"$f":"Т!GD27","v":0},{"$f":"Т!GE27","v":0}]
[null,null,null,null,null,"5.3.1",null,null,"Затраты (тыс.руб.)","без НДС",null,null,null,null,null,null,null,null,null,null,null,null,null,null,null,null,null,null,null,null,null,null,null,null,null,null,null,null,null,null,null,null,null,null,null,null,null,{"$f":"Т!AV28","v":0},{"$f":"Т!AW28","v":0},{"$f":"Т!AX28","v":0},{"$f":"Т!AY28","v":0},{"$f":"Т!AZ28","v":0},{"$f":"Т!BA28","v":0},{"$f":"Т!BB28","v":0},{"$f":"Т!BC28","v":0},{"$f":"Т!BD28","v":0},{"$f":"Т!BE28","v":0},{"$f":"Т!BF28","v":0},{"$f":"Т!BG28","v":0},{"$f":"Т!BH28","v":0},{"$f":"Т!BI28","v":0},{"$f":"Т!BJ28","v":0},{"$f":"Т!BK28","v":0},{"$f":"Т!BL28","v":0},{"$f":"Т!BM28","v":0},{"$f":"Т!BN28","v":0},{"$f":"Т!BO28","v":0},{"$f":"Т!BP28","v":0},{"$f":"Т!BQ28","v":0},{"$f":"Т!BR28","v":0},{"$f":"Т!BS28","v":0},{"$f":"Т!BT28","v":0},{"$f":"Т!BU28","v":0},{"$f":"Т!BV28","v":0},{"$f":"Т!BW28","v":0},{"$f":"Т!BX28","v":0},{"$f":"Т!BY28","v":0},{"$f":"Т!BZ28","v":0},{"$f":"Т!CA28","v":0},{"$f":"Т!CB28","v":0},{"$f":"Т!CC28","v":0},{"$f":"Т!CD28","v":0},{"$f":"Т!CE28","v":0},{"$f":"Т!CF28","v":0},{"$f":"Т!CG28","v":0},{"$f":"Т!CH28","v":0},{"$f":"Т!CI28","v":0},{"$f":"Т!CJ28","v":0},{"$f":"Т!CK28","v":0},{"$f":"Т!CL28","v":0},{"$f":"Т!CM28","v":0},{"$f":"Т!CN28","v":0},{"$f":"Т!CO28","v":0},{"$f":"Т!CP28","v":0},{"$f":"Т!CQ28","v":0},{"$f":"Т!CR28","v":0},{"$f":"Т!CS28","v":0},{"$f":"Т!CT28","v":0},{"$f":"Т!CU28","v":0},{"$f":"Т!CV28","v":0},{"$f":"Т!CW28","v":0},{"$f":"Т!CX28","v":0},{"$f":"Т!CY28","v":0},{"$f":"Т!CZ28","v":0},{"$f":"Т!DA28","v":0},{"$f":"Т!DB28","v":0},{"$f":"Т!DC28","v":0},{"$f":"Т!DD28","v":0},{"$f":"Т!DE28","v":0},{"$f":"Т!DF28","v":0},{"$f":"Т!DG28","v":0},{"$f":"Т!DH28","v":0},{"$f":"Т!DI28","v":0},{"$f":"Т!DJ28","v":0},{"$f":"Т!DK28","v":0},{"$f":"Т!DL28","v":0},{"$f":"Т!DM28","v":0},{"$f":"Т!DN28","v":0},{"$f":"Т!DO28","v":0},{"$f":"Т!DP28","v":0},{"$f":"Т!DQ28","v":0},{"$f":"Т!DR28","v":0},{"$f":"Т!DS28","v":0},{"$f":"Т!DT28","v":0},{"$f":"Т!DU28","v":0},{"$f":"Т!DV28","v":0},{"$f":"Т!DW28","v":0},{"$f":"Т!DX28","v":0},{"$f":"Т!DY28","v":0},{"$f":"Т!DZ28","v":0},{"$f":"Т!EA28","v":0},{"$f":"Т!EB28","v":0},{"$f":"Т!EC28","v":0},{"$f":"Т!ED28","v":0},{"$f":"Т!EE28","v":0},{"$f":"Т!EF28","v":0},{"$f":"Т!EG28","v":0},{"$f":"Т!EH28","v":0},{"$f":"Т!EI28","v":0},{"$f":"Т!EJ28","v":0},{"$f":"Т!EK28","v":0},{"$f":"Т!EL28","v":0},{"$f":"Т!EM28","v":0},{"$f":"Т!EN28","v":0},{"$f":"Т!EO28","v":0},{"$f":"Т!EP28","v":0},{"$f":"Т!EQ28","v":0},null,null,null,null,null,null,null,null,{"$f":"Т!EZ28","v":0},{"$f":"Т!FA28","v":0},{"$f":"Т!FB28","v":0},{"$f":"Т!FC28","v":0},{"$f":"Т!FD28","v":0},{"$f":"Т!FE28","v":0},{"$f":"Т!FF28","v":0},{"$f":"Т!FG28","v":0},{"$f":"Т!FH28","v":0},{"$f":"Т!FI28","v":0},{"$f":"Т!FJ28","v":0},{"$f":"Т!FK28","v":0},{"$f":"Т!FL28","v":0},{"$f":"Т!FM28","v":0},{"$f":"Т!FN28","v":0},{"$f":"Т!FO28","v":0},{"$f":"Т!FP28","v":0},{"$f":"Т!FQ28","v":0},{"$f":"Т!FR28","v":0},{"$f":"Т!FS28","v":0},{"$f":"Т!FT28","v":0},{"$f":"Т!FU28","v":0},{"$f":"Т!FV28","v":0},{"$f":"Т!FW28","v":0},{"$f":"Т!FX28","v":0},{"$f":"Т!FY28","v":0},{"$f":"Т!FZ28","v":0},{"$f":"Т!GA28","v":0},{"$f":"Т!GB28","v":0},{"$f":"Т!GC28","v":0},{"$f":"Т!GD28","v":0},{"$f":"Т!GE28","v":0}]
[null,null,null,null,null,"5.3.2",null,null,null,"с НДС",null,null,null,null,null,null,null,null,null,null,null,null,null,null,null,null,null,null,null,null,null,null,null,null,null,null,null,null,null,null,null,null,null,null,null,null,null,{"$f":"Т!AV29","v":0},{"$f":"Т!AW29","v":0},{"$f":"Т!AX29","v":0},{"$f":"Т!AY29","v":0},{"$f":"Т!AZ29","v":0},{"$f":"Т!BA29","v":0},{"$f":"Т!BB29","v":0},{"$f":"Т!BC29","v":0},{"$f":"Т!BD29","v":0},{"$f":"Т!BE29","v":0},{"$f":"Т!BF29","v":0},{"$f":"Т!BG29","v":0},{"$f":"Т!BH29","v":0},{"$f":"Т!BI29","v":0},{"$f":"Т!BJ29","v":0},{"$f":"Т!BK29","v":0},{"$f":"Т!BL29","v":0},{"$f":"Т!BM29","v":0},{"$f":"Т!BN29","v":0},{"$f":"Т!BO29","v":0},{"$f":"Т!BP29","v":0},{"$f":"Т!BQ29","v":0},{"$f":"Т!BR29","v":0},{"$f":"Т!BS29","v":0},{"$f":"Т!BT29","v":0},{"$f":"Т!BU29","v":0},{"$f":"Т!BV29","v":0},{"$f":"Т!BW29","v":0},{"$f":"Т!BX29","v":0},{"$f":"Т!BY29","v":0},{"$f":"Т!BZ29","v":0},{"$f":"Т!CA29","v":0},{"$f":"Т!CB29","v":0},{"$f":"Т!CC29","v":0},{"$f":"Т!CD29","v":0},{"$f":"Т!CE29","v":0},{"$f":"Т!CF29","v":0},{"$f":"Т!CG29","v":0},{"$f":"Т!CH29","v":0},{"$f":"Т!CI29","v":0},{"$f":"Т!CJ29","v":0},{"$f":"Т!CK29","v":0},{"$f":"Т!CL29","v":0},{"$f":"Т!CM29","v":0},{"$f":"Т!CN29","v":0},{"$f":"Т!CO29","v":0},{"$f":"Т!CP29","v":0},{"$f":"Т!CQ29","v":0},{"$f":"Т!CR29","v":0},{"$f":"Т!CS29","v":0},{"$f":"Т!CT29","v":0},{"$f":"Т!CU29","v":0},{"$f":"Т!CV29","v":0},{"$f":"Т!CW29","v":0},{"$f":"Т!CX29","v":0},{"$f":"Т!CY29","v":0},{"$f":"Т!CZ29","v":0},{"$f":"Т!DA29","v":0},{"$f":"Т!DB29","v":0},{"$f":"Т!DC29","v":0},{"$f":"Т!DD29","v":0},{"$f":"Т!DE29","v":0},{"$f":"Т!DF29","v":0},{"$f":"Т!DG29","v":0},{"$f":"Т!DH29","v":0},{"$f":"Т!DI29","v":0},{"$f":"Т!DJ29","v":0},{"$f":"Т!DK29","v":0},{"$f":"Т!DL29","v":0},{"$f":"Т!DM29","v":0},{"$f":"Т!DN29","v":0},{"$f":"Т!DO29","v":0},{"$f":"Т!DP29","v":0},{"$f":"Т!DQ29","v":0},{"$f":"Т!DR29","v":0},{"$f":"Т!DS29","v":0},{"$f":"Т!DT29","v":0},{"$f":"Т!DU29","v":0},{"$f":"Т!DV29","v":0},{"$f":"Т!DW29","v":0},{"$f":"Т!DX29","v":0},{"$f":"Т!DY29","v":0},{"$f":"Т!DZ29","v":0},{"$f":"Т!EA29","v":0},{"$f":"Т!EB29","v":0},{"$f":"Т!EC29","v":0},{"$f":"Т!ED29","v":0},{"$f":"Т!EE29","v":0},{"$f":"Т!EF29","v":0},{"$f":"Т!EG29","v":0},{"$f":"Т!EH29","v":0},{"$f":"Т!EI29","v":0},{"$f":"Т!EJ29","v":0},{"$f":"Т!EK29","v":0},{"$f":"Т!EL29","v":0},{"$f":"Т!EM29","v":0},{"$f":"Т!EN29","v":0},{"$f":"Т!EO29","v":0},{"$f":"Т!EP29","v":0},{"$f":"Т!EQ29","v":0},null,null,null,null,null,null,null,null,{"$f":"Т!EZ29","v":0},{"$f":"Т!FA29","v":0},{"$f":"Т!FB29","v":0},{"$f":"Т!FC29","v":0},{"$f":"Т!FD29","v":0},{"$f":"Т!FE29","v":0},{"$f":"Т!FF29","v":0},{"$f":"Т!FG29","v":0},{"$f":"Т!FH29","v":0},{"$f":"Т!FI29","v":0},{"$f":"Т!FJ29","v":0},{"$f":"Т!FK29","v":0},{"$f":"Т!FL29","v":0},{"$f":"Т!FM29","v":0},{"$f":"Т!FN29","v":0},{"$f":"Т!FO29","v":0},{"$f":"Т!FP29","v":0},{"$f":"Т!FQ29","v":0},{"$f":"Т!FR29","v":0},{"$f":"Т!FS29","v":0},{"$f":"Т!FT29","v":0},{"$f":"Т!FU29","v":0},{"$f":"Т!FV29","v":0},{"$f":"Т!FW29","v":0},{"$f":"Т!FX29","v":0},{"$f":"Т!FY29","v":0},{"$f":"Т!FZ29","v":0},{"$f":"Т!GA29","v":0},{"$f":"Т!GB29","v":0},{"$f":"Т!GC29","v":0},{"$f":"Т!GD29","v":0},{"$f":"Т!GE29","v":0}]
[null,null,null,null,null,"6.1.1",null,"Транспортировка топлива ж/д перевозками","Тариф (цена за единицу) (руб./ед.изм.)","без НДС",null,null,null,null,null,null,null,null,null,null,null,null,null,null,null,null,null,null,null,null,null,null,null,null,null,null,null,null,null,null,null,null,null,null,null,null,null,{"$f":"Т!AV30","v":0},{"$f":"Т!AW30","v":0},{"$f":"Т!AX30","v":0},{"$f":"Т!AY30","v":0},{"$f":"Т!AZ30","v":0},{"$f":"Т!BA30","v":0},{"$f":"Т!BB30","v":0},{"$f":"Т!BC30","v":0},{"$f":"Т!BD30","v":0},{"$f":"Т!BE30","v":0},{"$f":"Т!BF30","v":0},{"$f":"Т!BG30","v":0},{"$f":"Т!BH30","v":0},{"$f":"Т!BI30","v":0},{"$f":"Т!BJ30","v":0},{"$f":"Т!BK30","v":0},{"$f":"Т!BL30","v":0},{"$f":"Т!BM30","v":0},{"$f":"Т!BN30","v":0},{"$f":"Т!BO30","v":0},{"$f":"Т!BP30","v":0},{"$f":"Т!BQ30","v":0},{"$f":"Т!BR30","v":0},{"$f":"Т!BS30","v":0},{"$f":"Т!BT30","v":0},{"$f":"Т!BU30","v":0},{"$f":"Т!BV30","v":0},{"$f":"Т!BW30","v":0},{"$f":"Т!BX30","v":0},{"$f":"Т!BY30","v":0},{"$f":"Т!BZ30","v":0},{"$f":"Т!CA30","v":0},{"$f":"Т!CB30","v":0},{"$f":"Т!CC30","v":0},{"$f":"Т!CD30","v":0},{"$f":"Т!CE30","v":0},{"$f":"Т!CF30","v":0},{"$f":"Т!CG30","v":0},{"$f":"Т!CH30","v":0},{"$f":"Т!CI30","v":0},{"$f":"Т!CJ30","v":0},{"$f":"Т!CK30","v":0},{"$f":"Т!CL30","v":0},{"$f":"Т!CM30","v":0},{"$f":"Т!CN30","v":0},{"$f":"Т!CO30","v":0},{"$f":"Т!CP30","v":0},{"$f":"Т!CQ30","v":0},{"$f":"Т!CR30","v":0},{"$f":"Т!CS30","v":0},{"$f":"Т!CT30","v":0},{"$f":"Т!CU30","v":0},{"$f":"Т!CV30","v":0},{"$f":"Т!CW30","v":0},{"$f":"Т!CX30","v":0},{"$f":"Т!CY30","v":0},{"$f":"Т!CZ30","v":0},{"$f":"Т!DA30","v":0},{"$f":"Т!DB30","v":0},{"$f":"Т!DC30","v":0},{"$f":"Т!DD30","v":0},{"$f":"Т!DE30","v":0},{"$f":"Т!DF30","v":0},{"$f":"Т!DG30","v":0},{"$f":"Т!DH30","v":0},{"$f":"Т!DI30","v":0},{"$f":"Т!DJ30","v":0},{"$f":"Т!DK30","v":0},{"$f":"Т!DL30","v":0},{"$f":"Т!DM30","v":0},{"$f":"Т!DN30","v":0},{"$f":"Т!DO30","v":0},{"$f":"Т!DP30","v":0},{"$f":"Т!DQ30","v":0},{"$f":"Т!DR30","v":0},{"$f":"Т!DS30","v":0},{"$f":"Т!DT30","v":0},{"$f":"Т!DU30","v":0},{"$f":"Т!DV30","v":0},{"$f":"Т!DW30","v":0},{"$f":"Т!DX30","v":0},{"$f":"Т!DY30","v":0},{"$f":"Т!DZ30","v":0},{"$f":"Т!EA30","v":0},{"$f":"Т!EB30","v":0},{"$f":"Т!EC30","v":0},{"$f":"Т!ED30","v":0},{"$f":"Т!EE30","v":0},{"$f":"Т!EF30","v":0},{"$f":"Т!EG30","v":0},{"$f":"Т!EH30","v":0},{"$f":"Т!EI30","v":0},{"$f":"Т!EJ30","v":0},{"$f":"Т!EK30","v":0},{"$f":"Т!EL30","v":0},{"$f":"Т!EM30","v":0},{"$f":"Т!EN30","v":0},{"$f":"Т!EO30","v":0},{"$f":"Т!EP30","v":0},{"$f":"Т!EQ30","v":0},null,null,null,null,null,null,null,null,{"$f":"Т!EZ30","v":0},{"$f":"Т!FA30","v":0},{"$f":"Т!FB30","v":0},{"$f":"Т!FC30","v":0},{"$f":"Т!FD30","v":0},{"$f":"Т!FE30","v":0},{"$f":"Т!FF30","v":0},{"$f":"Т!FG30","v":0},{"$f":"Т!FH30","v":0},{"$f":"Т!FI30","v":0},{"$f":"Т!FJ30","v":0},{"$f":"Т!FK30","v":0},{"$f":"Т!FL30","v":0},{"$f":"Т!FM30","v":0},{"$f":"Т!FN30","v":0},{"$f":"Т!FO30","v":0},{"$f":"Т!FP30","v":0},{"$f":"Т!FQ30","v":0},{"$f":"Т!FR30","v":0},{"$f":"Т!FS30","v":0},{"$f":"Т!FT30","v":0},{"$f":"Т!FU30","v":0},{"$f":"Т!FV30","v":0},{"$f":"Т!FW30","v":0},{"$f":"Т!FX30","v":0},{"$f":"Т!FY30","v":0},{"$f":"Т!FZ30","v":0},{"$f":"Т!GA30","v":0},{"$f":"Т!GB30","v":0},{"$f":"Т!GC30","v":0},{"$f":"Т!GD30","v":0},{"$f":"Т!GE30","v":0}]
[null,null,null,null,null,"6.1.2",null,null,null,"с НДС",null,null,null,null,null,null,null,null,null,null,null,null,null,null,null,null,null,null,null,null,null,null,null,null,null,null,null,null,null,null,null,null,null,null,null,null,null,{"$f":"Т!AV31","v":0},{"$f":"Т!AW31","v":0},{"$f":"Т!AX31","v":0},{"$f":"Т!AY31","v":0},{"$f":"Т!AZ31","v":0},{"$f":"Т!BA31","v":0},{"$f":"Т!BB31","v":0},{"$f":"Т!BC31","v":0},{"$f":"Т!BD31","v":0},{"$f":"Т!BE31","v":0},{"$f":"Т!BF31","v":0},{"$f":"Т!BG31","v":0},{"$f":"Т!BH31","v":0},{"$f":"Т!BI31","v":0},{"$f":"Т!BJ31","v":0},{"$f":"Т!BK31","v":0},{"$f":"Т!BL31","v":0},{"$f":"Т!BM31","v":0},{"$f":"Т!BN31","v":0},{"$f":"Т!BO31","v":0},{"$f":"Т!BP31","v":0},{"$f":"Т!BQ31","v":0},{"$f":"Т!BR31","v":0},{"$f":"Т!BS31","v":0},{"$f":"Т!BT31","v":0},{"$f":"Т!BU31","v":0},{"$f":"Т!BV31","v":0},{"$f":"Т!BW31","v":0},{"$f":"Т!BX31","v":0},{"$f":"Т!BY31","v":0},{"$f":"Т!BZ31","v":0},{"$f":"Т!CA31","v":0},{"$f":"Т!CB31","v":0},{"$f":"Т!CC31","v":0},{"$f":"Т!CD31","v":0},{"$f":"Т!CE31","v":0},{"$f":"Т!CF31","v":0},{"$f":"Т!CG31","v":0},{"$f":"Т!CH31","v":0},{"$f":"Т!CI31","v":0},{"$f":"Т!CJ31","v":0},{"$f":"Т!CK31","v":0},{"$f":"Т!CL31","v":0},{"$f":"Т!CM31","v":0},{"$f":"Т!CN31","v":0},{"$f":"Т!CO31","v":0},{"$f":"Т!CP31","v":0},{"$f":"Т!CQ31","v":0},{"$f":"Т!CR31","v":0},{"$f":"Т!CS31","v":0},{"$f":"Т!CT31","v":0},{"$f":"Т!CU31","v":0},{"$f":"Т!CV31","v":0},{"$f":"Т!CW31","v":0},{"$f":"Т!CX31","v":0},{"$f":"Т!CY31","v":0},{"$f":"Т!CZ31","v":0},{"$f":"Т!DA31","v":0},{"$f":"Т!DB31","v":0},{"$f":"Т!DC31","v":0},{"$f":"Т!DD31","v":0},{"$f":"Т!DE31","v":0},{"$f":"Т!DF31","v":0},{"$f":"Т!DG31","v":0},{"$f":"Т!DH31","v":0},{"$f":"Т!DI31","v":0},{"$f":"Т!DJ31","v":0},{"$f":"Т!DK31","v":0},{"$f":"Т!DL31","v":0},{"$f":"Т!DM31","v":0},{"$f":"Т!DN31","v":0},{"$f":"Т!DO31","v":0},{"$f":"Т!DP31","v":0},{"$f":"Т!DQ31","v":0},{"$f":"Т!DR31","v":0},{"$f":"Т!DS31","v":0},{"$f":"Т!DT31","v":0},{"$f":"Т!DU31","v":0},{"$f":"Т!DV31","v":0},{"$f":"Т!DW31","v":0},{"$f":"Т!DX31","v":0},{"$f":"Т!DY31","v":0},{"$f":"Т!DZ31","v":0},{"$f":"Т!EA31","v":0},{"$f":"Т!EB31","v":0},{"$f":"Т!EC31","v":0},{"$f":"Т!ED31","v":0},{"$f":"Т!EE31","v":0},{"$f":"Т!EF31","v":0},{"$f":"Т!EG31","v":0},{"$f":"Т!EH31","v":0},{"$f":"Т!EI31","v":0},{"$f":"Т!EJ31","v":0},{"$f":"Т!EK31","v":0},{"$f":"Т!EL31","v":0},{"$f":"Т!EM31","v":0},{"$f":"Т!EN31","v":0},{"$f":"Т!EO31","v":0},{"$f":"Т!EP31","v":0},{"$f":"Т!EQ31","v":0},null,null,null,null,null,null,null,null,{"$f":"Т!EZ31","v":0},{"$f":"Т!FA31","v":0},{"$f":"Т!FB31","v":0},{"$f":"Т!FC31","v":0},{"$f":"Т!FD31","v":0},{"$f":"Т!FE31","v":0},{"$f":"Т!FF31","v":0},{"$f":"Т!FG31","v":0},{"$f":"Т!FH31","v":0},{"$f":"Т!FI31","v":0},{"$f":"Т!FJ31","v":0},{"$f":"Т!FK31","v":0},{"$f":"Т!FL31","v":0},{"$f":"Т!FM31","v":0},{"$f":"Т!FN31","v":0},{"$f":"Т!FO31","v":0},{"$f":"Т!FP31","v":0},{"$f":"Т!FQ31","v":0},{"$f":"Т!FR31","v":0},{"$f":"Т!FS31","v":0},{"$f":"Т!FT31","v":0},{"$f":"Т!FU31","v":0},{"$f":"Т!FV31","v":0},{"$f":"Т!FW31","v":0},{"$f":"Т!FX31","v":0},{"$f":"Т!FY31","v":0},{"$f":"Т!FZ31","v":0},{"$f":"Т!GA31","v":0},{"$f":"Т!GB31","v":0},{"$f":"Т!GC31","v":0},{"$f":"Т!GD31","v":0},{"$f":"Т!GE31","v":0}]
[null,null,null,null,null,"6.2",null,null,"Объём топлива",null,null,null,null,null,null,null,null,null,null,null,null,null,null,null,null,null,null,null,null,null,null,null,null,null,null,null,null,null,null,null,null,null,null,null,null,null,null,{"$f":"Т!AV32","v":0},{"$f":"Т!AW32","v":0},{"$f":"Т!AX32","v":0},{"$f":"Т!AY32","v":0},{"$f":"Т!AZ32","v":0},{"$f":"Т!BA32","v":0},{"$f":"Т!BB32","v":0},{"$f":"Т!BC32","v":0},{"$f":"Т!BD32","v":0},{"$f":"Т!BE32","v":0},{"$f":"Т!BF32","v":0},{"$f":"Т!BG32","v":0},{"$f":"Т!BH32","v":0},{"$f":"Т!BI32","v":0},{"$f":"Т!BJ32","v":0},{"$f":"Т!BK32","v":0},{"$f":"Т!BL32","v":0},{"$f":"Т!BM32","v":0},{"$f":"Т!BN32","v":0},{"$f":"Т!BO32","v":0},{"$f":"Т!BP32","v":0},{"$f":"Т!BQ32","v":0},{"$f":"Т!BR32","v":0},{"$f":"Т!BS32","v":0},{"$f":"Т!BT32","v":0},{"$f":"Т!BU32","v":0},{"$f":"Т!BV32","v":0},{"$f":"Т!BW32","v":0},{"$f":"Т!BX32","v":0},{"$f":"Т!BY32","v":0},{"$f":"Т!BZ32","v":0},{"$f":"Т!CA32","v":0},{"$f":"Т!CB32","v":0},{"$f":"Т!CC32","v":0},{"$f":"Т!CD32","v":0},{"$f":"Т!CE32","v":0},{"$f":"Т!CF32","v":0},{"$f":"Т!CG32","v":0},{"$f":"Т!CH32","v":0},{"$f":"Т!CI32","v":0},{"$f":"Т!CJ32","v":0},{"$f":"Т!CK32","v":0},{"$f":"Т!CL32","v":0},{"$f":"Т!CM32","v":0},{"$f":"Т!CN32","v":0},{"$f":"Т!CO32","v":0},{"$f":"Т!CP32","v":0},{"$f":"Т!CQ32","v":0},{"$f":"Т!CR32","v":0},{"$f":"Т!CS32","v":0},{"$f":"Т!CT32","v":0},{"$f":"Т!CU32","v":0},{"$f":"Т!CV32","v":0},{"$f":"Т!CW32","v":0},{"$f":"Т!CX32","v":0},{"$f":"Т!CY32","v":0},{"$f":"Т!CZ32","v":0},{"$f":"Т!DA32","v":0},{"$f":"Т!DB32","v":0},{"$f":"Т!DC32","v":0},{"$f":"Т!DD32","v":0},{"$f":"Т!DE32","v":0},{"$f":"Т!DF32","v":0},{"$f":"Т!DG32","v":0},{"$f":"Т!DH32","v":0},{"$f":"Т!DI32","v":0},{"$f":"Т!DJ32","v":0},{"$f":"Т!DK32","v":0},{"$f":"Т!DL32","v":0},{"$f":"Т!DM32","v":0},{"$f":"Т!DN32","v":0},{"$f":"Т!DO32","v":0},{"$f":"Т!DP32","v":0},{"$f":"Т!DQ32","v":0},{"$f":"Т!DR32","v":0},{"$f":"Т!DS32","v":0},{"$f":"Т!DT32","v":0},{"$f":"Т!DU32","v":0},{"$f":"Т!DV32","v":0},{"$f":"Т!DW32","v":0},{"$f":"Т!DX32","v":0},{"$f":"Т!DY32","v":0},{"$f":"Т!DZ32","v":0},{"$f":"Т!EA32","v":0},{"$f":"Т!EB32","v":0},{"$f":"Т!EC32","v":0},{"$f":"Т!ED32","v":0},{"$f":"Т!EE32","v":0},{"$f":"Т!EF32","v":0},{"$f":"Т!EG32","v":0},{"$f":"Т!EH32","v":0},{"$f":"Т!EI32","v":0},{"$f":"Т!EJ32","v":0},{"$f":"Т!EK32","v":0},{"$f":"Т!EL32","v":0},{"$f":"Т!EM32","v":0},{"$f":"Т!EN32","v":0},{"$f":"Т!EO32","v":0},{"$f":"Т!EP32","v":0},{"$f":"Т!EQ32","v":0},null,null,null,null,null,null,null,null,{"$f":"Т!EZ32","v":0},{"$f":"Т!FA32","v":0},{"$f":"Т!FB32","v":0},{"$f":"Т!FC32","v":0},{"$f":"Т!FD32","v":0},{"$f":"Т!FE32","v":0},{"$f":"Т!FF32","v":0},{"$f":"Т!FG32","v":0},{"$f":"Т!FH32","v":0},{"$f":"Т!FI32","v":0},{"$f":"Т!FJ32","v":0},{"$f":"Т!FK32","v":0},{"$f":"Т!FL32","v":0},{"$f":"Т!FM32","v":0},{"$f":"Т!FN32","v":0},{"$f":"Т!FO32","v":0},{"$f":"Т!FP32","v":0},{"$f":"Т!FQ32","v":0},{"$f":"Т!FR32","v":0},{"$f":"Т!FS32","v":0},{"$f":"Т!FT32","v":0},{"$f":"Т!FU32","v":0},{"$f":"Т!FV32","v":0},{"$f":"Т!FW32","v":0},{"$f":"Т!FX32","v":0},{"$f":"Т!FY32","v":0},{"$f":"Т!FZ32","v":0},{"$f":"Т!GA32","v":0},{"$f":"Т!GB32","v":0},{"$f":"Т!GC32","v":0},{"$f":"Т!GD32","v":0},{"$f":"Т!GE32","v":0}]
[null,null,null,null,null,"6.3.1",null,null,"Затраты (тыс.руб.)","без НДС",null,null,null,null,null,null,null,null,null,null,null,null,null,null,null,null,null,null,null,null,null,null,null,null,null,null,null,null,null,null,null,null,null,null,null,null,null,{"$f":"Т!AV33","v":0},{"$f":"Т!AW33","v":0},{"$f":"Т!AX33","v":0},{"$f":"Т!AY33","v":0},{"$f":"Т!AZ33","v":0},{"$f":"Т!BA33","v":0},{"$f":"Т!BB33","v":0},{"$f":"Т!BC33","v":0},{"$f":"Т!BD33","v":0},{"$f":"Т!BE33","v":0},{"$f":"Т!BF33","v":0},{"$f":"Т!BG33","v":0},{"$f":"Т!BH33","v":0},{"$f":"Т!BI33","v":0},{"$f":"Т!BJ33","v":0},{"$f":"Т!BK33","v":0},{"$f":"Т!BL33","v":0},{"$f":"Т!BM33","v":0},{"$f":"Т!BN33","v":0},{"$f":"Т!BO33","v":0},{"$f":"Т!BP33","v":0},{"$f":"Т!BQ33","v":0},{"$f":"Т!BR33","v":0},{"$f":"Т!BS33","v":0},{"$f":"Т!BT33","v":0},{"$f":"Т!BU33","v":0},{"$f":"Т!BV33","v":0},{"$f":"Т!BW33","v":0},{"$f":"Т!BX33","v":0},{"$f":"Т!BY33","v":0},{"$f":"Т!BZ33","v":0},{"$f":"Т!CA33","v":0},{"$f":"Т!CB33","v":0},{"$f":"Т!CC33","v":0},{"$f":"Т!CD33","v":0},{"$f":"Т!CE33","v":0},{"$f":"Т!CF33","v":0},{"$f":"Т!CG33","v":0},{"$f":"Т!CH33","v":0},{"$f":"Т!CI33","v":0},{"$f":"Т!CJ33","v":0},{"$f":"Т!CK33","v":0},{"$f":"Т!CL33","v":0},{"$f":"Т!CM33","v":0},{"$f":"Т!CN33","v":0},{"$f":"Т!CO33","v":0},{"$f":"Т!CP33","v":0},{"$f":"Т!CQ33","v":0},{"$f":"Т!CR33","v":0},{"$f":"Т!CS33","v":0},{"$f":"Т!CT33","v":0},{"$f":"Т!CU33","v":0},{"$f":"Т!CV33","v":0},{"$f":"Т!CW33","v":0},{"$f":"Т!CX33","v":0},{"$f":"Т!CY33","v":0},{"$f":"Т!CZ33","v":0},{"$f":"Т!DA33","v":0},{"$f":"Т!DB33","v":0},{"$f":"Т!DC33","v":0},{"$f":"Т!DD33","v":0},{"$f":"Т!DE33","v":0},{"$f":"Т!DF33","v":0},{"$f":"Т!DG33","v":0},{"$f":"Т!DH33","v":0},{"$f":"Т!DI33","v":0},{"$f":"Т!DJ33","v":0},{"$f":"Т!DK33","v":0},{"$f":"Т!DL33","v":0},{"$f":"Т!DM33","v":0},{"$f":"Т!DN33","v":0},{"$f":"Т!DO33","v":0},{"$f":"Т!DP33","v":0},{"$f":"Т!DQ33","v":0},{"$f":"Т!DR33","v":0},{"$f":"Т!DS33","v":0},{"$f":"Т!DT33","v":0},{"$f":"Т!DU33","v":0},{"$f":"Т!DV33","v":0},{"$f":"Т!DW33","v":0},{"$f":"Т!DX33","v":0},{"$f":"Т!DY33","v":0},{"$f":"Т!DZ33","v":0},{"$f":"Т!EA33","v":0},{"$f":"Т!EB33","v":0},{"$f":"Т!EC33","v":0},{"$f":"Т!ED33","v":0},{"$f":"Т!EE33","v":0},{"$f":"Т!EF33","v":0},{"$f":"Т!EG33","v":0},{"$f":"Т!EH33","v":0},{"$f":"Т!EI33","v":0},{"$f":"Т!EJ33","v":0},{"$f":"Т!EK33","v":0},{"$f":"Т!EL33","v":0},{"$f":"Т!EM33","v":0},{"$f":"Т!EN33","v":0},{"$f":"Т!EO33","v":0},{"$f":"Т!EP33","v":0},{"$f":"Т!EQ33","v":0},null,null,null,null,null,null,null,null,{"$f":"Т!EZ33","v":0},{"$f":"Т!FA33","v":0},{"$f":"Т!FB33","v":0},{"$f":"Т!FC33","v":0},{"$f":"Т!FD33","v":0},{"$f":"Т!FE33","v":0},{"$f":"Т!FF33","v":0},{"$f":"Т!FG33","v":0},{"$f":"Т!FH33","v":0},{"$f":"Т!FI33","v":0},{"$f":"Т!FJ33","v":0},{"$f":"Т!FK33","v":0},{"$f":"Т!FL33","v":0},{"$f":"Т!FM33","v":0},{"$f":"Т!FN33","v":0},{"$f":"Т!FO33","v":0},{"$f":"Т!FP33","v":0},{"$f":"Т!FQ33","v":0},{"$f":"Т!FR33","v":0},{"$f":"Т!FS33","v":0},{"$f":"Т!FT33","v":0},{"$f":"Т!FU33","v":0},{"$f":"Т!FV33","v":0},{"$f":"Т!FW33","v":0},{"$f":"Т!FX33","v":0},{"$f":"Т!FY33","v":0},{"$f":"Т!FZ33","v":0},{"$f":"Т!GA33","v":0},{"$f":"Т!GB33","v":0},{"$f":"Т!GC33","v":0},{"$f":"Т!GD33","v":0},{"$f":"Т!GE33","v":0}]
[null,null,null,null,null,"6.3.2",null,null,null,"с НДС",null,null,null,null,null,null,null,null,null,null,null,null,null,null,null,null,null,null,null,null,null,null,null,null,null,null,null,null,null,null,null,null,null,null,null,null,null,{"$f":"Т!AV34","v":0},{"$f":"Т!AW34","v":0},{"$f":"Т!AX34","v":0},{"$f":"Т!AY34","v":0},{"$f":"Т!AZ34","v":0},{"$f":"Т!BA34","v":0},{"$f":"Т!BB34","v":0},{"$f":"Т!BC34","v":0},{"$f":"Т!BD34","v":0},{"$f":"Т!BE34","v":0},{"$f":"Т!BF34","v":0},{"$f":"Т!BG34","v":0},{"$f":"Т!BH34","v":0},{"$f":"Т!BI34","v":0},{"$f":"Т!BJ34","v":0},{"$f":"Т!BK34","v":0},{"$f":"Т!BL34","v":0},{"$f":"Т!BM34","v":0},{"$f":"Т!BN34","v":0},{"$f":"Т!BO34","v":0},{"$f":"Т!BP34","v":0},{"$f":"Т!BQ34","v":0},{"$f":"Т!BR34","v":0},{"$f":"Т!BS34","v":0},{"$f":"Т!BT34","v":0},{"$f":"Т!BU34","v":0},{"$f":"Т!BV34","v":0},{"$f":"Т!BW34","v":0},{"$f":"Т!BX34","v":0},{"$f":"Т!BY34","v":0},{"$f":"Т!BZ34","v":0},{"$f":"Т!CA34","v":0},{"$f":"Т!CB34","v":0},{"$f":"Т!CC34","v":0},{"$f":"Т!CD34","v":0},{"$f":"Т!CE34","v":0},{"$f":"Т!CF34","v":0},{"$f":"Т!CG34","v":0},{"$f":"Т!CH34","v":0},{"$f":"Т!CI34","v":0},{"$f":"Т!CJ34","v":0},{"$f":"Т!CK34","v":0},{"$f":"Т!CL34","v":0},{"$f":"Т!CM34","v":0},{"$f":"Т!CN34","v":0},{"$f":"Т!CO34","v":0},{"$f":"Т!CP34","v":0},{"$f":"Т!CQ34","v":0},{"$f":"Т!CR34","v":0},{"$f":"Т!CS34","v":0},{"$f":"Т!CT34","v":0},{"$f":"Т!CU34","v":0},{"$f":"Т!CV34","v":0},{"$f":"Т!CW34","v":0},{"$f":"Т!CX34","v":0},{"$f":"Т!CY34","v":0},{"$f":"Т!CZ34","v":0},{"$f":"Т!DA34","v":0},{"$f":"Т!DB34","v":0},{"$f":"Т!DC34","v":0},{"$f":"Т!DD34","v":0},{"$f":"Т!DE34","v":0},{"$f":"Т!DF34","v":0},{"$f":"Т!DG34","v":0},{"$f":"Т!DH34","v":0},{"$f":"Т!DI34","v":0},{"$f":"Т!DJ34","v":0},{"$f":"Т!DK34","v":0},{"$f":"Т!DL34","v":0},{"$f":"Т!DM34","v":0},{"$f":"Т!DN34","v":0},{"$f":"Т!DO34","v":0},{"$f":"Т!DP34","v":0},{"$f":"Т!DQ34","v":0},{"$f":"Т!DR34","v":0},{"$f":"Т!DS34","v":0},{"$f":"Т!DT34","v":0},{"$f":"Т!DU34","v":0},{"$f":"Т!DV34","v":0},{"$f":"Т!DW34","v":0},{"$f":"Т!DX34","v":0},{"$f":"Т!DY34","v":0},{"$f":"Т!DZ34","v":0},{"$f":"Т!EA34","v":0},{"$f":"Т!EB34","v":0},{"$f":"Т!EC34","v":0},{"$f":"Т!ED34","v":0},{"$f":"Т!EE34","v":0},{"$f":"Т!EF34","v":0},{"$f":"Т!EG34","v":0},{"$f":"Т!EH34","v":0},{"$f":"Т!EI34","v":0},{"$f":"Т!EJ34","v":0},{"$f":"Т!EK34","v":0},{"$f":"Т!EL34","v":0},{"$f":"Т!EM34","v":0},{"$f":"Т!EN34","v":0},{"$f":"Т!EO34","v":0},{"$f":"Т!EP34","v":0},{"$f":"Т!EQ34","v":0},null,null,null,null,null,null,null,null,{"$f":"Т!EZ34","v":0},{"$f":"Т!FA34","v":0},{"$f":"Т!FB34","v":0},{"$f":"Т!FC34","v":0},{"$f":"Т!FD34","v":0},{"$f":"Т!FE34","v":0},{"$f":"Т!FF34","v":0},{"$f":"Т!FG34","v":0},{"$f":"Т!FH34","v":0},{"$f":"Т!FI34","v":0},{"$f":"Т!FJ34","v":0},{"$f":"Т!FK34","v":0},{"$f":"Т!FL34","v":0},{"$f":"Т!FM34","v":0},{"$f":"Т!FN34","v":0},{"$f":"Т!FO34","v":0},{"$f":"Т!FP34","v":0},{"$f":"Т!FQ34","v":0},{"$f":"Т!FR34","v":0},{"$f":"Т!FS34","v":0},{"$f":"Т!FT34","v":0},{"$f":"Т!FU34","v":0},{"$f":"Т!FV34","v":0},{"$f":"Т!FW34","v":0},{"$f":"Т!FX34","v":0},{"$f":"Т!FY34","v":0},{"$f":"Т!FZ34","v":0},{"$f":"Т!GA34","v":0},{"$f":"Т!GB34","v":0},{"$f":"Т!GC34","v":0},{"$f":"Т!GD34","v":0},{"$f":"Т!GE34","v":0}]
[null,null,null,null,null,"7.1.1",null,"Транспортировка топлива иными видами перевозок","Тариф (цена за единицу) (руб./ед.изм.)","без НДС",null,null,null,null,null,null,null,null,null,null,null,null,null,null,null,null,null,null,null,null,null,null,null,null,null,null,null,null,null,null,null,null,null,null,null,null,null,{"$f":"Т!AV35","v":0},{"$f":"Т!AW35","v":0},{"$f":"Т!AX35","v":0},{"$f":"Т!AY35","v":0},{"$f":"Т!AZ35","v":0},{"$f":"Т!BA35","v":0},{"$f":"Т!BB35","v":0},{"$f":"Т!BC35","v":0},{"$f":"Т!BD35","v":0},{"$f":"Т!BE35","v":0},{"$f":"Т!BF35","v":0},{"$f":"Т!BG35","v":0},{"$f":"Т!BH35","v":0},{"$f":"Т!BI35","v":0},{"$f":"Т!BJ35","v":0},{"$f":"Т!BK35","v":0},{"$f":"Т!BL35","v":0},{"$f":"Т!BM35","v":0},{"$f":"Т!BN35","v":0},{"$f":"Т!BO35","v":0},{"$f":"Т!BP35","v":0},{"$f":"Т!BQ35","v":0},{"$f":"Т!BR35","v":0},{"$f":"Т!BS35","v":0},{"$f":"Т!BT35","v":0},{"$f":"Т!BU35","v":0},{"$f":"Т!BV35","v":0},{"$f":"Т!BW35","v":0},{"$f":"Т!BX35","v":0},{"$f":"Т!BY35","v":0},{"$f":"Т!BZ35","v":0},{"$f":"Т!CA35","v":0},{"$f":"Т!CB35","v":0},{"$f":"Т!CC35","v":0},{"$f":"Т!CD35","v":0},{"$f":"Т!CE35","v":0},{"$f":"Т!CF35","v":0},{"$f":"Т!CG35","v":0},{"$f":"Т!CH35","v":0},{"$f":"Т!CI35","v":0},{"$f":"Т!CJ35","v":0},{"$f":"Т!CK35","v":0},{"$f":"Т!CL35","v":0},{"$f":"Т!CM35","v":0},{"$f":"Т!CN35","v":0},{"$f":"Т!CO35","v":0},{"$f":"Т!CP35","v":0},{"$f":"Т!CQ35","v":0},{"$f":"Т!CR35","v":0},{"$f":"Т!CS35","v":0},{"$f":"Т!CT35","v":0},{"$f":"Т!CU35","v":0},{"$f":"Т!CV35","v":0},{"$f":"Т!CW35","v":0},{"$f":"Т!CX35","v":0},{"$f":"Т!CY35","v":0},{"$f":"Т!CZ35","v":0},{"$f":"Т!DA35","v":0},{"$f":"Т!DB35","v":0},{"$f":"Т!DC35","v":0},{"$f":"Т!DD35","v":0},{"$f":"Т!DE35","v":0},{"$f":"Т!DF35","v":0},{"$f":"Т!DG35","v":0},{"$f":"Т!DH35","v":0},{"$f":"Т!DI35","v":0},{"$f":"Т!DJ35","v":0},{"$f":"Т!DK35","v":0},{"$f":"Т!DL35","v":0},{"$f":"Т!DM35","v":0},{"$f":"Т!DN35","v":0},{"$f":"Т!DO35","v":0},{"$f":"Т!DP35","v":0},{"$f":"Т!DQ35","v":0},{"$f":"Т!DR35","v":0},{"$f":"Т!DS35","v":0},{"$f":"Т!DT35","v":0},{"$f":"Т!DU35","v":0},{"$f":"Т!DV35","v":0},{"$f":"Т!DW35","v":0},{"$f":"Т!DX35","v":0},{"$f":"Т!DY35","v":0},{"$f":"Т!DZ35","v":0},{"$f":"Т!EA35","v":0},{"$f":"Т!EB35","v":0},{"$f":"Т!EC35","v":0},{"$f":"Т!ED35","v":0},{"$f":"Т!EE35","v":0},{"$f":"Т!EF35","v":0},{"$f":"Т!EG35","v":0},{"$f":"Т!EH35","v":0},{"$f":"Т!EI35","v":0},{"$f":"Т!EJ35","v":0},{"$f":"Т!EK35","v":0},{"$f":"Т!EL35","v":0},{"$f":"Т!EM35","v":0},{"$f":"Т!EN35","v":0},{"$f":"Т!EO35","v":0},{"$f":"Т!EP35","v":0},{"$f":"Т!EQ35","v":0},null,null,null,null,null,null,null,null,{"$f":"Т!EZ35","v":0},{"$f":"Т!FA35","v":0},{"$f":"Т!FB35","v":0},{"$f":"Т!FC35","v":0},{"$f":"Т!FD35","v":0},{"$f":"Т!FE35","v":0},{"$f":"Т!FF35","v":0},{"$f":"Т!FG35","v":0},{"$f":"Т!FH35","v":0},{"$f":"Т!FI35","v":0},{"$f":"Т!FJ35","v":0},{"$f":"Т!FK35","v":0},{"$f":"Т!FL35","v":0},{"$f":"Т!FM35","v":0},{"$f":"Т!FN35","v":0},{"$f":"Т!FO35","v":0},{"$f":"Т!FP35","v":0},{"$f":"Т!FQ35","v":0},{"$f":"Т!FR35","v":0},{"$f":"Т!FS35","v":0},{"$f":"Т!FT35","v":0},{"$f":"Т!FU35","v":0},{"$f":"Т!FV35","v":0},{"$f":"Т!FW35","v":0},{"$f":"Т!FX35","v":0},{"$f":"Т!FY35","v":0},{"$f":"Т!FZ35","v":0},{"$f":"Т!GA35","v":0},{"$f":"Т!GB35","v":0},{"$f":"Т!GC35","v":0},{"$f":"Т!GD35","v":0},{"$f":"Т!GE35","v":0}]
[null,null,null,null,null,"7.1.2",null,null,null,"с НДС",null,null,null,null,null,null,null,null,null,null,null,null,null,null,null,null,null,null,null,null,null,null,null,null,null,null,null,null,null,null,null,null,null,null,null,null,null,{"$f":"Т!AV36","v":0},{"$f":"Т!AW36","v":0},{"$f":"Т!AX36","v":0},{"$f":"Т!AY36","v":0},{"$f":"Т!AZ36","v":0},{"$f":"Т!BA36","v":0},{"$f":"Т!BB36","v":0},{"$f":"Т!BC36","v":0},{"$f":"Т!BD36","v":0},{"$f":"Т!BE36","v":0},{"$f":"Т!BF36","v":0},{"$f":"Т!BG36","v":0},{"$f":"Т!BH36","v":0},{"$f":"Т!BI36","v":0},{"$f":"Т!BJ36","v":0},{"$f":"Т!BK36","v":0},{"$f":"Т!BL36","v":0},{"$f":"Т!BM36","v":0},{"$f":"Т!BN36","v":0},{"$f":"Т!BO36","v":0},{"$f":"Т!BP36","v":0},{"$f":"Т!BQ36","v":0},{"$f":"Т!BR36","v":0},{"$f":"Т!BS36","v":0},{"$f":"Т!BT36","v":0},{"$f":"Т!BU36","v":0},{"$f":"Т!BV36","v":0},{"$f":"Т!BW36","v":0},{"$f":"Т!BX36","v":0},{"$f":"Т!BY36","v":0},{"$f":"Т!BZ36","v":0},{"$f":"Т!CA36","v":0},{"$f":"Т!CB36","v":0},{"$f":"Т!CC36","v":0},{"$f":"Т!CD36","v":0},{"$f":"Т!CE36","v":0},{"$f":"Т!CF36","v":0},{"$f":"Т!CG36","v":0},{"$f":"Т!CH36","v":0},{"$f":"Т!CI36","v":0},{"$f":"Т!CJ36","v":0},{"$f":"Т!CK36","v":0},{"$f":"Т!CL36","v":0},{"$f":"Т!CM36","v":0},{"$f":"Т!CN36","v":0},{"$f":"Т!CO36","v":0},{"$f":"Т!CP36","v":0},{"$f":"Т!CQ36","v":0},{"$f":"Т!CR36","v":0},{"$f":"Т!CS36","v":0},{"$f":"Т!CT36","v":0},{"$f":"Т!CU36","v":0},{"$f":"Т!CV36","v":0},{"$f":"Т!CW36","v":0},{"$f":"Т!CX36","v":0},{"$f":"Т!CY36","v":0},{"$f":"Т!CZ36","v":0},{"$f":"Т!DA36","v":0},{"$f":"Т!DB36","v":0},{"$f":"Т!DC36","v":0},{"$f":"Т!DD36","v":0},{"$f":"Т!DE36","v":0},{"$f":"Т!DF36","v":0},{"$f":"Т!DG36","v":0},{"$f":"Т!DH36","v":0},{"$f":"Т!DI36","v":0},{"$f":"Т!DJ36","v":0},{"$f":"Т!DK36","v":0},{"$f":"Т!DL36","v":0},{"$f":"Т!DM36","v":0},{"$f":"Т!DN36","v":0},{"$f":"Т!DO36","v":0},{"$f":"Т!DP36","v":0},{"$f":"Т!DQ36","v":0},{"$f":"Т!DR36","v":0},{"$f":"Т!DS36","v":0},{"$f":"Т!DT36","v":0},{"$f":"Т!DU36","v":0},{"$f":"Т!DV36","v":0},{"$f":"Т!DW36","v":0},{"$f":"Т!DX36","v":0},{"$f":"Т!DY36","v":0},{"$f":"Т!DZ36","v":0},{"$f":"Т!EA36","v":0},{"$f":"Т!EB36","v":0},{"$f":"Т!EC36","v":0},{"$f":"Т!ED36","v":0},{"$f":"Т!EE36","v":0},{"$f":"Т!EF36","v":0},{"$f":"Т!EG36","v":0},{"$f":"Т!EH36","v":0},{"$f":"Т!EI36","v":0},{"$f":"Т!EJ36","v":0},{"$f":"Т!EK36","v":0},{"$f":"Т!EL36","v":0},{"$f":"Т!EM36","v":0},{"$f":"Т!EN36","v":0},{"$f":"Т!EO36","v":0},{"$f":"Т!EP36","v":0},{"$f":"Т!EQ36","v":0},null,null,null,null,null,null,null,null,{"$f":"Т!EZ36","v":0},{"$f":"Т!FA36","v":0},{"$f":"Т!FB36","v":0},{"$f":"Т!FC36","v":0},{"$f":"Т!FD36","v":0},{"$f":"Т!FE36","v":0},{"$f":"Т!FF36","v":0},{"$f":"Т!FG36","v":0},{"$f":"Т!FH36","v":0},{"$f":"Т!FI36","v":0},{"$f":"Т!FJ36","v":0},{"$f":"Т!FK36","v":0},{"$f":"Т!FL36","v":0},{"$f":"Т!FM36","v":0},{"$f":"Т!FN36","v":0},{"$f":"Т!FO36","v":0},{"$f":"Т!FP36","v":0},{"$f":"Т!FQ36","v":0},{"$f":"Т!FR36","v":0},{"$f":"Т!FS36","v":0},{"$f":"Т!FT36","v":0},{"$f":"Т!FU36","v":0},{"$f":"Т!FV36","v":0},{"$f":"Т!FW36","v":0},{"$f":"Т!FX36","v":0},{"$f":"Т!FY36","v":0},{"$f":"Т!FZ36","v":0},{"$f":"Т!GA36","v":0},{"$f":"Т!GB36","v":0},{"$f":"Т!GC36","v":0},{"$f":"Т!GD36","v":0},{"$f":"Т!GE36","v":0}]
[null,null,null,null,null,"7.2",null,null,"Объём топлива",null,null,null,null,null,null,null,null,null,null,null,null,null,null,null,null,null,null,null,null,null,null,null,null,null,null,null,null,null,null,null,null,null,null,null,null,null,null,{"$f":"Т!AV37","v":0},{"$f":"Т!AW37","v":0},{"$f":"Т!AX37","v":0},{"$f":"Т!AY37","v":0},{"$f":"Т!AZ37","v":0},{"$f":"Т!BA37","v":0},{"$f":"Т!BB37","v":0},{"$f":"Т!BC37","v":0},{"$f":"Т!BD37","v":0},{"$f":"Т!BE37","v":0},{"$f":"Т!BF37","v":0},{"$f":"Т!BG37","v":0},{"$f":"Т!BH37","v":0},{"$f":"Т!BI37","v":0},{"$f":"Т!BJ37","v":0},{"$f":"Т!BK37","v":0},{"$f":"Т!BL37","v":0},{"$f":"Т!BM37","v":0},{"$f":"Т!BN37","v":0},{"$f":"Т!BO37","v":0},{"$f":"Т!BP37","v":0},{"$f":"Т!BQ37","v":0},{"$f":"Т!BR37","v":0},{"$f":"Т!BS37","v":0},{"$f":"Т!BT37","v":0},{"$f":"Т!BU37","v":0},{"$f":"Т!BV37","v":0},{"$f":"Т!BW37","v":0},{"$f":"Т!BX37","v":0},{"$f":"Т!BY37","v":0},{"$f":"Т!BZ37","v":0},{"$f":"Т!CA37","v":0},{"$f":"Т!CB37","v":0},{"$f":"Т!CC37","v":0},{"$f":"Т!CD37","v":0},{"$f":"Т!CE37","v":0},{"$f":"Т!CF37","v":0},{"$f":"Т!CG37","v":0},{"$f":"Т!CH37","v":0},{"$f":"Т!CI37","v":0},{"$f":"Т!CJ37","v":0},{"$f":"Т!CK37","v":0},{"$f":"Т!CL37","v":0},{"$f":"Т!CM37","v":0},{"$f":"Т!CN37","v":0},{"$f":"Т!CO37","v":0},{"$f":"Т!CP37","v":0},{"$f":"Т!CQ37","v":0},{"$f":"Т!CR37","v":0},{"$f":"Т!CS37","v":0},{"$f":"Т!CT37","v":0},{"$f":"Т!CU37","v":0},{"$f":"Т!CV37","v":0},{"$f":"Т!CW37","v":0},{"$f":"Т!CX37","v":0},{"$f":"Т!CY37","v":0},{"$f":"Т!CZ37","v":0},{"$f":"Т!DA37","v":0},{"$f":"Т!DB37","v":0},{"$f":"Т!DC37","v":0},{"$f":"Т!DD37","v":0},{"$f":"Т!DE37","v":0},{"$f":"Т!DF37","v":0},{"$f":"Т!DG37","v":0},{"$f":"Т!DH37","v":0},{"$f":"Т!DI37","v":0},{"$f":"Т!DJ37","v":0},{"$f":"Т!DK37","v":0},{"$f":"Т!DL37","v":0},{"$f":"Т!DM37","v":0},{"$f":"Т!DN37","v":0},{"$f":"Т!DO37","v":0},{"$f":"Т!DP37","v":0},{"$f":"Т!DQ37","v":0},{"$f":"Т!DR37","v":0},{"$f":"Т!DS37","v":0},{"$f":"Т!DT37","v":0},{"$f":"Т!DU37","v":0},{"$f":"Т!DV37","v":0},{"$f":"Т!DW37","v":0},{"$f":"Т!DX37","v":0},{"$f":"Т!DY37","v":0},{"$f":"Т!DZ37","v":0},{"$f":"Т!EA37","v":0},{"$f":"Т!EB37","v":0},{"$f":"Т!EC37","v":0},{"$f":"Т!ED37","v":0},{"$f":"Т!EE37","v":0},{"$f":"Т!EF37","v":0},{"$f":"Т!EG37","v":0},{"$f":"Т!EH37","v":0},{"$f":"Т!EI37","v":0},{"$f":"Т!EJ37","v":0},{"$f":"Т!EK37","v":0},{"$f":"Т!EL37","v":0},{"$f":"Т!EM37","v":0},{"$f":"Т!EN37","v":0},{"$f":"Т!EO37","v":0},{"$f":"Т!EP37","v":0},{"$f":"Т!EQ37","v":0},null,null,null,null,null,null,null,null,{"$f":"Т!EZ37","v":0},{"$f":"Т!FA37","v":0},{"$f":"Т!FB37","v":0},{"$f":"Т!FC37","v":0},{"$f":"Т!FD37","v":0},{"$f":"Т!FE37","v":0},{"$f":"Т!FF37","v":0},{"$f":"Т!FG37","v":0},{"$f":"Т!FH37","v":0},{"$f":"Т!FI37","v":0},{"$f":"Т!FJ37","v":0},{"$f":"Т!FK37","v":0},{"$f":"Т!FL37","v":0},{"$f":"Т!FM37","v":0},{"$f":"Т!FN37","v":0},{"$f":"Т!FO37","v":0},{"$f":"Т!FP37","v":0},{"$f":"Т!FQ37","v":0},{"$f":"Т!FR37","v":0},{"$f":"Т!FS37","v":0},{"$f":"Т!FT37","v":0},{"$f":"Т!FU37","v":0},{"$f":"Т!FV37","v":0},{"$f":"Т!FW37","v":0},{"$f":"Т!FX37","v":0},{"$f":"Т!FY37","v":0},{"$f":"Т!FZ37","v":0},{"$f":"Т!GA37","v":0},{"$f":"Т!GB37","v":0},{"$f":"Т!GC37","v":0},{"$f":"Т!GD37","v":0},{"$f":"Т!GE37","v":0}]
[null,null,null,null,null,"7.3.1",null,null,"Затраты (тыс.руб.)","без НДС",null,null,null,null,null,null,null,null,null,null,null,null,null,null,null,null,null,null,null,null,null,null,null,null,null,null,null,null,null,null,null,null,null,null,null,null,null,{"$f":"Т!AV38","v":0},{"$f":"Т!AW38","v":0},{"$f":"Т!AX38","v":0},{"$f":"Т!AY38","v":0},{"$f":"Т!AZ38","v":0},{"$f":"Т!BA38","v":0},{"$f":"Т!BB38","v":0},{"$f":"Т!BC38","v":0},{"$f":"Т!BD38","v":0},{"$f":"Т!BE38","v":0},{"$f":"Т!BF38","v":0},{"$f":"Т!BG38","v":0},{"$f":"Т!BH38","v":0},{"$f":"Т!BI38","v":0},{"$f":"Т!BJ38","v":0},{"$f":"Т!BK38","v":0},{"$f":"Т!BL38","v":0},{"$f":"Т!BM38","v":0},{"$f":"Т!BN38","v":0},{"$f":"Т!BO38","v":0},{"$f":"Т!BP38","v":0},{"$f":"Т!BQ38","v":0},{"$f":"Т!BR38","v":0},{"$f":"Т!BS38","v":0},{"$f":"Т!BT38","v":0},{"$f":"Т!BU38","v":0},{"$f":"Т!BV38","v":0},{"$f":"Т!BW38","v":0},{"$f":"Т!BX38","v":0},{"$f":"Т!BY38","v":0},{"$f":"Т!BZ38","v":0},{"$f":"Т!CA38","v":0},{"$f":"Т!CB38","v":0},{"$f":"Т!CC38","v":0},{"$f":"Т!CD38","v":0},{"$f":"Т!CE38","v":0},{"$f":"Т!CF38","v":0},{"$f":"Т!CG38","v":0},{"$f":"Т!CH38","v":0},{"$f":"Т!CI38","v":0},{"$f":"Т!CJ38","v":0},{"$f":"Т!CK38","v":0},{"$f":"Т!CL38","v":0},{"$f":"Т!CM38","v":0},{"$f":"Т!CN38","v":0},{"$f":"Т!CO38","v":0},{"$f":"Т!CP38","v":0},{"$f":"Т!CQ38","v":0},{"$f":"Т!CR38","v":0},{"$f":"Т!CS38","v":0},{"$f":"Т!CT38","v":0},{"$f":"Т!CU38","v":0},{"$f":"Т!CV38","v":0},{"$f":"Т!CW38","v":0},{"$f":"Т!CX38","v":0},{"$f":"Т!CY38","v":0},{"$f":"Т!CZ38","v":0},{"$f":"Т!DA38","v":0},{"$f":"Т!DB38","v":0},{"$f":"Т!DC38","v":0},{"$f":"Т!DD38","v":0},{"$f":"Т!DE38","v":0},{"$f":"Т!DF38","v":0},{"$f":"Т!DG38","v":0},{"$f":"Т!DH38","v":0},{"$f":"Т!DI38","v":0},{"$f":"Т!DJ38","v":0},{"$f":"Т!DK38","v":0},{"$f":"Т!DL38","v":0},{"$f":"Т!DM38","v":0},{"$f":"Т!DN38","v":0},{"$f":"Т!DO38","v":0},{"$f":"Т!DP38","v":0},{"$f":"Т!DQ38","v":0},{"$f":"Т!DR38","v":0},{"$f":"Т!DS38","v":0},{"$f":"Т!DT38","v":0},{"$f":"Т!DU38","v":0},{"$f":"Т!DV38","v":0},{"$f":"Т!DW38","v":0},{"$f":"Т!DX38","v":0},{"$f":"Т!DY38","v":0},{"$f":"Т!DZ38","v":0},{"$f":"Т!EA38","v":0},{"$f":"Т!EB38","v":0},{"$f":"Т!EC38","v":0},{"$f":"Т!ED38","v":0},{"$f":"Т!EE38","v":0},{"$f":"Т!EF38","v":0},{"$f":"Т!EG38","v":0},{"$f":"Т!EH38","v":0},{"$f":"Т!EI38","v":0},{"$f":"Т!EJ38","v":0},{"$f":"Т!EK38","v":0},{"$f":"Т!EL38","v":0},{"$f":"Т!EM38","v":0},{"$f":"Т!EN38","v":0},{"$f":"Т!EO38","v":0},{"$f":"Т!EP38","v":0},{"$f":"Т!EQ38","v":0},null,null,null,null,null,null,null,null,{"$f":"Т!EZ38","v":0},{"$f":"Т!FA38","v":0},{"$f":"Т!FB38","v":0},{"$f":"Т!FC38","v":0},{"$f":"Т!FD38","v":0},{"$f":"Т!FE38","v":0},{"$f":"Т!FF38","v":0},{"$f":"Т!FG38","v":0},{"$f":"Т!FH38","v":0},{"$f":"Т!FI38","v":0},{"$f":"Т!FJ38","v":0},{"$f":"Т!FK38","v":0},{"$f":"Т!FL38","v":0},{"$f":"Т!FM38","v":0},{"$f":"Т!FN38","v":0},{"$f":"Т!FO38","v":0},{"$f":"Т!FP38","v":0},{"$f":"Т!FQ38","v":0},{"$f":"Т!FR38","v":0},{"$f":"Т!FS38","v":0},{"$f":"Т!FT38","v":0},{"$f":"Т!FU38","v":0},{"$f":"Т!FV38","v":0},{"$f":"Т!FW38","v":0},{"$f":"Т!FX38","v":0},{"$f":"Т!FY38","v":0},{"$f":"Т!FZ38","v":0},{"$f":"Т!GA38","v":0},{"$f":"Т!GB38","v":0},{"$f":"Т!GC38","v":0},{"$f":"Т!GD38","v":0},{"$f":"Т!GE38","v":0}]
[null,null,null,null,null,"7.3.2",null,null,null,"с НДС",null,null,null,null,null,null,null,null,null,null,null,null,null,null,null,null,null,null,null,null,null,null,null,null,null,null,null,null,null,null,null,null,null,null,null,null,null,{"$f":"Т!AV39","v":0},{"$f":"Т!AW39","v":0},{"$f":"Т!AX39","v":0},{"$f":"Т!AY39","v":0},{"$f":"Т!AZ39","v":0},{"$f":"Т!BA39","v":0},{"$f":"Т!BB39","v":0},{"$f":"Т!BC39","v":0},{"$f":"Т!BD39","v":0},{"$f":"Т!BE39","v":0},{"$f":"Т!BF39","v":0},{"$f":"Т!BG39","v":0},{"$f":"Т!BH39","v":0},{"$f":"Т!BI39","v":0},{"$f":"Т!BJ39","v":0},{"$f":"Т!BK39","v":0},{"$f":"Т!BL39","v":0},{"$f":"Т!BM39","v":0},{"$f":"Т!BN39","v":0},{"$f":"Т!BO39","v":0},{"$f":"Т!BP39","v":0},{"$f":"Т!BQ39","v":0},{"$f":"Т!BR39","v":0},{"$f":"Т!BS39","v":0},{"$f":"Т!BT39","v":0},{"$f":"Т!BU39","v":0},{"$f":"Т!BV39","v":0},{"$f":"Т!BW39","v":0},{"$f":"Т!BX39","v":0},{"$f":"Т!BY39","v":0},{"$f":"Т!BZ39","v":0},{"$f":"Т!CA39","v":0},{"$f":"Т!CB39","v":0},{"$f":"Т!CC39","v":0},{"$f":"Т!CD39","v":0},{"$f":"Т!CE39","v":0},{"$f":"Т!CF39","v":0},{"$f":"Т!CG39","v":0},{"$f":"Т!CH39","v":0},{"$f":"Т!CI39","v":0},{"$f":"Т!CJ39","v":0},{"$f":"Т!CK39","v":0},{"$f":"Т!CL39","v":0},{"$f":"Т!CM39","v":0},{"$f":"Т!CN39","v":0},{"$f":"Т!CO39","v":0},{"$f":"Т!CP39","v":0},{"$f":"Т!CQ39","v":0},{"$f":"Т!CR39","v":0},{"$f":"Т!CS39","v":0},{"$f":"Т!CT39","v":0},{"$f":"Т!CU39","v":0},{"$f":"Т!CV39","v":0},{"$f":"Т!CW39","v":0},{"$f":"Т!CX39","v":0},{"$f":"Т!CY39","v":0},{"$f":"Т!CZ39","v":0},{"$f":"Т!DA39","v":0},{"$f":"Т!DB39","v":0},{"$f":"Т!DC39","v":0},{"$f":"Т!DD39","v":0},{"$f":"Т!DE39","v":0},{"$f":"Т!DF39","v":0},{"$f":"Т!DG39","v":0},{"$f":"Т!DH39","v":0},{"$f":"Т!DI39","v":0},{"$f":"Т!DJ39","v":0},{"$f":"Т!DK39","v":0},{"$f":"Т!DL39","v":0},{"$f":"Т!DM39","v":0},{"$f":"Т!DN39","v":0},{"$f":"Т!DO39","v":0},{"$f":"Т!DP39","v":0},{"$f":"Т!DQ39","v":0},{"$f":"Т!DR39","v":0},{"$f":"Т!DS39","v":0},{"$f":"Т!DT39","v":0},{"$f":"Т!DU39","v":0},{"$f":"Т!DV39","v":0},{"$f":"Т!DW39","v":0},{"$f":"Т!DX39","v":0},{"$f":"Т!DY39","v":0},{"$f":"Т!DZ39","v":0},{"$f":"Т!EA39","v":0},{"$f":"Т!EB39","v":0},{"$f":"Т!EC39","v":0},{"$f":"Т!ED39","v":0},{"$f":"Т!EE39","v":0},{"$f":"Т!EF39","v":0},{"$f":"Т!EG39","v":0},{"$f":"Т!EH39","v":0},{"$f":"Т!EI39","v":0},{"$f":"Т!EJ39","v":0},{"$f":"Т!EK39","v":0},{"$f":"Т!EL39","v":0},{"$f":"Т!EM39","v":0},{"$f":"Т!EN39","v":0},{"$f":"Т!EO39","v":0},{"$f":"Т!EP39","v":0},{"$f":"Т!EQ39","v":0},null,null,null,null,null,null,null,null,{"$f":"Т!EZ39","v":0},{"$f":"Т!FA39","v":0},{"$f":"Т!FB39","v":0},{"$f":"Т!FC39","v":0},{"$f":"Т!FD39","v":0},{"$f":"Т!FE39","v":0},{"$f":"Т!FF39","v":0},{"$f":"Т!FG39","v":0},{"$f":"Т!FH39","v":0},{"$f":"Т!FI39","v":0},{"$f":"Т!FJ39","v":0},{"$f":"Т!FK39","v":0},{"$f":"Т!FL39","v":0},{"$f":"Т!FM39","v":0},{"$f":"Т!FN39","v":0},{"$f":"Т!FO39","v":0},{"$f":"Т!FP39","v":0},{"$f":"Т!FQ39","v":0},{"$f":"Т!FR39","v":0},{"$f":"Т!FS39","v":0},{"$f":"Т!FT39","v":0},{"$f":"Т!FU39","v":0},{"$f":"Т!FV39","v":0},{"$f":"Т!FW39","v":0},{"$f":"Т!FX39","v":0},{"$f":"Т!FY39","v":0},{"$f":"Т!FZ39","v":0},{"$f":"Т!GA39","v":0},{"$f":"Т!GB39","v":0},{"$f":"Т!GC39","v":0},{"$f":"Т!GD39","v":0},{"$f":"Т!GE39","v":0}]
[null,null,null,null,null,"8.1","Электроэнергия","Затраты, всего (тыс.руб.)",null,"без НДС",null,null,null,null,null,null,null,null,null,null,null,null,null,null,null,null,null,null,null,null,null,null,null,null,null,null,null,null,null,null,null,null,null,null,null,null,null,null,null,null,null,null,null,null,null,null,null,null,null,null,null,null,null,null,null,null,null,null,null,null,null,null,null,null,null,null,null,null,null,null,null,null,null,null,null,null,null,null,null,null,null,null,null,null,null,null,null,null,null,null,null,null,null,null,null,null,null,null,null,null,null,null,null,null,null,null,null,null,null,null,null,null,null,null,null,null,null,null,null,null,null,null,null,null,null,null,null,null,null,null,null,null,null,null,null,null,null,{"$f":"Т!ER40","v":0},{"$f":"Т!ES40","v":0},{"$f":"Т!ET40","v":0},{"$f":"Т!EU40","v":0},{"$f":"Т!EV40","v":0},{"$f":"Т!EW40","v":0},{"$f":"Т!EX40","v":0},{"$f":"Т!EY40","v":0}]
[null,null,null,null,null,"8.2",null,null,null,"с НДС",null,null,null,null,null,null,null,null,null,null,null,null,null,null,null,null,null,null,null,null,null,null,null,null,null,null,null,null,null,null,null,null,null,null,null,null,null,null,null,null,null,null,null,null,null,null,null,null,null,null,null,null,null,null,null,null,null,null,null,null,null,null,null,null,null,null,null,null,null,null,null,null,null,null,null,null,null,null,null,null,null,null,null,null,null,null,null,null,null,null,null,null,null,null,null,null,null,null,null,null,null,null,null,null,null,null,null,null,null,null,null,null,null,null,null,null,null,null,null,null,null,null,null,null,null,null,null,null,null,null,null,null,null,null,null,null,null,{"$f":"Т!ER41","v":0},{"$f":"Т!ES41","v":0},{"$f":"Т!ET41","v":0},{"$f":"Т!EU41","v":0},{"$f":"Т!EV41","v":0},{"$f":"Т!EW41","v":0},{"$f":"Т!EX41","v":0},{"$f":"Т!EY41","v":0}]
[null,null,null,null,null,"9",null,"Объём энергии / заявленной мощности",null,null,null,null,null,null,null,null,null,null,null,null,null,null,null,null,null,null,null,null,null,null,null,null,null,null,null,null,null,null,null,null,null,null,null,null,null,null,null,null,null,null,null,null,null,null,null,null,null,null,null,null,null,null,null,null,null,null,null,null,null,null,null,null,null,null,null,null,null,null,null,null,null,null,null,null,null,null,null,null,null,null,null,null,null,null,null,null,null,null,null,null,null,null,null,null,null,null,null,null,null,null,null,null,null,null,null,null,null,null,null,null,null,null,null,null,null,null,null,null,null,null,null,null,null,null,null,null,null,null,null,null,null,null,null,null,null,null,null,{"$f":"Т!ER42","v":0},{"$f":"Т!ES42","v":0},{"$f":"Т!ET42","v":0},{"$f":"Т!EU42","v":0},{"$f":"Т!EV42","v":0},{"$f":"Т!EW42","v":0},{"$f":"Т!EX42","v":0},{"$f":"Т!EY42","v":0}]
[null,null,null,null,null,"10.1",null,"Тариф на энергию / заявленную мощность (руб./кВт*ч / руб./кВт*мес)",null,"без НДС",null,null,null,null,null,null,null,null,null,null,null,null,null,null,null,null,null,null,null,null,null,null,null,null,null,null,null,null,null,null,null,null,null,null,null,null,null,null,null,null,null,null,null,null,null,null,null,null,null,null,null,null,null,null,null,null,null,null,null,null,null,null,null,null,null,null,null,null,null,null,null,null,null,null,null,null,null,null,null,null,null,null,null,null,null,null,null,null,null,null,null,null,null,null,null,null,null,null,null,null,null,null,null,null,null,null,null,null,null,null,null,null,null,null,null,null,null,null,null,null,null,null,null,null,null,null,null,null,null,null,null,null,null,null,null,null,null,{"$f":"Т!ER43","v":0},{"$f":"Т!ES43","v":0},{"$f":"Т!ET43","v":0},{"$f":"Т!EU43","v":0},{"$f":"Т!EV43","v":0},{"$f":"Т!EW43","v":0},{"$f":"Т!EX43","v":0},{"$f":"Т!EY43","v":0}]
[null,null,null,null,null,"10.2",null,null,null,"с НДС",null,null,null,null,null,null,null,null,null,null,null,null,null,null,null,null,null,null,null,null,null,null,null,null,null,null,null,null,null,null,null,null,null,null,null,null,null,null,null,null,null,null,null,null,null,null,null,null,null,null,null,null,null,null,null,null,null,null,null,null,null,null,null,null,null,null,null,null,null,null,null,null,null,null,null,null,null,null,null,null,null,null,null,null,null,null,null,null,null,null,null,null,null,null,null,null,null,null,null,null,null,null,null,null,null,null,null,null,null,null,null,null,null,null,null,null,null,null,null,null,null,null,null,null,null,null,null,null,null,null,null,null,null,null,null,null,null,{"$f":"Т!ER44","v":0},{"$f":"Т!ES44","v":0},{"$f":"Т!ET44","v":0},{"$f":"Т!EU44","v":0},{"$f":"Т!EV44","v":0},{"$f":"Т!EW44","v":0},{"$f":"Т!EX44","v":0},{"$f":"Т!EY44","v":0}]
[]
[null,null,null,null,null,{"$f":"\"Данные мониторинга принятых тарифных решений организаций теплоснабжения на \" & IF(god=\"\",\"Не определено\",god) & \" год (SUMMARY.BALANCE.CALC.TARIFF.WARM.2020YEAR)\"","v":"Данные мониторинга принятых тарифных решений организаций теплоснабжения на 2020 год (SUMMARY.BALANCE.CALC.TARIFF.WARM.2020YEAR)"},null,null,"Цена топлива (руб. / ед.изм.)",null,null,null,null,null,null,{"$f":"SUMIF(PLAN1X_AGGREGATE!$B$2:$B$44,P$3,PLAN1X_AGGREGATE!$C$2:$C$44)","v":5796.11},{"$f":"SUMIF(PLAN1X_AGGREGATE!$B$2:$B$44,Q$3,PLAN1X_AGGREGATE!$C$2:$C$44)","v":5796.11},{"$f":"SUMIF(PLAN1X_AGGREGATE!$B$2:$B$44,R$3,PLAN1X_AGGREGATE!$C$2:$C$44)","v":5796.11},{"$f":"SUMIF(PLAN1X_AGGREGATE!$B$2:$B$44,S$3,PLAN1X_AGGREGATE!$C$2:$C$44)","v":5796.11},{"$f":"SUMIF(PLAN1X_AGGREGATE!$B$2:$B$44,T$3,PLAN1X_AGGREGATE!$C$2:$C$44)","v":5935.61},{"$f":"SUMIF(PLAN1X_AGGREGATE!$B$2:$B$44,U$3,PLAN1X_AGGREGATE!$C$2:$C$44)","v":5935.61},{"$f":"SUMIF(PLAN1X_AGGREGATE!$B$2:$B$44,V$3,PLAN1X_AGGREGATE!$C$2:$C$44)","v":5935.61},{"$f":"SUMIF(PLAN1X_AGGREGATE!$B$2:$B$44,W$3,PLAN1X_AGGREGATE!$C$2:$C$44)","v":5935.61},{"$f":"SUMIF(PLAN1X_AGGREGATE!$B$2:$B$44,X$3,PLAN1X_AGGREGATE!$C$2:$C$44)","v":6302.16},{"$f":"SUMIF(PLAN1X_AGGREGATE!$B$2:$B$44,Y$3,PLAN1X_AGGREGATE!$C$2:$C$44)","v":6302.16},{"$f":"SUMIF(PLAN1X_AGGREGATE!$B$2:$B$44,Z$3,PLAN1X_AGGREGATE!$C$2:$C$44)","v":6302.16},{"$f":"SUMIF(PLAN1X_AGGREGATE!$B$2:$B$44,AA$3,PLAN1X_AGGREGATE!$C$2:$C$44)","v":6302.16},{"$f":"SUMIF(PLAN1X_AGGREGATE!$B$2:$B$44,AB$3,PLAN1X_AGGREGATE!$C$2:$C$44)","v":5176.93},{"$f":"SUMIF(PLAN1X_AGGREGATE!$B$2:$B$44,AC$3,PLAN1X_AGGREGATE!$C$2:$C$44)","v":5176.93},{"$f":"SUMIF(PLAN1X_AGGREGATE!$B$2:$B$44,AD$3,PLAN1X_AGGREGATE!$C$2:$C$44)","v":5176.93},{"$f":"SUMIF(PLAN1X_AGGREGATE!$B$2:$B$44,AE$3,PLAN1X_AGGREGATE!$C$2:$C$44)","v":5176.93},{"$f":"SUMIF(PLAN1X_AGGREGATE!$B$2:$B$44,AF$3,PLAN1X_AGGREGATE!$C$2:$C$44)","v":0},{"$f":"SUMIF(PLAN1X_AGGREGATE!$B$2:$B$44,AG$3,PLAN1X_AGGREGATE!$C$2:$C$44)","v":0},{"$f":"SUMIF(PLAN1X_AGGREGATE!$B$2:$B$44,AH$3,PLAN1X_AGGREGATE!$C$2:$C$44)","v":0},{"$f":"SUMIF(PLAN1X_AGGREGATE!$B$2:$B$44,AI$3,PLAN1X_AGGREGATE!$C$2:$C$44)","v":0},{"$f":"SUMIF(PLAN1X_AGGREGATE!$B$2:$B$44,AJ$3,PLAN1X_AGGREGATE!$C$2:$C$44)","v":0},{"$f":"SUMIF(PLAN1X_AGGREGATE!$B$2:$B$44,AK$3,PLAN1X_AGGREGATE!$C$2:$C$44)","v":0},{"$f":"SUMIF(PLAN1X_AGGREGATE!$B$2:$B$44,AL$3,PLAN1X_AGGREGATE!$C$2:$C$44)","v":0},{"$f":"SUMIF(PLAN1X_AGGREGATE!$B$2:$B$44,AM$3,PLAN1X_AGGREGATE!$C$2:$C$44)","v":0},{"$f":"SUMIF(PLAN1X_AGGREGATE!$B$2:$B$44,AN$3,PLAN1X_AGGREGATE!$C$2:$C$44)","v":0},{"$f":"SUMIF(PLAN1X_AGGREGATE!$B$2:$B$44,AO$3,PLAN1X_AGGREGATE!$C$2:$C$44)","v":0},{"$f":"SUMIF(PLAN1X_AGGREGATE!$B$2:$B$44,AP$3,PLAN1X_AGGREGATE!$C$2:$C$44)","v":0},{"$f":"SUMIF(PLAN1X_AGGREGATE!$B$2:$B$44,AQ$3,PLAN1X_AGGREGATE!$C$2:$C$44)","v":0},{"$f":"SUMIF(PLAN1X_AGGREGATE!$B$2:$B$44,AR$3,PLAN1X_AGGREGATE!$C$2:$C$44)","v":0},{"$f":"SUMIF(PLAN1X_AGGREGATE!$B$2:$B$44,AS$3,PLAN1X_AGGREGATE!$C$2:$C$44)","v":0},{"$f":"SUMIF(PLAN1X_AGGREGATE!$B$2:$B$44,AT$3,PLAN1X_AGGREGATE!$C$2:$C$44)","v":0},{"$f":"SUMIF(PLAN1X_AGGREGATE!$B$2:$B$44,AU$3,PLAN1X_AGGREGATE!$C$2:$C$44)","v":0},{"$f":"SUMIF(PLAN1X_AGGREGATE!$B$2:$B$44,AV$3,PLAN1X_AGGREGATE!$C$2:$C$44)","v":0},{"$f":"SUMIF(PLAN1X_AGGREGATE!$B$2:$B$44,AW$3,PLAN1X_AGGREGATE!$C$2:$C$44)","v":0},{"$f":"SUMIF(PLAN1X_AGGREGATE!$B$2:$B$44,AX$3,PLAN1X_AGGREGATE!$C$2:$C$44)","v":0},{"$f":"SUMIF(PLAN1X_AGGREGATE!$B$2:$B$44,AY$3,PLAN1X_AGGREGATE!$C$2:$C$44)","v":0},{"$f":"SUMIF(PLAN1X_AGGREGATE!$B$2:$B$44,AZ$3,PLAN1X_AGGREGATE!$C$2:$C$44)","v":0},{"$f":"SUMIF(PLAN1X_AGGREGATE!$B$2:$B$44,BA$3,PLAN1X_AGGREGATE!$C$2:$C$44)","v":0},{"$f":"SUMIF(PLAN1X_AGGREGATE!$B$2:$B$44,BB$3,PLAN1X_AGGREGATE!$C$2:$C$44)","v":0},{"$f":"SUMIF(PLAN1X_AGGREGATE!$B$2:$B$44,BC$3,PLAN1X_AGGREGATE!$C$2:$C$44)","v":0},{"$f":"SUMIF(PLAN1X_AGGREGATE!$B$2:$B$44,BD$3,PLAN1X_AGGREGATE!$C$2:$C$44)","v":0},{"$f":"SUMIF(PLAN1X_AGGREGATE!$B$2:$B$44,BE$3,PLAN1X_AGGREGATE!$C$2:$C$44)","v":0},{"$f":"SUMIF(PLAN1X_AGGREGATE!$B$2:$B$44,BF$3,PLAN1X_AGGREGATE!$C$2:$C$44)","v":0},{"$f":"SUMIF(PLAN1X_AGGREGATE!$B$2:$B$44,BG$3,PLAN1X_AGGREGATE!$C$2:$C$44)","v":0},{"$f":"SUMIF(PLAN1X_AGGREGATE!$B$2:$B$44,BH$3,PLAN1X_AGGREGATE!$C$2:$C$44)","v":0},{"$f":"SUMIF(PLAN1X_AGGREGATE!$B$2:$B$44,BI$3,PLAN1X_AGGREGATE!$C$2:$C$44)","v":0},{"$f":"SUMIF(PLAN1X_AGGREGATE!$B$2:$B$44,BJ$3,PLAN1X_AGGREGATE!$C$2:$C$44)","v":0},{"$f":"SUMIF(PLAN1X_AGGREGATE!$B$2:$B$44,BK$3,PLAN1X_AGGREGATE!$C$2:$C$44)","v":0},{"$f":"SUMIF(PLAN1X_AGGREGATE!$B$2:$B$44,BL$3,PLAN1X_AGGREGATE!$C$2:$C$44)","v":0},{"$f":"SUMIF(PLAN1X_AGGREGATE!$B$2:$B$44,BM$3,PLAN1X_AGGREGATE!$C$2:$C$44)","v":0},{"$f":"SUMIF(PLAN1X_AGGREGATE!$B$2:$B$44,BN$3,PLAN1X_AGGREGATE!$C$2:$C$44)","v":0},{"$f":"SUMIF(PLAN1X_AGGREGATE!$B$2:$B$44,BO$3,PLAN1X_AGGREGATE!$C$2:$C$44)","v":0},{"$f":"SUMIF(PLAN1X_AGGREGATE!$B$2:$B$44,BP$3,PLAN1X_AGGREGATE!$C$2:$C$44)","v":0},{"$f":"SUMIF(PLAN1X_AGGREGATE!$B$2:$B$44,BQ$3,PLAN1X_AGGREGATE!$C$2:$C$44)","v":0},{"$f":"SUMIF(PLAN1X_AGGREGATE!$B$2:$B$44,BR$3,PLAN1X_AGGREGATE!$C$2:$C$44)","v":0},{"$f":"SUMIF(PLAN1X_AGGREGATE!$B$2:$B$44,BS$3,PLAN1X_AGGREGATE!$C$2:$C$44)","v":0},{"$f":"SUMIF(PLAN1X_AGGREGATE!$B$2:$B$44,BT$3,PLAN1X_AGGREGATE!$C$2:$C$44)","v":0},{"$f":"SUMIF(PLAN1X_AGGREGATE!$B$2:$B$44,BU$3,PLAN1X_AGGREGATE!$C$2:$C$44)","v":0},{"$f":"SUMIF(PLAN1X_AGGREGATE!$B$2:$B$44,BV$3,PLAN1X_AGGREGATE!$C$2:$C$44)","v":0},{"$f":"SUMIF(PLAN1X_AGGREGATE!$B$2:$B$44,BW$3,PLAN1X_AGGREGATE!$C$2:$C$44)","v":0},{"$f":"SUMIF(PLAN1X_AGGREGATE!$B$2:$B$44,BX$3,PLAN1X_AGGREGATE!$C$2:$C$44)","v":13727.54},{"$f":"SUMIF(PLAN1X_AGGREGATE!$B$2:$B$44,BY$3,PLAN1X_AGGREGATE!$C$2:$C$44)","v":13727.54},{"$f":"SUMIF(PLAN1X_AGGREGATE!$B$2:$B$44,BZ$3,PLAN1X_AGGREGATE!$C$2:$C$44)","v":13727.54},{"$f":"SUMIF(PLAN1X_AGGREGATE!$B$2:$B$44,CA$3,PLAN1X_AGGREGATE!$C$2:$C$44)","v":13727.54},{"$f":"SUMIF(PLAN1X_AGGREGATE!$B$2:$B$44,CB$3,PLAN1X_AGGREGATE!$C$2:$C$44)","v":0},{"$f":"SUMIF(PLAN1X_AGGREGATE!$B$2:$B$44,CC$3,PLAN1X_AGGREGATE!$C$2:$C$44)","v":0},{"$f":"SUMIF(PLAN1X_AGGREGATE!$B$2:$B$44,CD$3,PLAN1X_AGGREGATE!$C$2:$C$44)","v":0},{"$f":"SUMIF(PLAN1X_AGGREGATE!$B$2:$B$44,CE$3,PLAN1X_AGGREGATE!$C$2:$C$44)","v":0},{"$f":"SUMIF(PLAN1X_AGGREGATE!$B$2:$B$44,CF$3,PLAN1X_AGGREGATE!$C$2:$C$44)","v":13727.54},{"$f":"SUMIF(PLAN1X_AGGREGATE!$B$2:$B$44,CG$3,PLAN1X_AGGREGATE!$C$2:$C$44)","v":13727.54},{"$f":"SUMIF(PLAN1X_AGGREGATE!$B$2:$B$44,CH$3,PLAN1X_AGGREGATE!$C$2:$C$44)","v":13727.54},{"$f":"SUMIF(PLAN1X_AGGREGATE!$B$2:$B$44,CI$3,PLAN1X_AGGREGATE!$C$2:$C$44)","v":13727.54},{"$f":"SUMIF(PLAN1X_AGGREGATE!$B$2:$B$44,CJ$3,PLAN1X_AGGREGATE!$C$2:$C$44)","v":0},{"$f":"SUMIF(PLAN1X_AGGREGATE!$B$2:$B$44,CK$3,PLAN1X_AGGREGATE!$C$2:$C$44)","v":0},{"$f":"SUMIF(PLAN1X_AGGREGATE!$B$2:$B$44,CL$3,PLAN1X_AGGREGATE!$C$2:$C$44)","v":0},{"$f":"SUMIF(PLAN1X_AGGREGATE!$B$2:$B$44,CM$3,PLAN1X_AGGREGATE!$C$2:$C$44)","v":0},{"$f":"SUMIF(PLAN1X_AGGREGATE!$B$2:$B$44,CN$3,PLAN1X_AGGREGATE!$C$2:$C$44)","v":0},{"$f":"SUMIF(PLAN1X_AGGREGATE!$B$2:$B$44,CO$3,PLAN1X_AGGREGATE!$C$2:$C$44)","v":0},{"$f":"SUMIF(PLAN1X_AGGREGATE!$B$2:$B$44,CP$3,PLAN1X_AGGREGATE!$C$2:$C$44)","v":0},{"$f":"SUMIF(PLAN1X_AGGREGATE!$B$2:$B$44,CQ$3,PLAN1X_AGGREGATE!$C$2:$C$44)","v":0},{"$f":"SUMIF(PLAN1X_AGGREGATE!$B$2:$B$44,CR$3,PLAN1X_AGGREGATE!$C$2:$C$44)","v":0},{"$f":"SUMIF(PLAN1X_AGGREGATE!$B$2:$B$44,CS$3,PLAN1X_AGGREGATE!$C$2:$C$44)","v":0},{"$f":"SUMIF(PLAN1X_AGGREGATE!$B$2:$B$44,CT$3,PLAN1X_AGGREGATE!$C$2:$C$44)","v":0},{"$f":"SUMIF(PLAN1X_AGGREGATE!$B$2:$B$44,CU$3,PLAN1X_AGGREGATE!$C$2:$C$44)","v":0},{"$f":"SUMIF(PLAN1X_AGGREGATE!$B$2:$B$44,CV$3,PLAN1X_AGGREGATE!$C$2:$C$44)","v":0},{"$f":"SUMIF(PLAN1X_AGGREGATE!$B$2:$B$44,CW$3,PLAN1X_AGGREGATE!$C$2:$C$44)","v":0},{"$f":"SUMIF(PLAN1X_AGGREGATE!$B$2:$B$44,CX$3,PLAN1X_AGGREGATE!$C$2:$C$44)","v":0},{"$f":"SUMIF(PLAN1X_AGGREGATE!$B$2:$B$44,CY$3,PLAN1X_AGGREGATE!$C$2:$C$44)","v":0},{"$f":"SUMIF(PLAN1X_AGGREGATE!$B$2:$B$44,CZ$3,PLAN1X_AGGREGATE!$C$2:$C$44)","v":0},{"$f":"SUMIF(PLAN1X_AGGREGATE!$B$2:$B$44,DA$3,PLAN1X_AGGREGATE!$C$2:$C$44)","v":0},{"$f":"SUMIF(PLAN1X_AGGREGATE!$B$2:$B$44,DB$3,PLAN1X_AGGREGATE!$C$2:$C$44)","v":0},{"$f":"SUMIF(PLAN1X_AGGREGATE!$B$2:$B$44,DC$3,PLAN1X_AGGREGATE!$C$2:$C$44)","v":0},{"$f":"SUMIF(PLAN1X_AGGREGATE!$B$2:$B$44,DD$3,PLAN1X_AGGREGATE!$C$2:$C$44)","v":0},{"$f":"SUMIF(PLAN1X_AGGREGATE!$B$2:$B$44,DE$3,PLAN1X_AGGREGATE!$C$2:$C$44)","v":0},{"$f":"SUMIF(PLAN1X_AGGREGATE!$B$2:$B$44,DF$3,PLAN1X_AGGREGATE!$C$2:$C$44)","v":0},{"$f":"SUMIF(PLAN1X_AGGREGATE!$B$2:$B$44,DG$3,PLAN1X_AGGREGATE!$C$2:$C$44)","v":0},{"$f":"SUMIF(PLAN1X_AGGREGATE!$B$2:$B$44,DH$3,PLAN1X_AGGREGATE!$C$2:$C$44)","v":0},{"$f":"SUMIF(PLAN1X_AGGREGATE!$B$2:$B$44,DI$3,PLAN1X_AGGREGATE!$C$2:$C$44)","v":0},{"$f":"SUMIF(PLAN1X_AGGREGATE!$B$2:$B$44,DJ$3,PLAN1X_AGGREGATE!$C$2:$C$44)","v":0},{"$f":"SUMIF(PLAN1X_AGGREGATE!$B$2:$B$44,DK$3,PLAN1X_AGGREGATE!$C$2:$C$44)","v":0},{"$f":"SUMIF(PLAN1X_AGGREGATE!$B$2:$B$44,DL$3,PLAN1X_AGGREGATE!$C$2:$C$44)","v":0},{"$f":"SUMIF(PLAN1X_AGGREGATE!$B$2:$B$44,DM$3,PLAN1X_AGGREGATE!$C$2:$C$44)","v":0},{"$f":"SUMIF(PLAN1X_AGGREGATE!$B$2:$B$44,DN$3,PLAN1X_AGGREGATE!$C$2:$C$44)","v":0},{"$f":"SUMIF(PLAN1X_AGGREGATE!$B$2:$B$44,DO$3,PLAN1X_AGGREGATE!$C$2:$C$44)","v":0},{"$f":"SUMIF(PLAN1X_AGGREGATE!$B$2:$B$44,DP$3,PLAN1X_AGGREGATE!$C$2:$C$44)","v":0},{"$f":"SUMIF(PLAN1X_AGGREGATE!$B$2:$B$44,DQ$3,PLAN1X_AGGREGATE!$C$2:$C$44)","v":0},{"$f":"SUMIF(PLAN1X_AGGREGATE!$B$2:$B$44,DR$3,PLAN1X_AGGREGATE!$C$2:$C$44)","v":0},{"$f":"SUMIF(PLAN1X_AGGREGATE!$B$2:$B$44,DS$3,PLAN1X_AGGREGATE!$C$2:$C$44)","v":0},{"$f":"SUMIF(PLAN1X_AGGREGATE!$B$2:$B$44,DT$3,PLAN1X_AGGREGATE!$C$2:$C$44)","v":0},{"$f":"SUMIF(PLAN1X_AGGREGATE!$B$2:$B$44,DU$3,PLAN1X_AGGREGATE!$C$2:$C$44)","v":0},{"$f":"SUMIF(PLAN1X_AGGREGATE!$B$2:$B$44,DV$3,PLAN1X_AGGREGATE!$C$2:$C$44)","v":0},{"$f":"SUMIF(PLAN1X_AGGREGATE!$B$2:$B$44,DW$3,PLAN1X_AGGREGATE!$C$2:$C$44)","v":0},{"$f":"SUMIF(PLAN1X_AGGREGATE!$B$2:$B$44,DX$3,PLAN1X_AGGREGATE!$C$2:$C$44)","v":0},{"$f":"SUMIF(PLAN1X_AGGREGATE!$B$2:$B$44,DY$3,PLAN1X_AGGREGATE!$C$2:$C$44)","v":0},{"$f":"SUMIF(PLAN1X_AGGREGATE!$B$2:$B$44,DZ$3,PLAN1X_AGGREGATE!$C$2:$C$44)","v":0},{"$f":"SUMIF(PLAN1X_AGGREGATE!$B$2:$B$44,EA$3,PLAN1X_AGGREGATE!$C$2:$C$44)","v":0},{"$f":"SUMIF(PLAN1X_AGGREGATE!$B$2:$B$44,EB$3,PLAN1X_AGGREGATE!$C$2:$C$44)","v":0},{"$f":"SUMIF(PLAN1X_AGGREGATE!$B$2:$B$44,EC$3,PLAN1X_AGGREGATE!$C$2:$C$44)","v":0},{"$f":"SUMIF(PLAN1X_AGGREGATE!$B$2:$B$44,ED$3,PLAN1X_AGGREGATE!$C$2:$C$44)","v":0},{"$f":"SUMIF(PLAN1X_AGGREGATE!$B$2:$B$44,EE$3,PLAN1X_AGGREGATE!$C$2:$C$44)","v":0},{"$f":"SUMIF(PLAN1X_AGGREGATE!$B$2:$B$44,EF$3,PLAN1X_AGGREGATE!$C$2:$C$44)","v":0},{"$f":"SUMIF(PLAN1X_AGGREGATE!$B$2:$B$44,EG$3,PLAN1X_AGGREGATE!$C$2:$C$44)","v":0},{"$f":"SUMIF(PLAN1X_AGGREGATE!$B$2:$B$44,EH$3,PLAN1X_AGGREGATE!$C$2:$C$44)","v":0},{"$f":"SUMIF(PLAN1X_AGGREGATE!$B$2:$B$44,EI$3,PLAN1X_AGGREGATE!$C$2:$C$44)","v":0},{"$f":"SUMIF(PLAN1X_AGGREGATE!$B$2:$B$44,EJ$3,PLAN1X_AGGREGATE!$C$2:$C$44)","v":0},{"$f":"SUMIF(PLAN1X_AGGREGATE!$B$2:$B$44,EK$3,PLAN1X_AGGREGATE!$C$2:$C$44)","v":0},{"$f":"SUMIF(PLAN1X_AGGREGATE!$B$2:$B$44,EL$3,PLAN1X_AGGREGATE!$C$2:$C$44)","v":0},{"$f":"SUMIF(PLAN1X_AGGREGATE!$B$2:$B$44,EM$3,PLAN1X_AGGREGATE!$C$2:$C$44)","v":0},{"$f":"SUMIF(PLAN1X_AGGREGATE!$B$2:$B$44,EN$3,PLAN1X_AGGREGATE!$C$2:$C$44)","v":0},{"$f":"SUMIF(PLAN1X_AGGREGATE!$B$2:$B$44,EO$3,PLAN1X_AGGREGATE!$C$2:$C$44)","v":0},{"$f":"SUMIF(PLAN1X_AGGREGATE!$B$2:$B$44,EP$3,PLAN1X_AGGREGATE!$C$2:$C$44)","v":0},{"$f":"SUMIF(PLAN1X_AGGREGATE!$B$2:$B$44,EQ$3,PLAN1X_AGGREGATE!$C$2:$C$44)","v":0},{"$f":"SUMIF(PLAN1X_AGGREGATE!$B$2:$B$44,ER$3,PLAN1X_AGGREGATE!$C$2:$C$44)","v":0},{"$f":"SUMIF(PLAN1X_AGGREGATE!$B$2:$B$44,ES$3,PLAN1X_AGGREGATE!$C$2:$C$44)","v":0},{"$f":"SUMIF(PLAN1X_AGGREGATE!$B$2:$B$44,ET$3,PLAN1X_AGGREGATE!$C$2:$C$44)","v":0},{"$f":"SUMIF(PLAN1X_AGGREGATE!$B$2:$B$44,EU$3,PLAN1X_AGGREGATE!$C$2:$C$44)","v":0},{"$f":"SUMIF(PLAN1X_AGGREGATE!$B$2:$B$44,EV$3,PLAN1X_AGGREGATE!$C$2:$C$44)","v":0},{"$f":"SUMIF(PLAN1X_AGGREGATE!$B$2:$B$44,EW$3,PLAN1X_AGGREGATE!$C$2:$C$44)","v":0},{"$f":"SUMIF(PLAN1X_AGGREGATE!$B$2:$B$44,EX$3,PLAN1X_AGGREGATE!$C$2:$C$44)","v":0},{"$f":"SUMIF(PLAN1X_AGGREGATE!$B$2:$B$44,EY$3,PLAN1X_AGGREGATE!$C$2:$C$44)","v":0},{"$f":"SUMIF(PLAN1X_AGGREGATE!$B$2:$B$44,EZ$3,PLAN1X_AGGREGATE!$C$2:$C$44)","v":0},{"$f":"SUMIF(PLAN1X_AGGREGATE!$B$2:$B$44,FA$3,PLAN1X_AGGREGATE!$C$2:$C$44)","v":0},{"$f":"SUMIF(PLAN1X_AGGREGATE!$B$2:$B$44,FB$3,PLAN1X_AGGREGATE!$C$2:$C$44)","v":0},{"$f":"SUMIF(PLAN1X_AGGREGATE!$B$2:$B$44,FC$3,PLAN1X_AGGREGATE!$C$2:$C$44)","v":0},{"$f":"SUMIF(PLAN1X_AGGREGATE!$B$2:$B$44,FD$3,PLAN1X_AGGREGATE!$C$2:$C$44)","v":0},{"$f":"SUMIF(PLAN1X_AGGREGATE!$B$2:$B$44,FE$3,PLAN1X_AGGREGATE!$C$2:$C$44)","v":0},{"$f":"SUMIF(PLAN1X_AGGREGATE!$B$2:$B$44,FF$3,PLAN1X_AGGREGATE!$C$2:$C$44)","v":0},{"$f":"SUMIF(PLAN1X_AGGREGATE!$B$2:$B$44,FG$3,PLAN1X_AGGREGATE!$C$2:$C$44)","v":0},{"$f":"SUMIF(PLAN1X_AGGREGATE!$B$2:$B$44,FH$3,PLAN1X_AGGREGATE!$C$2:$C$44)","v":0},{"$f":"SUMIF(PLAN1X_AGGREGATE!$B$2:$B$44,FI$3,PLAN1X_AGGREGATE!$C$2:$C$44)","v":0},{"$f":"SUMIF(PLAN1X_AGGREGATE!$B$2:$B$44,FJ$3,PLAN1X_AGGREGATE!$C$2:$C$44)","v":0},{"$f":"SUMIF(PLAN1X_AGGREGATE!$B$2:$B$44,FK$3,PLAN1X_AGGREGATE!$C$2:$C$44)","v":0},{"$f":"SUMIF(PLAN1X_AGGREGATE!$B$2:$B$44,FL$3,PLAN1X_AGGREGATE!$C$2:$C$44)","v":0},{"$f":"SUMIF(PLAN1X_AGGREGATE!$B$2:$B$44,FM$3,PLAN1X_AGGREGATE!$C$2:$C$44)","v":0},{"$f":"SUMIF(PLAN1X_AGGREGATE!$B$2:$B$44,FN$3,PLAN1X_AGGREGATE!$C$2:$C$44)","v":0},{"$f":"SUMIF(PLAN1X_AGGREGATE!$B$2:$B$44,FO$3,PLAN1X_AGGREGATE!$C$2:$C$44)","v":0},{"$f":"SUMIF(PLAN1X_AGGREGATE!$B$2:$B$44,FP$3,PLAN1X_AGGREGATE!$C$2:$C$44)","v":0},{"$f":"SUMIF(PLAN1X_AGGREGATE!$B$2:$B$44,FQ$3,PLAN1X_AGGREGATE!$C$2:$C$44)","v":0},{"$f":"SUMIF(PLAN1X_AGGREGATE!$B$2:$B$44,FR$3,PLAN1X_AGGREGATE!$C$2:$C$44)","v":0},{"$f":"SUMIF(PLAN1X_AGGREGATE!$B$2:$B$44,FS$3,PLAN1X_AGGREGATE!$C$2:$C$44)","v":0},{"$f":"SUMIF(PLAN1X_AGGREGATE!$B$2:$B$44,FT$3,PLAN1X_AGGREGATE!$C$2:$C$44)","v":0},{"$f":"SUMIF(PLAN1X_AGGREGATE!$B$2:$B$44,FU$3,PLAN1X_AGGREGATE!$C$2:$C$44)","v":0},{"$f":"SUMIF(PLAN1X_AGGREGATE!$B$2:$B$44,FV$3,PLAN1X_AGGREGATE!$C$2:$C$44)","v":0},{"$f":"SUMIF(PLAN1X_AGGREGATE!$B$2:$B$44,FW$3,PLAN1X_AGGREGATE!$C$2:$C$44)","v":0},{"$f":"SUMIF(PLAN1X_AGGREGATE!$B$2:$B$44,FX$3,PLAN1X_AGGREGATE!$C$2:$C$44)","v":0},{"$f":"SUMIF(PLAN1X_AGGREGATE!$B$2:$B$44,FY$3,PLAN1X_AGGREGATE!$C$2:$C$44)","v":0},{"$f":"SUMIF(PLAN1X_AGGREGATE!$B$2:$B$44,FZ$3,PLAN1X_AGGREGATE!$C$2:$C$44)","v":0},{"$f":"SUMIF(PLAN1X_AGGREGATE!$B$2:$B$44,GA$3,PLAN1X_AGGREGATE!$C$2:$C$44)","v":0}]
[null,null,null,null,null,null,null,null,"Объём (ед. изм.)",null,null,null,null,null,null,{"$f":"SUMIF(PLAN1X_AGGREGATE!$B$2:$B$44,P$3,PLAN1X_AGGREGATE!$D$2:$D$44)","v":942716.3},{"$f":"SUMIF(PLAN1X_AGGREGATE!$B$2:$B$44,Q$3,PLAN1X_AGGREGATE!$D$2:$D$44)","v":942716.3},{"$f":"SUMIF(PLAN1X_AGGREGATE!$B$2:$B$44,R$3,PLAN1X_AGGREGATE!$D$2:$D$44)","v":942716.3},{"$f":"SUMIF(PLAN1X_AGGREGATE!$B$2:$B$44,S$3,PLAN1X_AGGREGATE!$D$2:$D$44)","v":942716.3},{"$f":"SUMIF(PLAN1X_AGGREGATE!$B$2:$B$44,T$3,PLAN1X_AGGREGATE!$D$2:$D$44)","v":761868.92},{"$f":"SUMIF(PLAN1X_AGGREGATE!$B$2:$B$44,U$3,PLAN1X_AGGREGATE!$D$2:$D$44)","v":761868.92},{"$f":"SUMIF(PLAN1X_AGGREGATE!$B$2:$B$44,V$3,PLAN1X_AGGREGATE!$D$2:$D$44)","v":761868.92},{"$f":"SUMIF(PLAN1X_AGGREGATE!$B$2:$B$44,W$3,PLAN1X_AGGREGATE!$D$2:$D$44)","v":761868.92},{"$f":"SUMIF(PLAN1X_AGGREGATE!$B$2:$B$44,X$3,PLAN1X_AGGREGATE!$D$2:$D$44)","v":5058.79},{"$f":"SUMIF(PLAN1X_AGGREGATE!$B$2:$B$44,Y$3,PLAN1X_AGGREGATE!$D$2:$D$44)","v":5058.79},{"$f":"SUMIF(PLAN1X_AGGREGATE!$B$2:$B$44,Z$3,PLAN1X_AGGREGATE!$D$2:$D$44)","v":5058.79},{"$f":"SUMIF(PLAN1X_AGGREGATE!$B$2:$B$44,AA$3,PLAN1X_AGGREGATE!$D$2:$D$44)","v":5058.79},{"$f":"SUMIF(PLAN1X_AGGREGATE!$B$2:$B$44,AB$3,PLAN1X_AGGREGATE!$D$2:$D$44)","v":175788.59},{"$f":"SUMIF(PLAN1X_AGGREGATE!$B$2:$B$44,AC$3,PLAN1X_AGGREGATE!$D$2:$D$44)","v":175788.59},{"$f":"SUMIF(PLAN1X_AGGREGATE!$B$2:$B$44,AD$3,PLAN1X_AGGREGATE!$D$2:$D$44)","v":175788.59},{"$f":"SUMIF(PLAN1X_AGGREGATE!$B$2:$B$44,AE$3,PLAN1X_AGGREGATE!$D$2:$D$44)","v":175788.59},{"$f":"SUMIF(PLAN1X_AGGREGATE!$B$2:$B$44,AF$3,PLAN1X_AGGREGATE!$D$2:$D$44)","v":0},{"$f":"SUMIF(PLAN1X_AGGREGATE!$B$2:$B$44,AG$3,PLAN1X_AGGREGATE!$D$2:$D$44)","v":0},{"$f":"SUMIF(PLAN1X_AGGREGATE!$B$2:$B$44,AH$3,PLAN1X_AGGREGATE!$D$2:$D$44)","v":0},{"$f":"SUMIF(PLAN1X_AGGREGATE!$B$2:$B$44,AI$3,PLAN1X_AGGREGATE!$D$2:$D$44)","v":0},{"$f":"SUMIF(PLAN1X_AGGREGATE!$B$2:$B$44,AJ$3,PLAN1X_AGGREGATE!$D$2:$D$44)","v":0},{"$f":"SUMIF(PLAN1X_AGGREGATE!$B$2:$B$44,AK$3,PLAN1X_AGGREGATE!$D$2:$D$44)","v":0},{"$f":"SUMIF(PLAN1X_AGGREGATE!$B$2:$B$44,AL$3,PLAN1X_AGGREGATE!$D$2:$D$44)","v":0},{"$f":"SUMIF(PLAN1X_AGGREGATE!$B$2:$B$44,AM$3,PLAN1X_AGGREGATE!$D$2:$D$44)","v":0},{"$f":"SUMIF(PLAN1X_AGGREGATE!$B$2:$B$44,AN$3,PLAN1X_AGGREGATE!$D$2:$D$44)","v":0},{"$f":"SUMIF(PLAN1X_AGGREGATE!$B$2:$B$44,AO$3,PLAN1X_AGGREGATE!$D$2:$D$44)","v":0},{"$f":"SUMIF(PLAN1X_AGGREGATE!$B$2:$B$44,AP$3,PLAN1X_AGGREGATE!$D$2:$D$44)","v":0},{"$f":"SUMIF(PLAN1X_AGGREGATE!$B$2:$B$44,AQ$3,PLAN1X_AGGREGATE!$D$2:$D$44)","v":0},{"$f":"SUMIF(PLAN1X_AGGREGATE!$B$2:$B$44,AR$3,PLAN1X_AGGREGATE!$D$2:$D$44)","v":0},{"$f":"SUMIF(PLAN1X_AGGREGATE!$B$2:$B$44,AS$3,PLAN1X_AGGREGATE!$D$2:$D$44)","v":0},{"$f":"SUMIF(PLAN1X_AGGREGATE!$B$2:$B$44,AT$3,PLAN1X_AGGREGATE!$D$2:$D$44)","v":0},{"$f":"SUMIF(PLAN1X_AGGREGATE!$B$2:$B$44,AU$3,PLAN1X_AGGREGATE!$D$2:$D$44)","v":0},{"$f":"SUMIF(PLAN1X_AGGREGATE!$B$2:$B$44,AV$3,PLAN1X_AGGREGATE!$D$2:$D$44)","v":0},{"$f":"SUMIF(PLAN1X_AGGREGATE!$B$2:$B$44,AW$3,PLAN1X_AGGREGATE!$D$2:$D$44)","v":0},{"$f":"SUMIF(PLAN1X_AGGREGATE!$B$2:$B$44,AX$3,PLAN1X_AGGREGATE!$D$2:$D$44)","v":0},{"$f":"SUMIF(PLAN1X_AGGREGATE!$B$2:$B$44,AY$3,PLAN1X_AGGREGATE!$D$2:$D$44)","v":0},{"$f":"SUMIF(PLAN1X_AGGREGATE!$B$2:$B$44,AZ$3,PLAN1X_AGGREGATE!$D$2:$D$44)","v":0},{"$f":"SUMIF(PLAN1X_AGGREGATE!$B$2:$B$44,BA$3,PLAN1X_AGGREGATE!$D$2:$D$44)","v":0},{"$f":"SUMIF(PLAN1X_AGGREGATE!$B$2:$B$44,BB$3,PLAN1X_AGGREGATE!$D$2:$D$44)","v":0},{"$f":"SUMIF(PLAN1X_AGGREGATE!$B$2:$B$44,BC$3,PLAN1X_AGGREGATE!$D$2:$D$44)","v":0},{"$f":"SUMIF(PLAN1X_AGGREGATE!$B$2:$B$44,BD$3,PLAN1X_AGGREGATE!$D$2:$D$44)","v":0},{"$f":"SUMIF(PLAN1X_AGGREGATE!$B$2:$B$44,BE$3,PLAN1X_AGGREGATE!$D$2:$D$44)","v":0},{"$f":"SUMIF(PLAN1X_AGGREGATE!$B$2:$B$44,BF$3,PLAN1X_AGGREGATE!$D$2:$D$44)","v":0},{"$f":"SUMIF(PLAN1X_AGGREGATE!$B$2:$B$44,BG$3,PLAN1X_AGGREGATE!$D$2:$D$44)","v":0},{"$f":"SUMIF(PLAN1X_AGGREGATE!$B$2:$B$44,BH$3,PLAN1X_AGGREGATE!$D$2:$D$44)","v":0},{"$f":"SUMIF(PLAN1X_AGGREGATE!$B$2:$B$44,BI$3,PLAN1X_AGGREGATE!$D$2:$D$44)","v":0},{"$f":"SUMIF(PLAN1X_AGGREGATE!$B$2:$B$44,BJ$3,PLAN1X_AGGREGATE!$D$2:$D$44)","v":0},{"$f":"SUMIF(PLAN1X_AGGREGATE!$B$2:$B$44,BK$3,PLAN1X_AGGREGATE!$D$2:$D$44)","v":0},{"$f":"SUMIF(PLAN1X_AGGREGATE!$B$2:$B$44,BL$3,PLAN1X_AGGREGATE!$D$2:$D$44)","v":0},{"$f":"SUMIF(PLAN1X_AGGREGATE!$B$2:$B$44,BM$3,PLAN1X_AGGREGATE!$D$2:$D$44)","v":0},{"$f":"SUMIF(PLAN1X_AGGREGATE!$B$2:$B$44,BN$3,PLAN1X_AGGREGATE!$D$2:$D$44)","v":0},{"$f":"SUMIF(PLAN1X_AGGREGATE!$B$2:$B$44,BO$3,PLAN1X_AGGREGATE!$D$2:$D$44)","v":0},{"$f":"SUMIF(PLAN1X_AGGREGATE!$B$2:$B$44,BP$3,PLAN1X_AGGREGATE!$D$2:$D$44)","v":0},{"$f":"SUMIF(PLAN1X_AGGREGATE!$B$2:$B$44,BQ$3,PLAN1X_AGGREGATE!$D$2:$D$44)","v":0},{"$f":"SUMIF(PLAN1X_AGGREGATE!$B$2:$B$44,BR$3,PLAN1X_AGGREGATE!$D$2:$D$44)","v":0},{"$f":"SUMIF(PLAN1X_AGGREGATE!$B$2:$B$44,BS$3,PLAN1X_AGGREGATE!$D$2:$D$44)","v":0},{"$f":"SUMIF(PLAN1X_AGGREGATE!$B$2:$B$44,BT$3,PLAN1X_AGGREGATE!$D$2:$D$44)","v":0},{"$f":"SUMIF(PLAN1X_AGGREGATE!$B$2:$B$44,BU$3,PLAN1X_AGGREGATE!$D$2:$D$44)","v":0},{"$f":"SUMIF(PLAN1X_AGGREGATE!$B$2:$B$44,BV$3,PLAN1X_AGGREGATE!$D$2:$D$44)","v":0},{"$f":"SUMIF(PLAN1X_AGGREGATE!$B$2:$B$44,BW$3,PLAN1X_AGGREGATE!$D$2:$D$44)","v":0},{"$f":"SUMIF(PLAN1X_AGGREGATE!$B$2:$B$44,BX$3,PLAN1X_AGGREGATE!$D$2:$D$44)","v":3287.13},{"$f":"SUMIF(PLAN1X_AGGREGATE!$B$2:$B$44,BY$3,PLAN1X_AGGREGATE!$D$2:$D$44)","v":3287.13},{"$f":"SUMIF(PLAN1X_AGGREGATE!$B$2:$B$44,BZ$3,PLAN1X_AGGREGATE!$D$2:$D$44)","v":3287.13},{"$f":"SUMIF(PLAN1X_AGGREGATE!$B$2:$B$44,CA$3,PLAN1X_AGGREGATE!$D$2:$D$44)","v":3287.13},{"$f":"SUMIF(PLAN1X_AGGREGATE!$B$2:$B$44,CB$3,PLAN1X_AGGREGATE!$D$2:$D$44)","v":0},{"$f":"SUMIF(PLAN1X_AGGREGATE!$B$2:$B$44,CC$3,PLAN1X_AGGREGATE!$D$2:$D$44)","v":0},{"$f":"SUMIF(PLAN1X_AGGREGATE!$B$2:$B$44,CD$3,PLAN1X_AGGREGATE!$D$2:$D$44)","v":0},{"$f":"SUMIF(PLAN1X_AGGREGATE!$B$2:$B$44,CE$3,PLAN1X_AGGREGATE!$D$2:$D$44)","v":0},{"$f":"SUMIF(PLAN1X_AGGREGATE!$B$2:$B$44,CF$3,PLAN1X_AGGREGATE!$D$2:$D$44)","v":3287.13},{"$f":"SUMIF(PLAN1X_AGGREGATE!$B$2:$B$44,CG$3,PLAN1X_AGGREGATE!$D$2:$D$44)","v":3287.13},{"$f":"SUMIF(PLAN1X_AGGREGATE!$B$2:$B$44,CH$3,PLAN1X_AGGREGATE!$D$2:$D$44)","v":3287.13},{"$f":"SUMIF(PLAN1X_AGGREGATE!$B$2:$B$44,CI$3,PLAN1X_AGGREGATE!$D$2:$D$44)","v":3287.13},{"$f":"SUMIF(PLAN1X_AGGREGATE!$B$2:$B$44,CJ$3,PLAN1X_AGGREGATE!$D$2:$D$44)","v":0},{"$f":"SUMIF(PLAN1X_AGGREGATE!$B$2:$B$44,CK$3,PLAN1X_AGGREGATE!$D$2:$D$44)","v":0},{"$f":"SUMIF(PLAN1X_AGGREGATE!$B$2:$B$44,CL$3,PLAN1X_AGGREGATE!$D$2:$D$44)","v":0},{"$f":"SUMIF(PLAN1X_AGGREGATE!$B$2:$B$44,CM$3,PLAN1X_AGGREGATE!$D$2:$D$44)","v":0},{"$f":"SUMIF(PLAN1X_AGGREGATE!$B$2:$B$44,CN$3,PLAN1X_AGGREGATE!$D$2:$D$44)","v":0},{"$f":"SUMIF(PLAN1X_AGGREGATE!$B$2:$B$44,CO$3,PLAN1X_AGGREGATE!$D$2:$D$44)","v":0},{"$f":"SUMIF(PLAN1X_AGGREGATE!$B$2:$B$44,CP$3,PLAN1X_AGGREGATE!$D$2:$D$44)","v":0},{"$f":"SUMIF(PLAN1X_AGGREGATE!$B$2:$B$44,CQ$3,PLAN1X_AGGREGATE!$D$2:$D$44)","v":0},{"$f":"SUMIF(PLAN1X_AGGREGATE!$B$2:$B$44,CR$3,PLAN1X_AGGREGATE!$D$2:$D$44)","v":0},{"$f":"SUMIF(PLAN1X_AGGREGATE!$B$2:$B$44,CS$3,PLAN1X_AGGREGATE!$D$2:$D$44)","v":0},{"$f":"SUMIF(PLAN1X_AGGREGATE!$B$2:$B$44,CT$3,PLAN1X_AGGREGATE!$D$2:$D$44)","v":0},{"$f":"SUMIF(PLAN1X_AGGREGATE!$B$2:$B$44,CU$3,PLAN1X_AGGREGATE!$D$2:$D$44)","v":0},{"$f":"SUMIF(PLAN1X_AGGREGATE!$B$2:$B$44,CV$3,PLAN1X_AGGREGATE!$D$2:$D$44)","v":0},{"$f":"SUMIF(PLAN1X_AGGREGATE!$B$2:$B$44,CW$3,PLAN1X_AGGREGATE!$D$2:$D$44)","v":0},{"$f":"SUMIF(PLAN1X_AGGREGATE!$B$2:$B$44,CX$3,PLAN1X_AGGREGATE!$D$2:$D$44)","v":0},{"$f":"SUMIF(PLAN1X_AGGREGATE!$B$2:$B$44,CY$3,PLAN1X_AGGREGATE!$D$2:$D$44)","v":0},{"$f":"SUMIF(PLAN1X_AGGREGATE!$B$2:$B$44,CZ$3,PLAN1X_AGGREGATE!$D$2:$D$44)","v":0},{"$f":"SUMIF(PLAN1X_AGGREGATE!$B$2:$B$44,DA$3,PLAN1X_AGGREGATE!$D$2:$D$44)","v":0},{"$f":"SUMIF(PLAN1X_AGGREGATE!$B$2:$B$44,DB$3,PLAN1X_AGGREGATE!$D$2:$D$44)","v":0},{"$f":"SUMIF(PLAN1X_AGGREGATE!$B$2:$B$44,DC$3,PLAN1X_AGGREGATE!$D$2:$D$44)","v":0},{"$f":"SUMIF(PLAN1X_AGGREGATE!$B$2:$B$44,DD$3,PLAN1X_AGGREGATE!$D$2:$D$44)","v":0},{"$f":"SUMIF(PLAN1X_AGGREGATE!$B$2:$B$44,DE$3,PLAN1X_AGGREGATE!$D$2:$D$44)","v":0},{"$f":"SUMIF(PLAN1X_AGGREGATE!$B$2:$B$44,DF$3,PLAN1X_AGGREGATE!$D$2:$D$44)","v":0},{"$f":"SUMIF(PLAN1X_AGGREGATE!$B$2:$B$44,DG$3,PLAN1X_AGGREGATE!$D$2:$D$44)","v":0},{"$f":"SUMIF(PLAN1X_AGGREGATE!$B$2:$B$44,DH$3,PLAN1X_AGGREGATE!$D$2:$D$44)","v":0},{"$f":"SUMIF(PLAN1X_AGGREGATE!$B$2:$B$44,DI$3,PLAN1X_AGGREGATE!$D$2:$D$44)","v":0},{"$f":"SUMIF(PLAN1X_AGGREGATE!$B$2:$B$44,DJ$3,PLAN1X_AGGREGATE!$D$2:$D$44)","v":0},{"$f":"SUMIF(PLAN1X_AGGREGATE!$B$2:$B$44,DK$3,PLAN1X_AGGREGATE!$D$2:$D$44)","v":0},{"$f":"SUMIF(PLAN1X_AGGREGATE!$B$2:$B$44,DL$3,PLAN1X_AGGREGATE!$D$2:$D$44)","v":0},{"$f":"SUMIF(PLAN1X_AGGREGATE!$B$2:$B$44,DM$3,PLAN1X_AGGREGATE!$D$2:$D$44)","v":0},{"$f":"SUMIF(PLAN1X_AGGREGATE!$B$2:$B$44,DN$3,PLAN1X_AGGREGATE!$D$2:$D$44)","v":0},{"$f":"SUMIF(PLAN1X_AGGREGATE!$B$2:$B$44,DO$3,PLAN1X_AGGREGATE!$D$2:$D$44)","v":0},{"$f":"SUMIF(PLAN1X_AGGREGATE!$B$2:$B$44,DP$3,PLAN1X_AGGREGATE!$D$2:$D$44)","v":0},{"$f":"SUMIF(PLAN1X_AGGREGATE!$B$2:$B$44,DQ$3,PLAN1X_AGGREGATE!$D$2:$D$44)","v":0},{"$f":"SUMIF(PLAN1X_AGGREGATE!$B$2:$B$44,DR$3,PLAN1X_AGGREGATE!$D$2:$D$44)","v":0},{"$f":"SUMIF(PLAN1X_AGGREGATE!$B$2:$B$44,DS$3,PLAN1X_AGGREGATE!$D$2:$D$44)","v":0},{"$f":"SUMIF(PLAN1X_AGGREGATE!$B$2:$B$44,DT$3,PLAN1X_AGGREGATE!$D$2:$D$44)","v":0},{"$f":"SUMIF(PLAN1X_AGGREGATE!$B$2:$B$44,DU$3,PLAN1X_AGGREGATE!$D$2:$D$44)","v":0},{"$f":"SUMIF(PLAN1X_AGGREGATE!$B$2:$B$44,DV$3,PLAN1X_AGGREGATE!$D$2:$D$44)","v":0},{"$f":"SUMIF(PLAN1X_AGGREGATE!$B$2:$B$44,DW$3,PLAN1X_AGGREGATE!$D$2:$D$44)","v":0},{"$f":"SUMIF(PLAN1X_AGGREGATE!$B$2:$B$44,DX$3,PLAN1X_AGGREGATE!$D$2:$D$44)","v":0},{"$f":"SUMIF(PLAN1X_AGGREGATE!$B$2:$B$44,DY$3,PLAN1X_AGGREGATE!$D$2:$D$44)","v":0},{"$f":"SUMIF(PLAN1X_AGGREGATE!$B$2:$B$44,DZ$3,PLAN1X_AGGREGATE!$D$2:$D$44)","v":0},{"$f":"SUMIF(PLAN1X_AGGREGATE!$B$2:$B$44,EA$3,PLAN1X_AGGREGATE!$D$2:$D$44)","v":0},{"$f":"SUMIF(PLAN1X_AGGREGATE!$B$2:$B$44,EB$3,PLAN1X_AGGREGATE!$D$2:$D$44)","v":0},{"$f":"SUMIF(PLAN1X_AGGREGATE!$B$2:$B$44,EC$3,PLAN1X_AGGREGATE!$D$2:$D$44)","v":0},{"$f":"SUMIF(PLAN1X_AGGREGATE!$B$2:$B$44,ED$3,PLAN1X_AGGREGATE!$D$2:$D$44)","v":0},{"$f":"SUMIF(PLAN1X_AGGREGATE!$B$2:$B$44,EE$3,PLAN1X_AGGREGATE!$D$2:$D$44)","v":0},{"$f":"SUMIF(PLAN1X_AGGREGATE!$B$2:$B$44,EF$3,PLAN1X_AGGREGATE!$D$2:$D$44)","v":0},{"$f":"SUMIF(PLAN1X_AGGREGATE!$B$2:$B$44,EG$3,PLAN1X_AGGREGATE!$D$2:$D$44)","v":0},{"$f":"SUMIF(PLAN1X_AGGREGATE!$B$2:$B$44,EH$3,PLAN1X_AGGREGATE!$D$2:$D$44)","v":0},{"$f":"SUMIF(PLAN1X_AGGREGATE!$B$2:$B$44,EI$3,PLAN1X_AGGREGATE!$D$2:$D$44)","v":0},{"$f":"SUMIF(PLAN1X_AGGREGATE!$B$2:$B$44,EJ$3,PLAN1X_AGGREGATE!$D$2:$D$44)","v":0},{"$f":"SUMIF(PLAN1X_AGGREGATE!$B$2:$B$44,EK$3,PLAN1X_AGGREGATE!$D$2:$D$44)","v":0},{"$f":"SUMIF(PLAN1X_AGGREGATE!$B$2:$B$44,EL$3,PLAN1X_AGGREGATE!$D$2:$D$44)","v":0},{"$f":"SUMIF(PLAN1X_AGGREGATE!$B$2:$B$44,EM$3,PLAN1X_AGGREGATE!$D$2:$D$44)","v":0},{"$f":"SUMIF(PLAN1X_AGGREGATE!$B$2:$B$44,EN$3,PLAN1X_AGGREGATE!$D$2:$D$44)","v":0},{"$f":"SUMIF(PLAN1X_AGGREGATE!$B$2:$B$44,EO$3,PLAN1X_AGGREGATE!$D$2:$D$44)","v":0},{"$f":"SUMIF(PLAN1X_AGGREGATE!$B$2:$B$44,EP$3,PLAN1X_AGGREGATE!$D$2:$D$44)","v":0},{"$f":"SUMIF(PLAN1X_AGGREGATE!$B$2:$B$44,EQ$3,PLAN1X_AGGREGATE!$D$2:$D$44)","v":0},{"$f":"SUMIF(PLAN1X_AGGREGATE!$B$2:$B$44,ER$3,PLAN1X_AGGREGATE!$D$2:$D$44)","v":0},{"$f":"SUMIF(PLAN1X_AGGREGATE!$B$2:$B$44,ES$3,PLAN1X_AGGREGATE!$D$2:$D$44)","v":0},{"$f":"SUMIF(PLAN1X_AGGREGATE!$B$2:$B$44,ET$3,PLAN1X_AGGREGATE!$D$2:$D$44)","v":0},{"$f":"SUMIF(PLAN1X_AGGREGATE!$B$2:$B$44,EU$3,PLAN1X_AGGREGATE!$D$2:$D$44)","v":0},{"$f":"SUMIF(PLAN1X_AGGREGATE!$B$2:$B$44,EV$3,PLAN1X_AGGREGATE!$D$2:$D$44)","v":0},{"$f":"SUMIF(PLAN1X_AGGREGATE!$B$2:$B$44,EW$3,PLAN1X_AGGREGATE!$D$2:$D$44)","v":0},{"$f":"SUMIF(PLAN1X_AGGREGATE!$B$2:$B$44,EX$3,PLAN1X_AGGREGATE!$D$2:$D$44)","v":0},{"$f":"SUMIF(PLAN1X_AGGREGATE!$B$2:$B$44,EY$3,PLAN1X_AGGREGATE!$D$2:$D$44)","v":0},{"$f":"SUMIF(PLAN1X_AGGREGATE!$B$2:$B$44,EZ$3,PLAN1X_AGGREGATE!$D$2:$D$44)","v":0},{"$f":"SUMIF(PLAN1X_AGGREGATE!$B$2:$B$44,FA$3,PLAN1X_AGGREGATE!$D$2:$D$44)","v":0},{"$f":"SUMIF(PLAN1X_AGGREGATE!$B$2:$B$44,FB$3,PLAN1X_AGGREGATE!$D$2:$D$44)","v":0},{"$f":"SUMIF(PLAN1X_AGGREGATE!$B$2:$B$44,FC$3,PLAN1X_AGGREGATE!$D$2:$D$44)","v":0},{"$f":"SUMIF(PLAN1X_AGGREGATE!$B$2:$B$44,FD$3,PLAN1X_AGGREGATE!$D$2:$D$44)","v":0},{"$f":"SUMIF(PLAN1X_AGGREGATE!$B$2:$B$44,FE$3,PLAN1X_AGGREGATE!$D$2:$D$44)","v":0},{"$f":"SUMIF(PLAN1X_AGGREGATE!$B$2:$B$44,FF$3,PLAN1X_AGGREGATE!$D$2:$D$44)","v":0},{"$f":"SUMIF(PLAN1X_AGGREGATE!$B$2:$B$44,FG$3,PLAN1X_AGGREGATE!$D$2:$D$44)","v":0},{"$f":"SUMIF(PLAN1X_AGGREGATE!$B$2:$B$44,FH$3,PLAN1X_AGGREGATE!$D$2:$D$44)","v":0},{"$f":"SUMIF(PLAN1X_AGGREGATE!$B$2:$B$44,FI$3,PLAN1X_AGGREGATE!$D$2:$D$44)","v":0},{"$f":"SUMIF(PLAN1X_AGGREGATE!$B$2:$B$44,FJ$3,PLAN1X_AGGREGATE!$D$2:$D$44)","v":0},{"$f":"SUMIF(PLAN1X_AGGREGATE!$B$2:$B$44,FK$3,PLAN1X_AGGREGATE!$D$2:$D$44)","v":0},{"$f":"SUMIF(PLAN1X_AGGREGATE!$B$2:$B$44,FL$3,PLAN1X_AGGREGATE!$D$2:$D$44)","v":0},{"$f":"SUMIF(PLAN1X_AGGREGATE!$B$2:$B$44,FM$3,PLAN1X_AGGREGATE!$D$2:$D$44)","v":0},{"$f":"SUMIF(PLAN1X_AGGREGATE!$B$2:$B$44,FN$3,PLAN1X_AGGREGATE!$D$2:$D$44)","v":0},{"$f":"SUMIF(PLAN1X_AGGREGATE!$B$2:$B$44,FO$3,PLAN1X_AGGREGATE!$D$2:$D$44)","v":0},{"$f":"SUMIF(PLAN1X_AGGREGATE!$B$2:$B$44,FP$3,PLAN1X_AGGREGATE!$D$2:$D$44)","v":0},{"$f":"SUMIF(PLAN1X_AGGREGATE!$B$2:$B$44,FQ$3,PLAN1X_AGGREGATE!$D$2:$D$44)","v":0},{"$f":"SUMIF(PLAN1X_AGGREGATE!$B$2:$B$44,FR$3,PLAN1X_AGGREGATE!$D$2:$D$44)","v":0},{"$f":"SUMIF(PLAN1X_AGGREGATE!$B$2:$B$44,FS$3,PLAN1X_AGGREGATE!$D$2:$D$44)","v":0},{"$f":"SUMIF(PLAN1X_AGGREGATE!$B$2:$B$44,FT$3,PLAN1X_AGGREGATE!$D$2:$D$44)","v":0},{"$f":"SUMIF(PLAN1X_AGGREGATE!$B$2:$B$44,FU$3,PLAN1X_AGGREGATE!$D$2:$D$44)","v":0},{"$f":"SUMIF(PLAN1X_AGGREGATE!$B$2:$B$44,FV$3,PLAN1X_AGGREGATE!$D$2:$D$44)","v":0},{"$f":"SUMIF(PLAN1X_AGGREGATE!$B$2:$B$44,FW$3,PLAN1X_AGGREGATE!$D$2:$D$44)","v":0},{"$f":"SUMIF(PLAN1X_AGGREGATE!$B$2:$B$44,FX$3,PLAN1X_AGGREGATE!$D$2:$D$44)","v":0},{"$f":"SUMIF(PLAN1X_AGGREGATE!$B$2:$B$44,FY$3,PLAN1X_AGGREGATE!$D$2:$D$44)","v":0},{"$f":"SUMIF(PLAN1X_AGGREGATE!$B$2:$B$44,FZ$3,PLAN1X_AGGREGATE!$D$2:$D$44)","v":0},{"$f":"SUMIF(PLAN1X_AGGREGATE!$B$2:$B$44,GA$3,PLAN1X_AGGREGATE!$D$2:$D$44)","v":0}]
[null,null,null,null,null,null,null,null,"Затраты на топливо (тыс.руб.)",null,null,null,null,null,null,{"$f":"SUMIF(PLAN1X_AGGREGATE!$B$2:$B$44,P$3,PLAN1X_AGGREGATE!$E$2:$E$44)","v":5464085.8300000001},{"$f":"SUMIF(PLAN1X_AGGREGATE!$B$2:$B$44,Q$3,PLAN1X_AGGREGATE!$E$2:$E$44)","v":5464085.8300000001},{"$f":"SUMIF(PLAN1X_AGGREGATE!$B$2:$B$44,R$3,PLAN1X_AGGREGATE!$E$2:$E$44)","v":5464085.8300000001},{"$f":"SUMIF(PLAN1X_AGGREGATE!$B$2:$B$44,S$3,PLAN1X_AGGREGATE!$E$2:$E$44)","v":5464085.8300000001},{"$f":"SUMIF(PLAN1X_AGGREGATE!$B$2:$B$44,T$3,PLAN1X_AGGREGATE!$E$2:$E$44)","v":4522159},{"$f":"SUMIF(PLAN1X_AGGREGATE!$B$2:$B$44,U$3,PLAN1X_AGGREGATE!$E$2:$E$44)","v":4522159},{"$f":"SUMIF(PLAN1X_AGGREGATE!$B$2:$B$44,V$3,PLAN1X_AGGREGATE!$E$2:$E$44)","v":4522159},{"$f":"SUMIF(PLAN1X_AGGREGATE!$B$2:$B$44,W$3,PLAN1X_AGGREGATE!$E$2:$E$44)","v":4522159},{"$f":"SUMIF(PLAN1X_AGGREGATE!$B$2:$B$44,X$3,PLAN1X_AGGREGATE!$E$2:$E$44)","v":31881.3},{"$f":"SUMIF(PLAN1X_AGGREGATE!$B$2:$B$44,Y$3,PLAN1X_AGGREGATE!$E$2:$E$44)","v":31881.3},{"$f":"SUMIF(PLAN1X_AGGREGATE!$B$2:$B$44,Z$3,PLAN1X_AGGREGATE!$E$2:$E$44)","v":31881.3},{"$f":"SUMIF(PLAN1X_AGGREGATE!$B$2:$B$44,AA$3,PLAN1X_AGGREGATE!$E$2:$E$44)","v":31881.3},{"$f":"SUMIF(PLAN1X_AGGREGATE!$B$2:$B$44,AB$3,PLAN1X_AGGREGATE!$E$2:$E$44)","v":910045.53},{"$f":"SUMIF(PLAN1X_AGGREGATE!$B$2:$B$44,AC$3,PLAN1X_AGGREGATE!$E$2:$E$44)","v":910045.53},{"$f":"SUMIF(PLAN1X_AGGREGATE!$B$2:$B$44,AD$3,PLAN1X_AGGREGATE!$E$2:$E$44)","v":910045.53},{"$f":"SUMIF(PLAN1X_AGGREGATE!$B$2:$B$44,AE$3,PLAN1X_AGGREGATE!$E$2:$E$44)","v":910045.53},{"$f":"SUMIF(PLAN1X_AGGREGATE!$B$2:$B$44,AF$3,PLAN1X_AGGREGATE!$E$2:$E$44)","v":0},{"$f":"SUMIF(PLAN1X_AGGREGATE!$B$2:$B$44,AG$3,PLAN1X_AGGREGATE!$E$2:$E$44)","v":0},{"$f":"SUMIF(PLAN1X_AGGREGATE!$B$2:$B$44,AH$3,PLAN1X_AGGREGATE!$E$2:$E$44)","v":0},{"$f":"SUMIF(PLAN1X_AGGREGATE!$B$2:$B$44,AI$3,PLAN1X_AGGREGATE!$E$2:$E$44)","v":0},{"$f":"SUMIF(PLAN1X_AGGREGATE!$B$2:$B$44,AJ$3,PLAN1X_AGGREGATE!$E$2:$E$44)","v":0},{"$f":"SUMIF(PLAN1X_AGGREGATE!$B$2:$B$44,AK$3,PLAN1X_AGGREGATE!$E$2:$E$44)","v":0},{"$f":"SUMIF(PLAN1X_AGGREGATE!$B$2:$B$44,AL$3,PLAN1X_AGGREGATE!$E$2:$E$44)","v":0},{"$f":"SUMIF(PLAN1X_AGGREGATE!$B$2:$B$44,AM$3,PLAN1X_AGGREGATE!$E$2:$E$44)","v":0},{"$f":"SUMIF(PLAN1X_AGGREGATE!$B$2:$B$44,AN$3,PLAN1X_AGGREGATE!$E$2:$E$44)","v":0},{"$f":"SUMIF(PLAN1X_AGGREGATE!$B$2:$B$44,AO$3,PLAN1X_AGGREGATE!$E$2:$E$44)","v":0},{"$f":"SUMIF(PLAN1X_AGGREGATE!$B$2:$B$44,AP$3,PLAN1X_AGGREGATE!$E$2:$E$44)","v":0},{"$f":"SUMIF(PLAN1X_AGGREGATE!$B$2:$B$44,AQ$3,PLAN1X_AGGREGATE!$E$2:$E$44)","v":0},{"$f":"SUMIF(PLAN1X_AGGREGATE!$B$2:$B$44,AR$3,PLAN1X_AGGREGATE!$E$2:$E$44)","v":0},{"$f":"SUMIF(PLAN1X_AGGREGATE!$B$2:$B$44,AS$3,PLAN1X_AGGREGATE!$E$2:$E$44)","v":0},{"$f":"SUMIF(PLAN1X_AGGREGATE!$B$2:$B$44,AT$3,PLAN1X_AGGREGATE!$E$2:$E$44)","v":0},{"$f":"SUMIF(PLAN1X_AGGREGATE!$B$2:$B$44,AU$3,PLAN1X_AGGREGATE!$E$2:$E$44)","v":0},{"$f":"SUMIF(PLAN1X_AGGREGATE!$B$2:$B$44,AV$3,PLAN1X_AGGREGATE!$E$2:$E$44)","v":0},{"$f":"SUMIF(PLAN1X_AGGREGATE!$B$2:$B$44,AW$3,PLAN1X_AGGREGATE!$E$2:$E$44)","v":0},{"$f":"SUMIF(PLAN1X_AGGREGATE!$B$2:$B$44,AX$3,PLAN1X_AGGREGATE!$E$2:$E$44)","v":0},{"$f":"SUMIF(PLAN1X_AGGREGATE!$B$2:$B$44,AY$3,PLAN1X_AGGREGATE!$E$2:$E$44)","v":0},{"$f":"SUMIF(PLAN1X_AGGREGATE!$B$2:$B$44,AZ$3,PLAN1X_AGGREGATE!$E$2:$E$44)","v":0},{"$f":"SUMIF(PLAN1X_AGGREGATE!$B$2:$B$44,BA$3,PLAN1X_AGGREGATE!$E$2:$E$44)","v":0},{"$f":"SUMIF(PLAN1X_AGGREGATE!$B$2:$B$44,BB$3,PLAN1X_AGGREGATE!$E$2:$E$44)","v":0},{"$f":"SUMIF(PLAN1X_AGGREGATE!$B$2:$B$44,BC$3,PLAN1X_AGGREGATE!$E$2:$E$44)","v":0},{"$f":"SUMIF(PLAN1X_AGGREGATE!$B$2:$B$44,BD$3,PLAN1X_AGGREGATE!$E$2:$E$44)","v":0},{"$f":"SUMIF(PLAN1X_AGGREGATE!$B$2:$B$44,BE$3,PLAN1X_AGGREGATE!$E$2:$E$44)","v":0},{"$f":"SUMIF(PLAN1X_AGGREGATE!$B$2:$B$44,BF$3,PLAN1X_AGGREGATE!$E$2:$E$44)","v":0},{"$f":"SUMIF(PLAN1X_AGGREGATE!$B$2:$B$44,BG$3,PLAN1X_AGGREGATE!$E$2:$E$44)","v":0},{"$f":"SUMIF(PLAN1X_AGGREGATE!$B$2:$B$44,BH$3,PLAN1X_AGGREGATE!$E$2:$E$44)","v":0},{"$f":"SUMIF(PLAN1X_AGGREGATE!$B$2:$B$44,BI$3,PLAN1X_AGGREGATE!$E$2:$E$44)","v":0},{"$f":"SUMIF(PLAN1X_AGGREGATE!$B$2:$B$44,BJ$3,PLAN1X_AGGREGATE!$E$2:$E$44)","v":0},{"$f":"SUMIF(PLAN1X_AGGREGATE!$B$2:$B$44,BK$3,PLAN1X_AGGREGATE!$E$2:$E$44)","v":0},{"$f":"SUMIF(PLAN1X_AGGREGATE!$B$2:$B$44,BL$3,PLAN1X_AGGREGATE!$E$2:$E$44)","v":0},{"$f":"SUMIF(PLAN1X_AGGREGATE!$B$2:$B$44,BM$3,PLAN1X_AGGREGATE!$E$2:$E$44)","v":0},{"$f":"SUMIF(PLAN1X_AGGREGATE!$B$2:$B$44,BN$3,PLAN1X_AGGREGATE!$E$2:$E$44)","v":0},{"$f":"SUMIF(PLAN1X_AGGREGATE!$B$2:$B$44,BO$3,PLAN1X_AGGREGATE!$E$2:$E$44)","v":0},{"$f":"SUMIF(PLAN1X_AGGREGATE!$B$2:$B$44,BP$3,PLAN1X_AGGREGATE!$E$2:$E$44)","v":0},{"$f":"SUMIF(PLAN1X_AGGREGATE!$B$2:$B$44,BQ$3,PLAN1X_AGGREGATE!$E$2:$E$44)","v":0},{"$f":"SUMIF(PLAN1X_AGGREGATE!$B$2:$B$44,BR$3,PLAN1X_AGGREGATE!$E$2:$E$44)","v":0},{"$f":"SUMIF(PLAN1X_AGGREGATE!$B$2:$B$44,BS$3,PLAN1X_AGGREGATE!$E$2:$E$44)","v":0},{"$f":"SUMIF(PLAN1X_AGGREGATE!$B$2:$B$44,BT$3,PLAN1X_AGGREGATE!$E$2:$E$44)","v":0},{"$f":"SUMIF(PLAN1X_AGGREGATE!$B$2:$B$44,BU$3,PLAN1X_AGGREGATE!$E$2:$E$44)","v":0},{"$f":"SUMIF(PLAN1X_AGGREGATE!$B$2:$B$44,BV$3,PLAN1X_AGGREGATE!$E$2:$E$44)","v":0},{"$f":"SUMIF(PLAN1X_AGGREGATE!$B$2:$B$44,BW$3,PLAN1X_AGGREGATE!$E$2:$E$44)","v":0},{"$f":"SUMIF(PLAN1X_AGGREGATE!$B$2:$B$44,BX$3,PLAN1X_AGGREGATE!$E$2:$E$44)","v":45124.22},{"$f":"SUMIF(PLAN1X_AGGREGATE!$B$2:$B$44,BY$3,PLAN1X_AGGREGATE!$E$2:$E$44)","v":45124.22},{"$f":"SUMIF(PLAN1X_AGGREGATE!$B$2:$B$44,BZ$3,PLAN1X_AGGREGATE!$E$2:$E$44)","v":45124.22},{"$f":"SUMIF(PLAN1X_AGGREGATE!$B$2:$B$44,CA$3,PLAN1X_AGGREGATE!$E$2:$E$44)","v":45124.22},{"$f":"SUMIF(PLAN1X_AGGREGATE!$B$2:$B$44,CB$3,PLAN1X_AGGREGATE!$E$2:$E$44)","v":0},{"$f":"SUMIF(PLAN1X_AGGREGATE!$B$2:$B$44,CC$3,PLAN1X_AGGREGATE!$E$2:$E$44)","v":0},{"$f":"SUMIF(PLAN1X_AGGREGATE!$B$2:$B$44,CD$3,PLAN1X_AGGREGATE!$E$2:$E$44)","v":0},{"$f":"SUMIF(PLAN1X_AGGREGATE!$B$2:$B$44,CE$3,PLAN1X_AGGREGATE!$E$2:$E$44)","v":0},{"$f":"SUMIF(PLAN1X_AGGREGATE!$B$2:$B$44,CF$3,PLAN1X_AGGREGATE!$E$2:$E$44)","v":45124.22},{"$f":"SUMIF(PLAN1X_AGGREGATE!$B$2:$B$44,CG$3,PLAN1X_AGGREGATE!$E$2:$E$44)","v":45124.22},{"$f":"SUMIF(PLAN1X_AGGREGATE!$B$2:$B$44,CH$3,PLAN1X_AGGREGATE!$E$2:$E$44)","v":45124.22},{"$f":"SUMIF(PLAN1X_AGGREGATE!$B$2:$B$44,CI$3,PLAN1X_AGGREGATE!$E$2:$E$44)","v":45124.22},{"$f":"SUMIF(PLAN1X_AGGREGATE!$B$2:$B$44,CJ$3,PLAN1X_AGGREGATE!$E$2:$E$44)","v":0},{"$f":"SUMIF(PLAN1X_AGGREGATE!$B$2:$B$44,CK$3,PLAN1X_AGGREGATE!$E$2:$E$44)","v":0},{"$f":"SUMIF(PLAN1X_AGGREGATE!$B$2:$B$44,CL$3,PLAN1X_AGGREGATE!$E$2:$E$44)","v":0},{"$f":"SUMIF(PLAN1X_AGGREGATE!$B$2:$B$44,CM$3,PLAN1X_AGGREGATE!$E$2:$E$44)","v":0},{"$f":"SUMIF(PLAN1X_AGGREGATE!$B$2:$B$44,CN$3,PLAN1X_AGGREGATE!$E$2:$E$44)","v":0},{"$f":"SUMIF(PLAN1X_AGGREGATE!$B$2:$B$44,CO$3,PLAN1X_AGGREGATE!$E$2:$E$44)","v":0},{"$f":"SUMIF(PLAN1X_AGGREGATE!$B$2:$B$44,CP$3,PLAN1X_AGGREGATE!$E$2:$E$44)","v":0},{"$f":"SUMIF(PLAN1X_AGGREGATE!$B$2:$B$44,CQ$3,PLAN1X_AGGREGATE!$E$2:$E$44)","v":0},{"$f":"SUMIF(PLAN1X_AGGREGATE!$B$2:$B$44,CR$3,PLAN1X_AGGREGATE!$E$2:$E$44)","v":0},{"$f":"SUMIF(PLAN1X_AGGREGATE!$B$2:$B$44,CS$3,PLAN1X_AGGREGATE!$E$2:$E$44)","v":0},{"$f":"SUMIF(PLAN1X_AGGREGATE!$B$2:$B$44,CT$3,PLAN1X_AGGREGATE!$E$2:$E$44)","v":0},{"$f":"SUMIF(PLAN1X_AGGREGATE!$B$2:$B$44,CU$3,PLAN1X_AGGREGATE!$E$2:$E$44)","v":0},{"$f":"SUMIF(PLAN1X_AGGREGATE!$B$2:$B$44,CV$3,PLAN1X_AGGREGATE!$E$2:$E$44)","v":0},{"$f":"SUMIF(PLAN1X_AGGREGATE!$B$2:$B$44,CW$3,PLAN1X_AGGREGATE!$E$2:$E$44)","v":0},{"$f":"SUMIF(PLAN1X_AGGREGATE!$B$2:$B$44,CX$3,PLAN1X_AGGREGATE!$E$2:$E$44)","v":0},{"$f":"SUMIF(PLAN1X_AGGREGATE!$B$2:$B$44,CY$3,PLAN1X_AGGREGATE!$E$2:$E$44)","v":0},{"$f":"SUMIF(PLAN1X_AGGREGATE!$B$2:$B$44,CZ$3,PLAN1X_AGGREGATE!$E$2:$E$44)","v":0},{"$f":"SUMIF(PLAN1X_AGGREGATE!$B$2:$B$44,DA$3,PLAN1X_AGGREGATE!$E$2:$E$44)","v":0},{"$f":"SUMIF(PLAN1X_AGGREGATE!$B$2:$B$44,DB$3,PLAN1X_AGGREGATE!$E$2:$E$44)","v":0},{"$f":"SUMIF(PLAN1X_AGGREGATE!$B$2:$B$44,DC$3,PLAN1X_AGGREGATE!$E$2:$E$44)","v":0},{"$f":"SUMIF(PLAN1X_AGGREGATE!$B$2:$B$44,DD$3,PLAN1X_AGGREGATE!$E$2:$E$44)","v":0},{"$f":"SUMIF(PLAN1X_AGGREGATE!$B$2:$B$44,DE$3,PLAN1X_AGGREGATE!$E$2:$E$44)","v":0},{"$f":"SUMIF(PLAN1X_AGGREGATE!$B$2:$B$44,DF$3,PLAN1X_AGGREGATE!$E$2:$E$44)","v":0},{"$f":"SUMIF(PLAN1X_AGGREGATE!$B$2:$B$44,DG$3,PLAN1X_AGGREGATE!$E$2:$E$44)","v":0},{"$f":"SUMIF(PLAN1X_AGGREGATE!$B$2:$B$44,DH$3,PLAN1X_AGGREGATE!$E$2:$E$44)","v":0},{"$f":"SUMIF(PLAN1X_AGGREGATE!$B$2:$B$44,DI$3,PLAN1X_AGGREGATE!$E$2:$E$44)","v":0},{"$f":"SUMIF(PLAN1X_AGGREGATE!$B$2:$B$44,DJ$3,PLAN1X_AGGREGATE!$E$2:$E$44)","v":0},{"$f":"SUMIF(PLAN1X_AGGREGATE!$B$2:$B$44,DK$3,PLAN1X_AGGREGATE!$E$2:$E$44)","v":0},{"$f":"SUMIF(PLAN1X_AGGREGATE!$B$2:$B$44,DL$3,PLAN1X_AGGREGATE!$E$2:$E$44)","v":0},{"$f":"SUMIF(PLAN1X_AGGREGATE!$B$2:$B$44,DM$3,PLAN1X_AGGREGATE!$E$2:$E$44)","v":0},{"$f":"SUMIF(PLAN1X_AGGREGATE!$B$2:$B$44,DN$3,PLAN1X_AGGREGATE!$E$2:$E$44)","v":0},{"$f":"SUMIF(PLAN1X_AGGREGATE!$B$2:$B$44,DO$3,PLAN1X_AGGREGATE!$E$2:$E$44)","v":0},{"$f":"SUMIF(PLAN1X_AGGREGATE!$B$2:$B$44,DP$3,PLAN1X_AGGREGATE!$E$2:$E$44)","v":0},{"$f":"SUMIF(PLAN1X_AGGREGATE!$B$2:$B$44,DQ$3,PLAN1X_AGGREGATE!$E$2:$E$44)","v":0},{"$f":"SUMIF(PLAN1X_AGGREGATE!$B$2:$B$44,DR$3,PLAN1X_AGGREGATE!$E$2:$E$44)","v":0},{"$f":"SUMIF(PLAN1X_AGGREGATE!$B$2:$B$44,DS$3,PLAN1X_AGGREGATE!$E$2:$E$44)","v":0},{"$f":"SUMIF(PLAN1X_AGGREGATE!$B$2:$B$44,DT$3,PLAN1X_AGGREGATE!$E$2:$E$44)","v":0},{"$f":"SUMIF(PLAN1X_AGGREGATE!$B$2:$B$44,DU$3,PLAN1X_AGGREGATE!$E$2:$E$44)","v":0},{"$f":"SUMIF(PLAN1X_AGGREGATE!$B$2:$B$44,DV$3,PLAN1X_AGGREGATE!$E$2:$E$44)","v":0},{"$f":"SUMIF(PLAN1X_AGGREGATE!$B$2:$B$44,DW$3,PLAN1X_AGGREGATE!$E$2:$E$44)","v":0},{"$f":"SUMIF(PLAN1X_AGGREGATE!$B$2:$B$44,DX$3,PLAN1X_AGGREGATE!$E$2:$E$44)","v":0},{"$f":"SUMIF(PLAN1X_AGGREGATE!$B$2:$B$44,DY$3,PLAN1X_AGGREGATE!$E$2:$E$44)","v":0},{"$f":"SUMIF(PLAN1X_AGGREGATE!$B$2:$B$44,DZ$3,PLAN1X_AGGREGATE!$E$2:$E$44)","v":0},{"$f":"SUMIF(PLAN1X_AGGREGATE!$B$2:$B$44,EA$3,PLAN1X_AGGREGATE!$E$2:$E$44)","v":0},{"$f":"SUMIF(PLAN1X_AGGREGATE!$B$2:$B$44,EB$3,PLAN1X_AGGREGATE!$E$2:$E$44)","v":0},{"$f":"SUMIF(PLAN1X_AGGREGATE!$B$2:$B$44,EC$3,PLAN1X_AGGREGATE!$E$2:$E$44)","v":0},{"$f":"SUMIF(PLAN1X_AGGREGATE!$B$2:$B$44,ED$3,PLAN1X_AGGREGATE!$E$2:$E$44)","v":0},{"$f":"SUMIF(PLAN1X_AGGREGATE!$B$2:$B$44,EE$3,PLAN1X_AGGREGATE!$E$2:$E$44)","v":0},{"$f":"SUMIF(PLAN1X_AGGREGATE!$B$2:$B$44,EF$3,PLAN1X_AGGREGATE!$E$2:$E$44)","v":0},{"$f":"SUMIF(PLAN1X_AGGREGATE!$B$2:$B$44,EG$3,PLAN1X_AGGREGATE!$E$2:$E$44)","v":0},{"$f":"SUMIF(PLAN1X_AGGREGATE!$B$2:$B$44,EH$3,PLAN1X_AGGREGATE!$E$2:$E$44)","v":0},{"$f":"SUMIF(PLAN1X_AGGREGATE!$B$2:$B$44,EI$3,PLAN1X_AGGREGATE!$E$2:$E$44)","v":0},{"$f":"SUMIF(PLAN1X_AGGREGATE!$B$2:$B$44,EJ$3,PLAN1X_AGGREGATE!$E$2:$E$44)","v":0},{"$f":"SUMIF(PLAN1X_AGGREGATE!$B$2:$B$44,EK$3,PLAN1X_AGGREGATE!$E$2:$E$44)","v":0},{"$f":"SUMIF(PLAN1X_AGGREGATE!$B$2:$B$44,EL$3,PLAN1X_AGGREGATE!$E$2:$E$44)","v":0},{"$f":"SUMIF(PLAN1X_AGGREGATE!$B$2:$B$44,EM$3,PLAN1X_AGGREGATE!$E$2:$E$44)","v":0},{"$f":"SUMIF(PLAN1X_AGGREGATE!$B$2:$B$44,EN$3,PLAN1X_AGGREGATE!$E$2:$E$44)","v":0},{"$f":"SUMIF(PLAN1X_AGGREGATE!$B$2:$B$44,EO$3,PLAN1X_AGGREGATE!$E$2:$E$44)","v":0},{"$f":"SUMIF(PLAN1X_AGGREGATE!$B$2:$B$44,EP$3,PLAN1X_AGGREGATE!$E$2:$E$44)","v":0},{"$f":"SUMIF(PLAN1X_AGGREGATE!$B$2:$B$44,EQ$3,PLAN1X_AGGREGATE!$E$2:$E$44)","v":0},{"$f":"SUMIF(PLAN1X_AGGREGATE!$B$2:$B$44,ER$3,PLAN1X_AGGREGATE!$E$2:$E$44)","v":0},{"$f":"SUMIF(PLAN1X_AGGREGATE!$B$2:$B$44,ES$3,PLAN1X_AGGREGATE!$E$2:$E$44)","v":0},{"$f":"SUMIF(PLAN1X_AGGREGATE!$B$2:$B$44,ET$3,PLAN1X_AGGREGATE!$E$2:$E$44)","v":0},{"$f":"SUMIF(PLAN1X_AGGREGATE!$B$2:$B$44,EU$3,PLAN1X_AGGREGATE!$E$2:$E$44)","v":0},{"$f":"SUMIF(PLAN1X_AGGREGATE!$B$2:$B$44,EV$3,PLAN1X_AGGREGATE!$E$2:$E$44)","v":0},{"$f":"SUMIF(PLAN1X_AGGREGATE!$B$2:$B$44,EW$3,PLAN1X_AGGREGATE!$E$2:$E$44)","v":0},{"$f":"SUMIF(PLAN1X_AGGREGATE!$B$2:$B$44,EX$3,PLAN1X_AGGREGATE!$E$2:$E$44)","v":0},{"$f":"SUMIF(PLAN1X_AGGREGATE!$B$2:$B$44,EY$3,PLAN1X_AGGREGATE!$E$2:$E$44)","v":0},{"$f":"SUMIF(PLAN1X_AGGREGATE!$B$2:$B$44,EZ$3,PLAN1X_AGGREGATE!$E$2:$E$44)","v":0},{"$f":"SUMIF(PLAN1X_AGGREGATE!$B$2:$B$44,FA$3,PLAN1X_AGGREGATE!$E$2:$E$44)","v":0},{"$f":"SUMIF(PLAN1X_AGGREGATE!$B$2:$B$44,FB$3,PLAN1X_AGGREGATE!$E$2:$E$44)","v":0},{"$f":"SUMIF(PLAN1X_AGGREGATE!$B$2:$B$44,FC$3,PLAN1X_AGGREGATE!$E$2:$E$44)","v":0},{"$f":"SUMIF(PLAN1X_AGGREGATE!$B$2:$B$44,FD$3,PLAN1X_AGGREGATE!$E$2:$E$44)","v":0},{"$f":"SUMIF(PLAN1X_AGGREGATE!$B$2:$B$44,FE$3,PLAN1X_AGGREGATE!$E$2:$E$44)","v":0},{"$f":"SUMIF(PLAN1X_AGGREGATE!$B$2:$B$44,FF$3,PLAN1X_AGGREGATE!$E$2:$E$44)","v":0},{"$f":"SUMIF(PLAN1X_AGGREGATE!$B$2:$B$44,FG$3,PLAN1X_AGGREGATE!$E$2:$E$44)","v":0},{"$f":"SUMIF(PLAN1X_AGGREGATE!$B$2:$B$44,FH$3,PLAN1X_AGGREGATE!$E$2:$E$44)","v":0},{"$f":"SUMIF(PLAN1X_AGGREGATE!$B$2:$B$44,FI$3,PLAN1X_AGGREGATE!$E$2:$E$44)","v":0},{"$f":"SUMIF(PLAN1X_AGGREGATE!$B$2:$B$44,FJ$3,PLAN1X_AGGREGATE!$E$2:$E$44)","v":0},{"$f":"SUMIF(PLAN1X_AGGREGATE!$B$2:$B$44,FK$3,PLAN1X_AGGREGATE!$E$2:$E$44)","v":0},{"$f":"SUMIF(PLAN1X_AGGREGATE!$B$2:$B$44,FL$3,PLAN1X_AGGREGATE!$E$2:$E$44)","v":0},{"$f":"SUMIF(PLAN1X_AGGREGATE!$B$2:$B$44,FM$3,PLAN1X_AGGREGATE!$E$2:$E$44)","v":0},{"$f":"SUMIF(PLAN1X_AGGREGATE!$B$2:$B$44,FN$3,PLAN1X_AGGREGATE!$E$2:$E$44)","v":0},{"$f":"SUMIF(PLAN1X_AGGREGATE!$B$2:$B$44,FO$3,PLAN1X_AGGREGATE!$E$2:$E$44)","v":0},{"$f":"SUMIF(PLAN1X_AGGREGATE!$B$2:$B$44,FP$3,PLAN1X_AGGREGATE!$E$2:$E$44)","v":0},{"$f":"SUMIF(PLAN1X_AGGREGATE!$B$2:$B$44,FQ$3,PLAN1X_AGGREGATE!$E$2:$E$44)","v":0},{"$f":"SUMIF(PLAN1X_AGGREGATE!$B$2:$B$44,FR$3,PLAN1X_AGGREGATE!$E$2:$E$44)","v":0},{"$f":"SUMIF(PLAN1X_AGGREGATE!$B$2:$B$44,FS$3,PLAN1X_AGGREGATE!$E$2:$E$44)","v":0},{"$f":"SUMIF(PLAN1X_AGGREGATE!$B$2:$B$44,FT$3,PLAN1X_AGGREGATE!$E$2:$E$44)","v":0},{"$f":"SUMIF(PLAN1X_AGGREGATE!$B$2:$B$44,FU$3,PLAN1X_AGGREGATE!$E$2:$E$44)","v":0},{"$f":"SUMIF(PLAN1X_AGGREGATE!$B$2:$B$44,FV$3,PLAN1X_AGGREGATE!$E$2:$E$44)","v":0},{"$f":"SUMIF(PLAN1X_AGGREGATE!$B$2:$B$44,FW$3,PLAN1X_AGGREGATE!$E$2:$E$44)","v":0},{"$f":"SUMIF(PLAN1X_AGGREGATE!$B$2:$B$44,FX$3,PLAN1X_AGGREGATE!$E$2:$E$44)","v":0},{"$f":"SUMIF(PLAN1X_AGGREGATE!$B$2:$B$44,FY$3,PLAN1X_AGGREGATE!$E$2:$E$44)","v":0},{"$f":"SUMIF(PLAN1X_AGGREGATE!$B$2:$B$44,FZ$3,PLAN1X_AGGREGATE!$E$2:$E$44)","v":0},{"$f":"SUMIF(PLAN1X_AGGREGATE!$B$2:$B$44,GA$3,PLAN1X_AGGREGATE!$E$2:$E$44)","v":0},{"$f":"SUMIF(PLAN1X_AGGREGATE!$B$2:$B$44,GB$3,PLAN1X_AGGREGATE!$E$2:$E$44)","v":0.01},{"$f":"SUMIF(PLAN1X_AGGREGATE!$B$2:$B$44,GC$3,PLAN1X_AGGREGATE!$E$2:$E$44)","v":0.01},{"$f":"SUMIF(PLAN1X_AGGREGATE!$B$2:$B$44,GD$3,PLAN1X_AGGREGATE!$E$2:$E$44)","v":0.01},{"$f":"SUMIF(PLAN1X_AGGREGATE!$B$2:$B$44,GE$3,PLAN1X_AGGREGATE!$E$2:$E$44)","v":0.01}]
[]
[null,null,null,null,null,"Комментарии"]
[]
[null,null,null,null,null,{"$f":"IF(PLAN1X_AGGREGATE!$F$2=\"YAPR\",\"\",IF(PLAN1X_AGGREGATE!$F$2=\"NAPR\",\"Отчёт по теплоснабжению SUMMARY.BALANCE.CALC.TARIFF.WARM.2020YEAR отклонён. Просьба обратить внимание на плановые показатели по топливу в указанном отчёте перед заполнением данных мониторинга \"&GetTemplateCode(),IF(PLAN1X_AGGREGATE!$F$2=\"APRL\",\"Отчёт по теплоснабжению SUMMARY.BALANCE.CALC.TARIFF.WARM.2020YEAR на проверке. Просьба обратить внимание на плановые показатели по топливу в указанном отчёте перед заполнением данных мониторинга \"&GetTemplateCode(),\"Данные из отчёта по теплоснабжению SUMMARY.BALANCE.CALC.TARIFF.WARM.2020YEAR отсутствуют\")))","v":"Отчёт по теплоснабжению SUMMARY.BALANCE.CALC.TARIFF.WARM.2020YEAR на проверке. Просьба обратить внимание на плановые показатели по топливу в указанном отчёте перед заполнением данных мониторинга WARM.TOPL.Q1.2020"}]

{"sheet":"Т","index":7,"n_rows":92,"n_cols":193,"rows_kept":92,"cut":false,"hidden":false,"merged":[[49,99,49,102],[50,99,50,102],[51,99,51,102],[49,83,49,86],[50,83,50,86],[49,10,52,10],[49,189,51,189],[49,190,51,190],[49,191,51,191],[49,192,51,192],[39,6,43,6],[39,7,40,8],[41,7,41,9],[42,7,43,8],[49,13,52,13],[49,31,49,34],[50,31,50,34],[51,31,51,34],[49,35,49,38],[49,39,49,42],[49,43,49,46],[50,35,50,38],[50,39,50,42],[50,43,50,46],[51,35,51,38],[51,39,51,42],[51,43,51,46],[49,95,49,98],[50,95,50,98],[24,6,38,6],[24,7,28,7],[24,8,25,8],[26,8,26,9],[27,8,28,8],[29,7,33,7],[29,8,30,8],[31,8,31,9],[32,8,33,8],[34,7,38,7],[34,8,35,8],[36,8,36,9],[37,8,38,8],[10,6,11,8],[12,6,13,8],[14,6,15,8],[16,6,16,9],[17,6,17,9],[18,6,18,9],[19,6,20,8],[21,6,23,7],[21,8,22,8],[23,8,23,9],[49,87,49,90],[50,87,50,90],[51,87,51,90],[49,79,49,82],[50,79,50,82],[51,79,51,82],[51,131,51,134],[49,135,49,138],[49,91,49,94],[50,91,50,94],[51,91,51,94],[49,103,49,106],[50,103,50,106],[51,103,51,106],[51,107,51,110],[50,115,50,118],[49,107,49,110],[50,107,50,110],[50,135,50,138],[49,111,49,114],[49,115,49,118],[49,127,49,130],[51,127,51,130],[51,95,51,98],[51,55,51,58],[49,75,49,78],[50,75,50,78],[51,75,51,78],[49,59,49,62],[49,63,49,66],[49,67,49,70],[49,71,49,74],[51,83,51,86],[51,23,51,26],[49,27,49,30],[50,27,50,30],[51,27,51,30],[49,19,49,22],[50,19,50,22],[49,5,52,5],[49,183,49,186],[50,183,50,186],[51,183,51,186],[49,6,52,8],[49,175,49,178],[50,175,50,178],[51,19,51,22],[49,23,49,26],[49,15,49,18],[49,47,49,50],[50,47,50,50],[51,47,51,50],[49,51,49,54],[50,51,50,54],[51,51,51,54],[49,55,49,58],[50,55,50,58],[51,175,51,178],[49,179,49,182],[50,179,50,182],[51,179,51,182],[49,151,49,154],[50,151,50,154],[49,171,49,174],[50,171,50,174],[51,171,51,174],[49,163,49,166],[49,167,49,170],[50,167,50,170],[51,167,51,170],[50,163,50,166],[51,163,51,166],[51,151,51,154],[49,159,49,162],[50,159,50,162],[51,159,51,162],[49,155,49,158],[49,139,49,142],[50,139,50,142],[51,139,51,142],[49,147,49,150],[49,11,52,11],[49,12,52,12],[51,135,51,138],[51,143,51,146],[51,111,51,114],[51,115,51,118],[51,119,51,122],[51,123,51,126],[49,143,49,146],[50,111,50,114],[50,119,50,122],[50,123,50,126],[50,127,50,130],[50,131,50,134],[49,119,49,122],[49,123,49,126],[49,131,49,134],[50,15,50,18],[51,15,51,18],[50,23,50,26],[50,59,50,62],[50,63,50,66],[50,67,50,70],[50,71,50,74],[51,59,51,62],[51,63,51,66],[51,67,51,70],[51,71,51,74],[50,155,50,158],[51,155,51,158],[50,147,50,150],[51,147,51,150],[50,143,50,146],[55,1,90,1],[55,6,55,9],[57,6,58,8],[59,6,60,8],[61,6,62,8],[63,6,63,9],[64,6,64,9],[65,6,65,9],[66,6,67,8],[68,6,70,7],[68,8,69,8],[70,8,70,9],[71,6,85,6],[71,7,75,7],[71,8,72,8],[73,8,73,9],[74,8,75,8],[76,7,80,7],[76,8,77,8],[78,8,78,9],[79,8,80,8],[81,7,85,7],[81,8,82,8],[83,8,83,9],[84,8,85,8],[86,6,90,6],[86,7,87,8],[88,7,88,9],[89,7,90,8]]}
[]
[]
[]
[]
[]
[]
[]
[]
[null,null,null,null,null,null,null,null,null,null,null,"ACTI"]
[]
[null,null,null,null,null,"1.1.1","Цена натурального топлива без учёта транспортировки (руб./ед.изм.)",null,null,"без НДС",null,null,null,{"$f":"F11 & \"::\" & L9","v":"1.1.1::ACTI"},null,null,null,null,null,null,null,null,null,null,null,null,null,null,null,null,null,null,null,null,null,null,null,null,null,null,null,null,null,null,null,null,null,{"$f":"IF(AV17=0,0,(AV20-AV28-AV33-AV38)*1000/AV17)","v":0},{"$f":"IF(AW17=0,0,(AW20-AW28-AW33-AW38)*1000/AW17)","v":0},{"$f":"IF(AX17=0,0,(AX20-AX28-AX33-AX38)*1000/AX17)","v":0},{"$f":"IF(AY17=0,0,(AY20-AY28-AY33-AY38)*1000/AY17)","v":0},{"$f":"IF(AZ17=0,0,(AZ20-AZ28-AZ33-AZ38)*1000/AZ17)","v":0},{"$f":"IF(BA17=0,0,(BA20-BA28-BA33-BA38)*1000/BA17)","v":0},0,0,0,0,0,0,{"$f":"IF(BH17=0,0,(BH20-BH28-BH33-BH38)*1000/BH17)","v":0},0,0,0,0,0,0,0,0,0,0,0,0,0,0,0,0,0,0,0,0,0,0,0,0,0,0,0,0,0,0,0,0,0,0,0,{"$f":"IF(CR17=0,0,(CR20-CR28-CR33-CR38)*1000/CR17)","v":0},0,0,0,0,0,0,0,0,0,0,0,0,0,0,0,0,0,0,0,0,0,0,0,0,0,0,0,0,0,0,0,0,0,0,0,0,0,0,0,0,0,0,0,{"$f":"IF(EJ17=0,0,(EJ20-EJ28-EJ33-EJ38)*1000/EJ17)","v":0},{"$f":"IF(EK17=0,0,(EK20-EK28-EK33-EK38)*1000/EK17)","v":0},{"$f":"IF(EL17=0,0,(EL20-EL28-EL33-EL38)*1000/EL17)","v":0},{"$f":"IF(EM17=0,0,(EM20-EM28-EM33-EM38)*1000/EM17)","v":0},0,{"$f":"IF(EO17=0,0,(EO20-EO28-EO33-EO38)*1000/EO17)","v":0},{"$f":"IF(EP17=0,0,(EP20-EP28-EP33-EP38)*1000/EP17)","v":0},{"$f":"IF(EQ17=0,0,(EQ20-EQ28-EQ33-EQ38)*1000/EQ17)","v":0},null,null,null,null,null,null,null,null,{"$f":"IF(EZ17=0,0,(EZ20-EZ28-EZ33-EZ38)*1000/EZ17)","v":0},{"$f":"IF(FA17=0,0,(FA20-FA28-FA33-FA38)*1000/FA17)","v":0},{"$f":"IF(FB17=0,0,(FB20-FB28-FB33-FB38)*1000/FB17)","v":0},{"$f":"IF(FC17=0,0,(FC20-FC28-FC33-FC38)*1000/FC17)","v":0},{"$f":"IF(FD17=0,0,(FD20-FD28-FD33-FD38)*1000/FD17)","v":0},0,0,0,0,0,0,0,0,0,0,0,0,0,0,0,0,0,0,0,0,0,0,0,0,0,0,0]
[null,null,null,null,null,"1.1.2",null,null,null,"с НДС",null,null,null,{"$f":"F12 & \"::\" & L9","v":"1.1.2::ACTI"},null,null,null,null,null,null,null,null,null,null,null,null,null,null,null,null,null,null,null,null,null,null,null,null,null,null,null,null,null,null,null,null,null,{"$f":"IF(AV17=0,0,(AV21-AV29-AV34-AV39)*1000/AV17)","v":0},{"$f":"IF(AW17=0,0,(AW21-AW29-AW34-AW39)*1000/AW17)","v":0},{"$f":"IF(AX17=0,0,(AX21-AX29-AX34-AX39)*1000/AX17)","v":0},{"$f":"IF(AY17=0,0,(AY21-AY29-AY34-AY39)*1000/AY17)","v":0},{"$f":"IF(AZ17=0,0,(AZ21-AZ29-AZ34-AZ39)*1000/AZ17)","v":0},{"$f":"IF(BA17=0,0,(BA21-BA29-BA34-BA39)*1000/BA17)","v":0},0,0,0,0,0,0,{"$f":"IF(BH17=0,0,(BH21-BH29-BH34-BH39)*1000/BH17)","v":0},0,0,0,0,0,0,0,0,0,0,0,0,0,0,0,0,0,0,0,0,0,0,0,0,0,0,0,0,0,0,0,0,0,0,0,{"$f":"IF(CR17=0,0,(CR21-CR29-CR34-CR39)*1000/CR17)","v":0},0,0,0,0,0,0,0,0,0,0,0,0,0,0,0,0,0,0,0,0,0,0,0,0,0,0,0,0,0,0,0,0,0,0,0,0,0,0,0,0,0,0,0,{"$f":"IF(EJ17=0,0,(EJ21-EJ29-EJ34-EJ39)*1000/EJ17)","v":0},{"$f":"IF(EK17=0,0,(EK21-EK29-EK34-EK39)*1000/EK17)","v":0},{"$f":"IF(EL17=0,0,(EL21-EL29-EL34-EL39)*1000/EL17)","v":0},{"$f":"IF(EM17=0,0,(EM21-EM29-EM34-EM39)*1000/EM17)","v":0},0,{"$f":"IF(EO17=0,0,(EO21-EO29-EO34-EO39)*1000/EO17)","v":0},{"$f":"IF(EP17=0,0,(EP21-EP29-EP34-EP39)*1000/EP17)","v":0},{"$f":"IF(EQ17=0,0,(EQ21-EQ29-EQ34-EQ39)*1000/EQ17)","v":0},null,null,null,null,null,null,null,null,{"$f":"IF(EZ17=0,0,(EZ21-EZ29-EZ34-EZ39)*1000/EZ17)","v":0},{"$f":"IF(FA17=0,0,(FA21-FA29-FA34-FA39)*1000/FA17)","v":0},{"$f":"IF(FB17=0,0,(FB21-FB29-FB34-FB39)*1000/FB17)","v":0},{"$f":"IF(FC17=0,0,(FC21-FC29-FC34-FC39)*1000/FC17)","v":0},{"$f":"IF(FD17=0,0,(FD21-FD29-FD34-FD39)*1000/FD17)","v":0},0,0,0,0,0,0,0,0,0,0,0,0,0,0,0,0,0,0,0,0,0,0,0,0,0,0,0]
[null,null,null,null,null,"1.2.1","Цена натурального топлива с учётом транспортировки (руб./ед.изм.)",null,null,"без НДС",null,null,null,{"$f":"F13 & \"::\" & L9","v":"1.2.1::ACTI"},null,{"$f":"IF(P17=0,0,P20*1000/P17)","v":0},{"$f":"IF(Q17=0,0,Q20*1000/Q17)","v":0},{"$f":"IF(R17=0,0,R20*1000/R17)","v":0},{"$f":"IF(S17=0,0,S20*1000/S17)","v":7262.1526898192269},{"$f":"IF(T17=0,0,T20*1000/T17)","v":0},0,0,7122.5684000000001,0,0,0,10580.3045,0,0,0,0,{"$f":"IF(AF17=0,0,AF20*1000/AF17)","v":0},{"$f":"IF(AG17=0,0,AG20*1000/AG17)","v":0},{"$f":"IF(AH17=0,0,AH20*1000/AH17)","v":0},{"$f":"IF(AI17=0,0,AI20*1000/AI17)","v":0},{"$f":"IF(AJ17=0,0,AJ20*1000/AJ17)","v":0},0,0,0,0,0,0,0,0,0,0,0,{"$f":"IF(AV17=0,0,AV20*1000/AV17)","v":0},{"$f":"IF(AW17=0,0,AW20*1000/AW17)","v":0},{"$f":"IF(AX17=0,0,AX20*1000/AX17)","v":0},{"$f":"IF(AY17=0,0,AY20*1000/AY17)","v":0},{"$f":"IF(AZ17=0,0,AZ20*1000/AZ17)","v":0},{"$f":"IF(BA17=0,0,BA20*1000/BA17)","v":0},0,0,0,0,0,0,{"$f":"IF(BH17=0,0,BH20*1000/BH17)","v":0},0,0,0,0,0,0,0,0,0,0,0,0,0,0,0,0,0,0,0,0,0,0,0,0,0,0,0,0,0,0,0,0,0,0,0,{"$f":"IF(CR17=0,0,CR20*1000/CR17)","v":0},0,0,0,0,0,0,0,0,0,0,0,0,0,0,0,0,0,0,0,0,0,0,0,0,0,0,0,0,0,0,0,0,0,0,0,0,0,0,0,0,0,0,0,{"$f":"IF(EJ17=0,0,EJ20*1000/EJ17)","v":0},{"$f":"IF(EK17=0,0,EK20*1000/EK17)","v":0},{"$f":"IF(EL17=0,0,EL20*1000/EL17)","v":0},{"$f":"IF(EM17=0,0,EM20*1000/EM17)","v":0},0,{"$f":"IF(EO17=0,0,EO20*1000/EO17)","v":0},{"$f":"IF(EP17=0,0,EP20*1000/EP17)","v":0},{"$f":"IF(EQ17=0,0,EQ20*1000/EQ17)","v":0},null,null,null,null,null,null,null,null,{"$f":"IF(EZ17=0,0,EZ20*1000/EZ17)","v":0},{"$f":"IF(FA17=0,0,FA20*1000/FA17)","v":0},{"$f":"IF(FB17=0,0,FB20*1000/FB17)","v":0},{"$f":"IF(FC17=0,0,FC20*1000/FC17)","v":0},{"$f":"IF(FD17=0,0,FD20*1000/FD17)","v":0},0,0,0,0,0,0,0,0,0,0,0,0,0,0,0,0,0,0,0,0,0,0,0,0,0,0,0]
[null,null,null,null,null,"1.2.2",null,null,null,"с НДС",null,null,null,{"$f":"F14 & \"::\" & L9","v":"1.2.2::ACTI"},null,{"$f":"IF(P17=0,0,P21*1000/P17)","v":0},{"$f":"IF(Q17=0,0,Q21*1000/Q17)","v":0},{"$f":"IF(R17=0,0,R21*1000/R17)","v":0},{"$f":"IF(S17=0,0,S21*1000/S17)","v":7262.1526898192269},{"$f":"IF(T17=0,0,T21*1000/T17)","v":0},0,0,7122.5684000000001,0,0,0,10580.3045,0,0,0,0,{"$f":"IF(AF17=0,0,AF21*1000/AF17)","v":0},{"$f":"IF(AG17=0,0,AG21*1000/AG17)","v":0},{"$f":"IF(AH17=0,0,AH21*1000/AH17)","v":0},{"$f":"IF(AI17=0,0,AI21*1000/AI17)","v":0},{"$f":"IF(AJ17=0,0,AJ21*1000/AJ17)","v":0},0,0,0,0,0,0,0,0,0,0,0,{"$f":"IF(AV17=0,0,AV21*1000/AV17)","v":0},{"$f":"IF(AW17=0,0,AW21*1000/AW17)","v":0},{"$f":"IF(AX17=0,0,AX21*1000/AX17)","v":0},{"$f":"IF(AY17=0,0,AY21*1000/AY17)","v":0},{"$f":"IF(AZ17=0,0,AZ21*1000/AZ17)","v":0},{"$f":"IF(BA17=0,0,BA21*1000/BA17)","v":0},0,0,0,0,0,0,{"$f":"IF(BH17=0,0,BH21*1000/BH17)","v":0},0,0,0,0,0,0,0,0,0,0,0,0,0,0,0,0,0,0,0,0,0,0,0,0,0,0,0,0,0,0,0,0,0,0,0,{"$f":"IF(CR17=0,0,CR21*1000/CR17)","v":0},0,0,0,0,0,0,0,0,0,0,0,0,0,0,0,0,0,0,0,0,0,0,0,0,0,0,0,0,0,0,0,0,0,0,0,0,0,0,0,0,0,0,0,{"$f":"IF(EJ17=0,0,EJ21*1000/EJ17)","v":0},{"$f":"IF(EK17=0,0,EK21*1000/EK17)","v":0},{"$f":"IF(EL17=0,0,EL21*1000/EL17)","v":0},{"$f":"IF(EM17=0,0,EM21*1000/EM17)","v":0},0,{"$f":"IF(EO17=0,0,EO21*1000/EO17)","v":0},{"$f":"IF(EP17=0,0,EP21*1000/EP17)","v":0},{"$f":"IF(EQ17=0,0,EQ21*1000/EQ17)","v":0},null,null,null,null,null,null,null,null,{"$f":"IF(EZ17=0,0,EZ21*1000/EZ17)","v":0},{"$f":"IF(FA17=0,0,FA21*1000/FA17)","v":0},{"$f":"IF(FB17=0,0,FB21*1000/FB17)","v":0},{"$f":"IF(FC17=0,0,FC21*1000/FC17)","v":0},{"$f":"IF(FD17=0,0,FD21*1000/FD17)","v":0},0,0,0,0,0,0,0,0,0,0,0,0,0,0,0,0,0,0,0,0,0,0,0,0,0,0,0]
[null,null,null,null,null,"1.3.1","Цена условного топлива с учётом транспортировки (руб./тут)",null,null,"без НДС",null,null,null,{"$f":"F15 & \"::\" & L9","v":"1.3.1::ACTI"},null,{"$f":"IF(P19=0,0,P20*1000/P19)","v":0},{"$f":"IF(Q19=0,0,Q20*1000/Q19)","v":0},{"$f":"IF(R19=0,0,R20*1000/R19)","v":0},{"$f":"IF(S19=0,0,S20*1000/S19)","v":6225.591675798737},{"$f":"IF(T19=0,0,T20*1000/T19)","v":0},0,0,6105.9309044149168,0,0,0,9070.1281611658815,0,0,0,0,{"$f":"IF(AF19=0,0,AF20*1000/AF19)","v":0},{"$f":"IF(AG19=0,0,AG20*1000/AG19)","v":0},{"$f":"IF(AH19=0,0,AH20*1000/AH19)","v":0},{"$f":"IF(AI19=0,0,AI20*1000/AI19)","v":0},{"$f":"IF(AJ19=0,0,AJ20*1000/AJ19)","v":0},0,0,0,0,0,0,0,0,0,0,0,{"$f":"IF(AV19=0,0,AV20*1000/AV19)","v":0},{"$f":"IF(AW19=0,0,AW20*1000/AW19)","v":0},{"$f":"IF(AX19=0,0,AX20*1000/AX19)","v":0},{"$f":"IF(AY19=0,0,AY20*1000/AY19)","v":0},{"$f":"IF(AZ19=0,0,AZ20*1000/AZ19)","v":0},{"$f":"IF(BA19=0,0,BA20*1000/BA19)","v":0},0,0,0,0,0,0,{"$f":"IF(BH19=0,0,BH20*1000/BH19)","v":0},0,0,0,0,0,0,0,0,0,0,0,0,0,0,0,0,0,0,0,0,0,0,0,0,0,0,0,0,0,0,0,0,0,0,0,{"$f":"IF(CR19=0,0,CR20*1000/CR19)","v":0},0,0,0,0,0,0,0,0,0,0,0,0,0,0,0,0,0,0,0,0,0,0,0,0,0,0,0,0,0,0,0,0,0,0,0,0,0,0,0,0,0,0,0,{"$f":"IF(EJ19=0,0,EJ20*1000/EJ19)","v":0},{"$f":"IF(EK19=0,0,EK20*1000/EK19)","v":0},{"$f":"IF(EL19=0,0,EL20*1000/EL19)","v":0},{"$f":"IF(EM19=0,0,EM20*1000/EM19)","v":0},0,{"$f":"IF(EO19=0,0,EO20*1000/EO19)","v":0},{"$f":"IF(EP19=0,0,EP20*1000/EP19)","v":0},{"$f":"IF(EQ19=0,0,EQ20*1000/EQ19)","v":0},null,null,null,null,null,null,null,null,{"$f":"IF(EZ19=0,0,EZ20*1000/EZ19)","v":0},{"$f":"IF(FA19=0,0,FA20*1000/FA19)","v":0},{"$f":"IF(FB19=0,0,FB20*1000/FB19)","v":0},{"$f":"IF(FC19=0,0,FC20*1000/FC19)","v":0},{"$f":"IF(FD19=0,0,FD20*1000/FD19)","v":0},0,0,0,0,0,0,0,0,0,0,0,0,0,0,0,0,0,0,0,0,0,0,0,0,0,0,0]
[null,null,null,null,null,"1.3.2",null,null,null,"с НДС",null,null,null,{"$f":"F16 & \"::\" & L9","v":"1.3.2::ACTI"},null,{"$f":"IF(P19=0,0,P21*1000/P19)","v":0},{"$f":"IF(Q19=0,0,Q21*1000/Q19)","v":0},{"$f":"IF(R19=0,0,R21*1000/R19)","v":0},{"$f":"IF(S19=0,0,S21*1000/S19)","v":6225.591675798737},{"$f":"IF(T19=0,0,T21*1000/T19)","v":0},0,0,6105.9309044149168,0,0,0,9070.1281611658815,0,0,0,0,{"$f":"IF(AF19=0,0,AF21*1000/AF19)","v":0},{"$f":"IF(AG19=0,0,AG21*1000/AG19)","v":0},{"$f":"IF(AH19=0,0,AH21*1000/AH19)","v":0},{"$f":"IF(AI19=0,0,AI21*1000/AI19)","v":0},{"$f":"IF(AJ19=0,0,AJ21*1000/AJ19)","v":0},0,0,0,0,0,0,0,0,0,0,0,{"$f":"IF(AV19=0,0,AV21*1000/AV19)","v":0},{"$f":"IF(AW19=0,0,AW21*1000/AW19)","v":0},{"$f":"IF(AX19=0,0,AX21*1000/AX19)","v":0},{"$f":"IF(AY19=0,0,AY21*1000/AY19)","v":0},{"$f":"IF(AZ19=0,0,AZ21*1000/AZ19)","v":0},{"$f":"IF(BA19=0,0,BA21*1000/BA19)","v":0},0,0,0,0,0,0,{"$f":"IF(BH19=0,0,BH21*1000/BH19)","v":0},0,0,0,0,0,0,0,0,0,0,0,0,0,0,0,0,0,0,0,0,0,0,0,0,0,0,0,0,0,0,0,0,0,0,0,{"$f":"IF(CR19=0,0,CR21*1000/CR19)","v":0},0,0,0,0,0,0,0,0,0,0,0,0,0,0,0,0,0,0,0,0,0,0,0,0,0,0,0,0,0,0,0,0,0,0,0,0,0,0,0,0,0,0,0,{"$f":"IF(EJ19=0,0,EJ21*1000/EJ19)","v":0},{"$f":"IF(EK19=0,0,EK21*1000/EK19)","v":0},{"$f":"IF(EL19=0,0,EL21*1000/EL19)","v":0},{"$f":"IF(EM19=0,0,EM21*1000/EM19)","v":0},0,{"$f":"IF(EO19=0,0,EO21*1000/EO19)","v":0},{"$f":"IF(EP19=0,0,EP21*1000/EP19)","v":0},{"$f":"IF(EQ19=0,0,EQ21*1000/EQ19)","v":0},null,null,null,null,null,null,null,null,{"$f":"IF(EZ19=0,0,EZ21*1000/EZ19)","v":0},{"$f":"IF(FA19=0,0,FA21*1000/FA19)","v":0},{"$f":"IF(FB19=0,0,FB21*1000/FB19)","v":0},{"$f":"IF(FC19=0,0,FC21*1000/FC19)","v":0},{"$f":"IF(FD19=0,0,FD21*1000/FD19)","v":0},0,0,0,0,0,0,0,0,0,0,0,0,0,0,0,0,0,0,0,0,0,0,0,0,0,0,0]
[null,null,null,null,null,"2.1","Объём натурального топлива, всего",null,null,null,null,null,null,{"$f":"F17 & \"::\" & L9","v":"2.1::ACTI"},null,{"$f":"SUMIF($N$55:$N$92,$N17,P$55:P$92)","v":0},0,0,67.155999999999992,0,0,0,64.444999999999993,0,0,0,2.7109999999999999,0,0,0,0,0,0,0,0,0,0,0,0,0,0,0,0,0,0,0,0,{"$f":"SUMIF($N$55:$N$92,$N17,AV$55:AV$92)","v":0},0,0,0,0,0,0,0,0,0,0,0,0,0,0,0,0,0,0,0,0,0,0,0,0,0,0,0,0,0,0,0,{"$f":"SUMIF($N$55:$N$92,$N17,CB$55:CB$92)","v":0},0,0,0,0,0,0,0,0,0,0,0,0,0,0,0,0,0,0,0,0,0,0,0,0,0,0,0,0,0,0,0,{"$f":"SUMIF($N$55:$N$92,$N17,DH$55:DH$92)","v":0},0,0,0,0,0,0,0,0,0,0,0,0,0,0,0,0,0,0,0,0,0,0,0,0,0,0,0,0,0,0,0,0,0,0,0,null,null,null,null,null,null,null,null,{"$f":"SUMIF($N$55:$N$92,$N17,EZ$55:EZ$92)","v":0},0,0,0,0,0,0,0,0,0,0,0,0,0,0,0,0,0,0,0,0,0,0,0,0,0,0,0,0,0,0,0]
[null,null,null,null,null,"2.2","Переводной коэффициент",null,null,null,null,null,null,{"$f":"F18 & \"::\" & L9","v":"2.2::ACTI"}]
[null,null,null,null,null,"2.3","Объём условного топлива, всего (тут)",null,null,null,null,null,null,{"$f":"F19 & \"::\" & L9","v":"2.3::ACTI"},null,{"$f":"SUMIF($N$55:$N$92,$N19,P$55:P$92)","v":0},0,0,78.337473999999986,0,0,0,75.175092499999991,0,0,{"$f":"SUMIF($N$55:$N$92,$N19,Z$55:Z$92)","v":0},3.1623815,0,0,0,0,0,0,0,0,{"$f":"SUMIF($N$55:$N$92,$N19,AJ$55:AJ$92)","v":0},0,0,0,0,0,0,0,0,0,{"$f":"SUMIF($N$55:$N$92,$N19,AT$55:AT$92)","v":0},0,0,0,0,0,0,0,0,0,{"$f":"SUMIF($N$55:$N$92,$N19,BD$55:BD$92)","v":0},0,0,0,0,0,0,0,0,0,{"$f":"SUMIF($N$55:$N$92,$N19,BN$55:BN$92)","v":0},0,0,0,0,0,0,0,0,0,{"$f":"SUMIF($N$55:$N$92,$N19,BX$55:BX$92)","v":0},0,0,0,0,0,0,0,0,0,{"$f":"SUMIF($N$55:$N$92,$N19,CH$55:CH$92)","v":0},0,0,0,0,0,0,0,0,0,{"$f":"SUMIF($N$55:$N$92,$N19,CR$55:CR$92)","v":0},0,0,0,0,0,0,0,0,0,{"$f":"SUMIF($N$55:$N$92,$N19,DB$55:DB$92)","v":0},0,0,0,0,0,0,0,0,0,{"$f":"SUMIF($N$55:$N$92,$N19,DL$55:DL$92)","v":0},0,0,0,0,0,0,0,0,0,{"$f":"SUMIF($N$55:$N$92,$N19,DV$55:DV$92)","v":0},0,0,0,0,0,0,0,0,0,{"$f":"SUMIF($N$55:$N$92,$N19,EF$55:EF$92)","v":0},0,0,0,0,0,0,0,0,0,0,0,null,null,null,null,null,null,null,null,{"$f":"SUMIF($N$55:$N$92,$N19,EZ$55:EZ$92)","v":0},0,0,0,0,0,0,0,0,0,{"$f":"SUMIF($N$55:$N$92,$N19,FJ$55:FJ$92)","v":0},0,0,0,0,0,0,0,0,0,{"$f":"SUMIF($N$55:$N$92,$N19,FT$55:FT$92)","v":0},0,0,0,0,0,0,0,0,0,0,0]
[null,null,null,null,null,"3.1","Затраты на топливо, всего (тыс.руб.)",null,null,"без НДС",null,null,null,{"$f":"F20 & \"::\" & L9","v":"3.1::ACTI"},null,0,0,0,487.69712603749991,0,0,0,459.01392053799992,0,0,0,28.683205499500001,0,0,0,0,0,0,0,0,0,0,0,0,0,0,0,0,0,0,0,0,0,0,0,0,0,0,0,0,0,0,0,0,0,0,0,0,0,0,0,0,0,0,0,0,0,0,0,0,0,0,0,0,0,0,0,0,0,0,0,0,0,0,0,0,0,0,0,0,0,0,0,0,0,0,0,0,0,0,0,0,0,0,0,0,0,0,0,0,0,0,0,0,0,0,0,0,0,0,0,0,0,0,0,0,0,0,0,0,0,0,0,0,0,0,0,0,0,0,0,0,null,null,null,null,null,null,null,null,0,0,0,0,0,0,0,0,0,0,0,0,0,0,0,0,0,0,0,0,0,0,0,0,0,0,0,0,0,0,0,0]
[null,null,null,null,null,"3.2",null,null,null,"с НДС",null,null,null,{"$f":"F21 & \"::\" & L9","v":"3.2::ACTI"},null,0,0,0,487.69712603749991,0,0,0,459.01392053799992,0,0,0,28.683205499500001,0,0,0,0,0,0,0,0,0,0,0,0,0,0,0,0,0,0,0,0,0,0,0,0,0,0,0,0,0,0,0,0,0,0,0,0,0,0,0,0,0,0,0,0,0,0,0,0,0,0,0,0,0,0,0,0,0,0,0,0,0,0,0,0,0,0,0,0,0,0,0,0,0,0,0,0,0,0,0,0,0,0,0,0,0,0,0,0,0,0,0,0,0,0,0,0,0,0,0,0,0,0,0,0,0,0,0,0,0,0,0,0,0,0,0,0,0,0,0,0,null,null,null,null,null,null,null,null,0,0,0,0,0,0,0,0,0,0,0,0,0,0,0,0,0,0,0,0,0,0,0,0,0,0,0,0,0,0,0,0]
[null,null,null,null,null,"4.1.1","Топливо, транспортируемое по сетям, магистралям (трубопроводам)",null,"Средний тариф транзитной транспортировки (руб./тыс.куб.м)","без НДС",null,null,null,{"$f":"F22 & \"::\" & L9","v":"4.1.1::ACTI"}]
[null,null,null,null,null,"4.1.2",null,null,null,"с НДС",null,null,null,{"$f":"F23 & \"::\" & L9","v":"4.1.2::ACTI"}]
[null,null,null,null,null,"4.2",null,null,"Объём топлива, транспортируемого в транзитном потоке",null,null,null,null,{"$f":"F24 & \"::\" & L9","v":"4.2::ACTI"},null,{"$f":"SUMIF($N$55:$N$92,$N24,P$55:P$92)","v":0},0,0,0,0,0,0,0,0,0,0,0,0,0,0,0]
[null,null,null,null,null,"5.1.1","Топливо, транспортируемое по дорогам (авто, ж/д), а также прочие виды транспортировки","Транспортировка топлива автоперевозками","Тариф (цена за единицу) (руб./ед.изм.)","без НДС",null,null,null,{"$f":"F25 & \"::\" & L9","v":"5.1.1::ACTI"},null,null,null,null,null,null,null,null,null,null,null,null,null,null,null,null,null,null,null,null,null,null,null,null,null,null,null,null,null,null,null,null,null,{"$f":"IF(AV27=0,0,AV28*1000/AV27)","v":0},{"$f":"IF(AW27=0,0,AW28*1000/AW27)","v":0},{"$f":"IF(AX27=0,0,AX28*1000/AX27)","v":0},{"$f":"IF(AY27=0,0,AY28*1000/AY27)","v":0},{"$f":"IF(AZ27=0,0,AZ28*1000/AZ27)","v":0},{"$f":"IF(BA27=0,0,BA28*1000/BA27)","v":0},0,0,0,0,0,0,{"$f":"IF(BH27=0,0,BH28*1000/BH27)","v":0},0,0,0,0,0,0,0,0,0,0,0,0,0,0,0,0,0,0,0,0,0,0,0,0,0,0,0,0,0,0,0,0,0,0,0,{"$f":"IF(CR27=0,0,CR28*1000/CR27)","v":0},0,0,0,0,0,0,0,0,0,0,0,0,0,0,0,0,0,0,0,0,0,0,0,0,0,0,0,0,0,0,0,0,0,0,0,0,0,0,0,0,0,0,0,{"$f":"IF(EJ27=0,0,EJ28*1000/EJ27)","v":0},{"$f":"IF(EK27=0,0,EK28*1000/EK27)","v":0},{"$f":"IF(EL27=0,0,EL28*1000/EL27)","v":0},{"$f":"IF(EM27=0,0,EM28*1000/EM27)","v":0},0,{"$f":"IF(EO27=0,0,EO28*1000/EO27)","v":0},{"$f":"IF(EP27=0,0,EP28*1000/EP27)","v":0},{"$f":"IF(EQ27=0,0,EQ28*1000/EQ27)","v":0},null,null,null,null,null,null,null,null,{"$f":"IF(EZ27=0,0,EZ28*1000/EZ27)","v":0},{"$f":"IF(FA27=0,0,FA28*1000/FA27)","v":0},{"$f":"IF(FB27=0,0,FB28*1000/FB27)","v":0},{"$f":"IF(FC27=0,0,FC28*1000/FC27)","v":0},{"$f":"IF(FD27=0,0,FD28*1000/FD27)","v":0},0,0,0,0,0,0,0,0,0,0,0,0,0,0,0,0,0,0,0,0,0,0,0,0,0,0,0]
[null,null,null,null,null,"5.1.2",null,null,null,"с НДС",null,null,null,{"$f":"F26 & \"::\" & L9","v":"5.1.2::ACTI"},null,null,null,null,null,null,null,null,null,null,null,null,null,null,null,null,null,null,null,null,null,null,null,null,null,null,null,null,null,null,null,null,null,{"$f":"IF(AV27=0,0,AV29*1000/AV27)","v":0},0,0,0,0,0,0,0,0,0,0,0,{"$f":"IF(BH27=0,0,BH29*1000/BH27)","v":0},0,0,0,0,0,0,0,0,0,0,0,0,0,0,0,0,0,0,0,0,0,0,0,0,0,0,0,0,0,0,0,0,0,0,0,{"$f":"IF(CR27=0,0,CR29*1000/CR27)","v":0},0,0,0,0,0,0,0,{"$f":"IF(CZ27=0,0,CZ29*1000/CZ27)","v":0},0,0,0,0,0,0,0,0,0,0,0,0,0,0,0,0,0,0,0,0,0,0,0,0,0,0,0,0,0,0,0,{"$f":"IF(EF27=0,0,EF29*1000/EF27)","v":0},0,0,0,{"$f":"IF(EJ27=0,0,EJ29*1000/EJ27)","v":0},{"$f":"IF(EK27=0,0,EK29*1000/EK27)","v":0},{"$f":"IF(EL27=0,0,EL29*1000/EL27)","v":0},{"$f":"IF(EM27=0,0,EM29*1000/EM27)","v":0},0,0,0,0,null,null,null,null,null,null,null,null,{"$f":"IF(EZ27=0,0,EZ29*1000/EZ27)","v":0},{"$f":"IF(FA27=0,0,FA29*1000/FA27)","v":0},{"$f":"IF(FB27=0,0,FB29*1000/FB27)","v":0},{"$f":"IF(FC27=0,0,FC29*1000/FC27)","v":0},{"$f":"IF(FD27=0,0,FD29*1000/FD27)","v":0},0,0,0,0,0,0,0,0,0,0,0,0,0,0,0,0,0,0,0,0,0,0,0,0,0,0,0]
[null,null,null,null,null,"5.2",null,null,"Объём топлива",null,null,null,null,{"$f":"F27 & \"::\" & L9","v":"5.2::ACTI"},null,null,null,null,null,null,null,null,null,null,null,null,null,null,null,null,null,null,null,null,null,null,null,null,null,null,null,null,null,null,null,null,null,{"$f":"SUMIF($N$55:$N$92,$N27,AV$55:AV$92)","v":0},0,0,0,0,0,0,0,0,0,{"$f":"SUMIF($N$55:$N$92,$N27,BF$55:BF$92)","v":0},0,0,0,0,0,0,0,0,0,{"$f":"SUMIF($N$55:$N$92,$N27,BP$55:BP$92)","v":0},0,0,0,0,0,0,0,0,0,{"$f":"SUMIF($N$55:$N$92,$N27,BZ$55:BZ$92)","v":0},0,0,0,0,0,0,0,0,0,{"$f":"SUMIF($N$55:$N$92,$N27,CJ$55:CJ$92)","v":0},0,0,0,0,0,0,0,0,0,{"$f":"SUMIF($N$55:$N$92,$N27,CT$55:CT$92)","v":0},0,0,0,0,0,0,0,0,0,{"$f":"SUMIF($N$55:$N$92,$N27,DD$55:DD$92)","v":0},0,0,0,0,0,0,0,0,0,{"$f":"SUMIF($N$55:$N$92,$N27,DN$55:DN$92)","v":0},0,0,0,0,0,0,0,0,0,{"$f":"SUMIF($N$55:$N$92,$N27,DX$55:DX$92)","v":0},0,0,0,0,0,0,0,0,0,{"$f":"SUMIF($N$55:$N$92,$N27,EH$55:EH$92)","v":0},0,0,0,0,0,0,0,0,0,null,null,null,null,null,null,null,null,{"$f":"SUMIF($N$55:$N$92,$N27,EZ$55:EZ$92)","v":0},0,0,0,0,0,0,0,0,0,{"$f":"SUMIF($N$55:$N$92,$N27,FJ$55:FJ$92)","v":0},0,0,0,0,0,0,0,0,0,{"$f":"SUMIF($N$55:$N$92,$N27,FT$55:FT$92)","v":0},0,0,0,0,0,0,0,0,0,0,0]
[null,null,null,null,null,"5.3.1",null,null,"Затраты (тыс.руб.)","без НДС",null,null,null,{"$f":"F28 & \"::\" & L9","v":"5.3.1::ACTI"},null,null,null,null,null,null,null,null,null,null,null,null,null,null,null,null,null,null,null,null,null,null,null,null,null,null,null,null,null,null,null,null,null,0,0,0,0,0,0,0,0,0,0,0,0,0,0,0,0,0,0,0,0,0,0,0,0,0,0,0,0,0,0,0,0,0,0,0,0,0,0,0,0,0,0,0,0,0,0,0,0,0,0,0,0,0,0,0,0,0,0,0,0,0,0,0,0,0,0,0,0,0,0,0,0,0,0,0,0,0,0,0,0,0,0,0,0,0,0,0,0,0,0,0,0,0,0,0,0,0,0,0,0,null,null,null,null,null,null,null,null,0,0,0,0,0,0,0,0,0,0,0,0,0,0,0,0,0,0,0,0,0,0,0,0,0,0,0,0,0,0,0,0]
[null,null,null,null,null,"5.3.2",null,null,null,"с НДС",null,null,null,{"$f":"F29 & \"::\" & L9","v":"5.3.2::ACTI"},null,null,null,null,null,null,null,null,null,null,null,null,null,null,null,null,null,null,null,null,null,null,null,null,null,null,null,null,null,null,null,null,null,0,0,0,0,0,0,0,0,0,0,0,0,0,0,0,0,0,0,0,0,0,0,0,0,0,0,0,0,0,0,0,0,0,0,0,0,0,0,0,0,0,0,0,0,0,0,0,0,0,0,0,0,0,0,0,0,0,0,0,0,0,0,0,0,0,0,0,0,0,0,0,0,0,0,0,0,0,0,0,0,0,0,0,0,0,0,0,0,0,0,0,0,0,0,0,0,0,0,0,0,null,null,null,null,null,null,null,null,0,0,0,0,0,0,0,0,0,0,0,0,0,0,0,0,0,0,0,0,0,0,0,0,0,0,0,0,0,0,0,0]
[null,null,null,null,null,"6.1.1",null,"Транспортировка топлива ж/д перевозками","Тариф (цена за единицу) (руб./ед.изм.)","без НДС",null,null,null,{"$f":"F30 & \"::\" & L9","v":"6.1.1::ACTI"},null,null,null,null,null,null,null,null,null,null,null,null,null,null,null,null,null,null,null,null,null,null,null,null,null,null,null,null,null,null,null,null,null,{"$f":"IF(AV32=0,0,AV33*1000/AV32)","v":0},{"$f":"IF(AW32=0,0,AW33*1000/AW32)","v":0},{"$f":"IF(AX32=0,0,AX33*1000/AX32)","v":0},{"$f":"IF(AY32=0,0,AY33*1000/AY32)","v":0},{"$f":"IF(AZ32=0,0,AZ33*1000/AZ32)","v":0},{"$f":"IF(BA32=0,0,BA33*1000/BA32)","v":0},0,0,0,0,0,0,{"$f":"IF(BH32=0,0,BH33*1000/BH32)","v":0},0,0,0,0,0,0,0,0,0,0,0,0,0,0,0,0,0,0,0,0,0,0,0,0,0,0,0,0,0,0,0,0,0,0,0,{"$f":"IF(CR32=0,0,CR33*1000/CR32)","v":0},0,0,0,0,0,0,0,0,0,0,0,0,0,0,0,0,0,0,0,0,0,0,0,0,0,0,0,0,0,0,0,0,0,0,0,0,0,0,0,0,0,0,0,{"$f":"IF(EJ32=0,0,EJ33*1000/EJ32)","v":0},{"$f":"IF(EK32=0,0,EK33*1000/EK32)","v":0},{"$f":"IF(EL32=0,0,EL33*1000/EL32)","v":0},{"$f":"IF(EM32=0,0,EM33*1000/EM32)","v":0},0,{"$f":"IF(EO32=0,0,EO33*1000/EO32)","v":0},{"$f":"IF(EP32=0,0,EP33*1000/EP32)","v":0},{"$f":"IF(EQ32=0,0,EQ33*1000/EQ32)","v":0},null,null,null,null,null,null,null,null,{"$f":"IF(EZ32=0,0,EZ33*1000/EZ32)","v":0},{"$f":"IF(FA32=0,0,FA33*1000/FA32)","v":0},{"$f":"IF(FB32=0,0,FB33*1000/FB32)","v":0},{"$f":"IF(FC32=0,0,FC33*1000/FC32)","v":0},{"$f":"IF(FD32=0,0,FD33*1000/FD32)","v":0},0,0,0,0,0,0,0,0,0,0,0,0,0,0,0,0,0,0,0,0,0,0,0,0,0,0,0]
[null,null,null,null,null,"6.1.2",null,null,null,"с НДС",null,null,null,{"$f":"F31 & \"::\" & L9","v":"6.1.2::ACTI"},null,null,null,null,null,null,null,null,null,null,null,null,null,null,null,null,null,null,null,null,null,null,null,null,null,null,null,null,null,null,null,null,null,{"$f":"IF(AV32=0,0,AV34*1000/AV32)","v":0},0,0,0,0,0,0,0,0,0,0,0,{"$f":"IF(BH32=0,0,BH34*1000/BH32)","v":0},0,0,0,0,0,0,0,0,0,0,0,0,0,0,0,0,0,0,0,0,0,0,0,0,0,0,0,0,0,0,0,0,0,0,0,{"$f":"IF(CR32=0,0,CR34*1000/CR32)","v":0},0,0,0,0,0,0,0,{"$f":"IF(CZ32=0,0,CZ34*1000/CZ32)","v":0},0,0,0,0,0,0,0,0,0,0,0,0,0,0,0,0,0,0,0,0,0,0,0,0,0,0,0,0,0,0,0,{"$f":"IF(EF32=0,0,EF34*1000/EF32)","v":0},0,0,0,{"$f":"IF(EJ32=0,0,EJ34*1000/EJ32)","v":0},{"$f":"IF(EK32=0,0,EK34*1000/EK32)","v":0},{"$f":"IF(EL32=0,0,EL34*1000/EL32)","v":0},{"$f":"IF(EM32=0,0,EM34*1000/EM32)","v":0},0,0,0,0,null,null,null,null,null,null,null,null,{"$f":"IF(EZ32=0,0,EZ34*1000/EZ32)","v":0},{"$f":"IF(FA32=0,0,FA34*1000/FA32)","v":0},{"$f":"IF(FB32=0,0,FB34*1000/FB32)","v":0},{"$f":"IF(FC32=0,0,FC34*1000/FC32)","v":0},{"$f":"IF(FD32=0,0,FD34*1000/FD32)","v":0},0,0,0,0,0,0,0,0,0,0,0,0,0,0,0,0,0,0,0,0,0,0,0,0,0,0,0]
[null,null,null,null,null,"6.2",null,null,"Объём топлива",null,null,null,null,{"$f":"F32 & \"::\" & L9","v":"6.2::ACTI"},null,null,null,null,null,null,null,null,null,null,null,null,null,null,null,null,null,null,null,null,null,null,null,null,null,null,null,null,null,null,null,null,null,{"$f":"SUMIF($N$55:$N$92,$N32,AV$55:AV$92)","v":0},0,0,0,0,0,0,0,0,0,{"$f":"SUMIF($N$55:$N$92,$N32,BF$55:BF$92)","v":0},0,0,0,0,0,0,0,0,0,{"$f":"SUMIF($N$55:$N$92,$N32,BP$55:BP$92)","v":0},0,0,0,0,0,0,0,0,0,{"$f":"SUMIF($N$55:$N$92,$N32,BZ$55:BZ$92)","v":0},0,0,0,0,0,0,0,0,0,{"$f":"SUMIF($N$55:$N$92,$N32,CJ$55:CJ$92)","v":0},0,0,0,0,0,0,0,0,0,{"$f":"SUMIF($N$55:$N$92,$N32,CT$55:CT$92)","v":0},0,0,0,0,0,0,0,0,0,{"$f":"SUMIF($N$55:$N$92,$N32,DD$55:DD$92)","v":0},0,0,0,0,0,0,0,0,0,{"$f":"SUMIF($N$55:$N$92,$N32,DN$55:DN$92)","v":0},0,0,0,0,0,0,0,0,0,{"$f":"SUMIF($N$55:$N$92,$N32,DX$55:DX$92)","v":0},0,0,0,0,0,0,0,0,0,{"$f":"SUMIF($N$55:$N$92,$N32,EH$55:EH$92)","v":0},0,0,0,0,0,0,0,0,0,null,null,null,null,null,null,null,null,{"$f":"SUMIF($N$55:$N$92,$N32,EZ$55:EZ$92)","v":0},0,0,0,0,0,0,0,0,0,{"$f":"SUMIF($N$55:$N$92,$N32,FJ$55:FJ$92)","v":0},0,0,0,0,0,0,0,0,0,{"$f":"SUMIF($N$55:$N$92,$N32,FT$55:FT$92)","v":0},0,0,0,0,0,0,0,0,0,0,0]
[null,null,null,null,null,"6.3.1",null,null,"Затраты (тыс.руб.)","без НДС",null,null,null,{"$f":"F33 & \"::\" & L9","v":"6.3.1::ACTI"},null,null,null,null,null,null,null,null,null,null,null,null,null,null,null,null,null,null,null,null,null,null,null,null,null,null,null,null,null,null,null,null,null,0,0,0,0,0,0,0,0,0,0,0,0,0,0,0,0,0,0,0,0,0,0,0,0,0,0,0,0,0,0,0,0,0,0,0,0,0,0,0,0,0,0,0,0,0,0,0,0,0,0,0,0,0,0,0,0,0,0,0,0,0,0,0,0,0,0,0,0,0,0,0,0,0,0,0,0,0,0,0,0,0,0,0,0,0,0,0,0,0,0,0,0,0,0,0,0,0,0,0,0,null,null,null,null,null,null,null,null,0,0,0,0,0,0,0,0,0,0,0,0,0,0,0,0,0,0,0,0,0,0,0,0,0,0,0,0,0,0,0,0]
[null,null,null,null,null,"6.3.2",null,null,null,"с НДС",null,null,null,{"$f":"F34 & \"::\" & L9","v":"6.3.2::ACTI"},null,null,null,null,null,null,null,null,null,null,null,null,null,null,null,null,null,null,null,null,null,null,null,null,null,null,null,null,null,null,null,null,null,0,0,0,0,0,0,0,0,0,0,0,0,0,0,0,0,0,0,0,0,0,0,0,0,0,0,0,0,0,0,0,0,0,0,0,0,0,0,0,0,0,0,0,0,0,0,0,0,0,0,0,0,0,0,0,0,0,0,0,0,0,0,0,0,0,0,0,0,0,0,0,0,0,0,0,0,0,0,0,0,0,0,0,0,0,0,0,0,0,0,0,0,0,0,0,0,0,0,0,0,null,null,null,null,null,null,null,null,0,0,0,0,0,0,0,0,0,0,0,0,0,0,0,0,0,0,0,0,0,0,0,0,0,0,0,0,0,0,0,0]
[null,null,null,null,null,"7.1.1",null,"Транспортировка топлива иными видами перевозок","Тариф (цена за единицу) (руб./ед.изм.)","без НДС",null,null,null,{"$f":"F35 & \"::\" & L9","v":"7.1.1::ACTI"},null,null,null,null,null,null,null,null,null,null,null,null,null,null,null,null,null,null,null,null,null,null,null,null,null,null,null,null,null,null,null,null,null,{"$f":"IF(AV37=0,0,AV38*1000/AV37)","v":0},{"$f":"IF(AW37=0,0,AW38*1000/AW37)","v":0},{"$f":"IF(AX37=0,0,AX38*1000/AX37)","v":0},{"$f":"IF(AY37=0,0,AY38*1000/AY37)","v":0},{"$f":"IF(AZ37=0,0,AZ38*1000/AZ37)","v":0},{"$f":"IF(BA37=0,0,BA38*1000/BA37)","v":0},0,0,0,0,0,0,{"$f":"IF(BH37=0,0,BH38*1000/BH37)","v":0},0,0,0,0,0,0,0,0,0,0,0,0,0,0,0,0,0,0,0,0,0,0,0,0,0,0,0,0,0,0,0,0,0,0,0,{"$f":"IF(CR37=0,0,CR38*1000/CR37)","v":0},0,0,0,0,0,0,0,0,0,0,0,0,0,0,0,0,0,0,0,0,0,0,0,0,0,0,0,0,0,0,0,0,0,0,0,0,0,0,0,0,0,0,0,{"$f":"IF(EJ37=0,0,EJ38*1000/EJ37)","v":0},{"$f":"IF(EK37=0,0,EK38*1000/EK37)","v":0},{"$f":"IF(EL37=0,0,EL38*1000/EL37)","v":0},{"$f":"IF(EM37=0,0,EM38*1000/EM37)","v":0},0,{"$f":"IF(EO37=0,0,EO38*1000/EO37)","v":0},{"$f":"IF(EP37=0,0,EP38*1000/EP37)","v":0},{"$f":"IF(EQ37=0,0,EQ38*1000/EQ37)","v":0},null,null,null,null,null,null,null,null,{"$f":"IF(EZ37=0,0,EZ38*1000/EZ37)","v":0},{"$f":"IF(FA37=0,0,FA38*1000/FA37)","v":0},{"$f":"IF(FB37=0,0,FB38*1000/FB37)","v":0},{"$f":"IF(FC37=0,0,FC38*1000/FC37)","v":0},{"$f":"IF(FD37=0,0,FD38*1000/FD37)","v":0},0,0,0,0,0,0,0,0,0,0,0,0,0,0,0,0,0,0,0,0,0,0,0,0,0,0,0]
[null,null,null,null,null,"7.1.2",null,null,null,"с НДС",null,null,null,{"$f":"F36 & \"::\" & L9","v":"7.1.2::ACTI"},null,null,null,null,null,null,null,null,null,null,null,null,null,null,null,null,null,null,null,null,null,null,null,null,null,null,null,null,null,null,null,null,null,{"$f":"IF(AV37=0,0,AV39*1000/AV37)","v":0},0,0,0,0,0,0,0,0,0,0,0,{"$f":"IF(BH37=0,0,BH39*1000/BH37)","v":0},0,0,0,0,0,0,0,0,0,0,0,0,0,0,0,0,0,0,0,0,0,0,0,0,0,0,0,0,0,0,0,0,0,0,0,{"$f":"IF(CR37=0,0,CR39*1000/CR37)","v":0},0,0,0,0,0,0,0,{"$f":"IF(CZ37=0,0,CZ39*1000/CZ37)","v":0},0,0,0,0,0,0,0,0,0,0,0,0,0,0,0,0,0,0,0,0,0,0,0,0,0,0,0,0,0,0,0,{"$f":"IF(EF37=0,0,EF39*1000/EF37)","v":0},0,0,0,{"$f":"IF(EJ37=0,0,EJ39*1000/EJ37)","v":0},{"$f":"IF(EK37=0,0,EK39*1000/EK37)","v":0},{"$f":"IF(EL37=0,0,EL39*1000/EL37)","v":0},{"$f":"IF(EM37=0,0,EM39*1000/EM37)","v":0},0,0,0,0,null,null,null,null,null,null,null,null,{"$f":"IF(EZ37=0,0,EZ39*1000/EZ37)","v":0},{"$f":"IF(FA37=0,0,FA39*1000/FA37)","v":0},{"$f":"IF(FB37=0,0,FB39*1000/FB37)","v":0},{"$f":"IF(FC37=0,0,FC39*1000/FC37)","v":0},{"$f":"IF(FD37=0,0,FD39*1000/FD37)","v":0},0,0,0,0,0,0,0,0,0,0,0,0,0,0,0,0,0,0,0,0,0,0,0,0,0,0,0]
[null,null,null,null,null,"7.2",null,null,"Объём топлива",null,null,null,null,{"$f":"F37 & \"::\" & L9","v":"7.2::ACTI"},null,null,null,null,null,null,null,null,null,null,null,null,null,null,null,null,null,null,null,null,null,null,null,null,null,null,null,null,null,null,null,null,null,{"$f":"SUMIF($N$55:$N$92,$N37,AV$55:AV$92)","v":0},0,0,0,0,0,0,0,0,0,{"$f":"SUMIF($N$55:$N$92,$N37,BF$55:BF$92)","v":0},0,0,0,0,0,0,0,0,0,{"$f":"SUMIF($N$55:$N$92,$N37,BP$55:BP$92)","v":0},0,0,0,0,0,0,0,0,0,{"$f":"SUMIF($N$55:$N$92,$N37,BZ$55:BZ$92)","v":0},0,0,0,0,0,0,0,0,0,{"$f":"SUMIF($N$55:$N$92,$N37,CJ$55:CJ$92)","v":0},0,0,0,0,0,0,0,0,0,{"$f":"SUMIF($N$55:$N$92,$N37,CT$55:CT$92)","v":0},0,0,0,0,0,0,0,0,0,{"$f":"SUMIF($N$55:$N$92,$N37,DD$55:DD$92)","v":0},0,0,0,0,0,0,0,0,0,{"$f":"SUMIF($N$55:$N$92,$N37,DN$55:DN$92)","v":0},0,0,0,0,0,0,0,0,0,{"$f":"SUMIF($N$55:$N$92,$N37,DX$55:DX$92)","v":0},0,0,0,0,0,0,0,0,0,{"$f":"SUMIF($N$55:$N$92,$N37,EH$55:EH$92)","v":0},0,0,0,0,0,0,0,0,0,null,null,null,null,null,null,null,null,{"$f":"SUMIF($N$55:$N$92,$N37,EZ$55:EZ$92)","v":0},0,0,0,0,0,0,0,0,0,{"$f":"SUMIF($N$55:$N$92,$N37,FJ$55:FJ$92)","v":0},0,0,0,0,0,0,0,0,0,{"$f":"SUMIF($N$55:$N$92,$N37,FT$55:FT$92)","v":0},0,0,0,0,0,0,0,0,0,0,0]
[null,null,null,null,null,"7.3.1",null,null,"Затраты (тыс.руб.)","без НДС",null,null,null,{"$f":"F38 & \"::\" & L9","v":"7.3.1::ACTI"},null,null,null,null,null,null,null,null,null,null,null,null,null,null,null,null,null,null,null,null,null,null,null,null,null,null,null,null,null,null,null,null,null,0,0,0,0,0,0,0,0,0,0,0,0,0,0,0,0,0,0,0,0,0,0,0,0,0,0,0,0,0,0,0,0,0,0,0,0,0,0,0,0,0,0,0,0,0,0,0,0,0,0,0,0,0,0,0,0,0,0,0,0,0,0,0,0,0,0,0,0,0,0,0,0,0,0,0,0,0,0,0,0,0,0,0,0,0,0,0,0,0,0,0,0,0,0,0,0,0,0,0,0,null,null,null,null,null,null,null,null,0,0,0,0,0,0,0,0,0,0,0,0,0,0,0,0,0,0,0,0,0,0,0,0,0,0,0,0,0,0,0,0]
[null,null,null,null,null,"7.3.2",null,null,null,"с НДС",null,null,null,{"$f":"F39 & \"::\" & L9","v":"7.3.2::ACTI"},null,null,null,null,null,null,null,null,null,null,null,null,null,null,null,null,null,null,null,null,null,null,null,null,null,null,null,null,null,null,null,null,null,0,0,0,0,0,0,0,0,0,0,0,0,0,0,0,0,0,0,0,0,0,0,0,0,0,0,0,0,0,0,0,0,0,0,0,0,0,0,0,0,0,0,0,0,0,0,0,0,0,0,0,0,0,0,0,0,0,0,0,0,0,0,0,0,0,0,0,0,0,0,0,0,0,0,0,0,0,0,0,0,0,0,0,0,0,0,0,0,0,0,0,0,0,0,0,0,0,0,0,0,null,null,null,null,null,null,null,null,0,0,0,0,0,0,0,0,0,0,0,0,0,0,0,0,0,0,0,0,0,0,0,0,0,0,0,0,0,0,0,0]
[null,null,null,null,null,"8.1","Электроэнергия","Затраты, всего (тыс.руб.)",null,"без НДС",null,null,null,{"$f":"F40 & \"::\" & L9","v":"8.1::ACTI"},null,null,null,null,null,null,null,null,null,null,null,null,null,null,null,null,null,null,null,null,null,null,null,null,null,null,null,null,null,null,null,null,null,null,null,null,null,null,null,null,null,null,null,null,null,null,null,null,null,null,null,null,null,null,null,null,null,null,null,null,null,null,null,null,null,null,null,null,null,null,null,null,null,null,null,null,null,null,null,null,null,null,null,null,null,null,null,null,null,null,null,null,null,null,null,null,null,null,null,null,null,null,null,null,null,null,null,null,null,null,null,null,null,null,null,null,null,null,null,null,null,null,null,null,null,null,null,null,null,null,null,null,null,{"$f":"SUMIF($N$55:$N$92,$N40,ER$55:ER$92)","v":0},0,0,0,0,0,0,0]
[null,null,null,null,null,"8.2",null,null,null,"с НДС",null,null,null,{"$f":"F41 & \"::\" & L9","v":"8.2::ACTI"},null,null,null,null,null,null,null,null,null,null,null,null,null,null,null,null,null,null,null,null,null,null,null,null,null,null,null,null,null,null,null,null,null,null,null,null,null,null,null,null,null,null,null,null,null,null,null,null,null,null,null,null,null,null,null,null,null,null,null,null,null,null,null,null,null,null,null,null,null,null,null,null,null,null,null,null,null,null,null,null,null,null,null,null,null,null,null,null,null,null,null,null,null,null,null,null,null,null,null,null,null,null,null,null,null,null,null,null,null,null,null,null,null,null,null,null,null,null,null,null,null,null,null,null,null,null,null,null,null,null,null,null,null,0,0,0,0,0,0,0,0]
[null,null,null,null,null,"9",null,"Объём энергии / заявленной мощности",null,null,null,null,null,{"$f":"F42 & \"::\" & L9","v":"9::ACTI"},null,null,null,null,null,null,null,null,null,null,null,null,null,null,null,null,null,null,null,null,null,null,null,null,null,null,null,null,null,null,null,null,null,null,null,null,null,null,null,null,null,null,null,null,null,null,null,null,null,null,null,null,null,null,null,null,null,null,null,null,null,null,null,null,null,null,null,null,null,null,null,null,null,null,null,null,null,null,null,null,null,null,null,null,null,null,null,null,null,null,null,null,null,null,null,null,null,null,null,null,null,null,null,null,null,null,null,null,null,null,null,null,null,null,null,null,null,null,null,null,null,null,null,null,null,null,null,null,null,null,null,null,null,0,0,0,0,0,0,0,0]
[null,null,null,null,null,"10.1",null,"Тариф на энергию / заявленную мощность (руб./кВт*ч / руб./кВт*мес)",null,"без НДС",null,null,null,{"$f":"F43 & \"::\" & L9","v":"10.1::ACTI"},null,null,null,null,null,null,null,null,null,null,null,null,null,null,null,null,null,null,null,null,null,null,null,null,null,null,null,null,null,null,null,null,null,null,null,null,null,null,null,null,null,null,null,null,null,null,null,null,null,null,null,null,null,null,null,null,null,null,null,null,null,null,null,null,null,null,null,null,null,null,null,null,null,null,null,null,null,null,null,null,null,null,null,null,null,null,null,null,null,null,null,null,null,null,null,null,null,null,null,null,null,null,null,null,null,null,null,null,null,null,null,null,null,null,null,null,null,null,null,null,null,null,null,null,null,null,null,null,null,null,null,null,null,{"$f":"IF(ER42=0,0,ER40/ER42)","v":0},0,0,0,0,0,0,0]
[null,null,null,null,null,"10.2",null,null,null,"с НДС",null,null,null,{"$f":"F44 & \"::\" & L9","v":"10.2::ACTI"},null,null,null,null,null,null,null,null,null,null,null,null,null,null,null,null,null,null,null,null,null,null,null,null,null,null,null,null,null,null,null,null,null,null,null,null,null,null,null,null,null,null,null,null,null,null,null,null,null,null,null,null,null,null,null,null,null,null,null,null,null,null,null,null,null,null,null,null,null,null,null,null,null,null,null,null,null,null,null,null,null,null,null,null,null,null,null,null,null,null,null,null,null,null,null,null,null,null,null,null,null,null,null,null,null,null,null,null,null,null,null,null,null,null,null,null,null,null,null,null,null,null,null,null,null,null,null,null,null,null,null,null,null,{"$f":"IF(ER42=0,0,ER41/ER42)","v":0},0,0,0,0,0,0,0]
[]
[]
[]
[null,null,null,null,null,{"$f":"\"Информация о фактически сложившихся ценах и объёмах потребления топлива по итогам \" & CURRENT_PRD & \" \" & god & \" года. \" & \"Субъект Российской Федерации: \" & REGION_NAME","v":"Информация о фактически сложившихся ценах и объёмах потребления топлива по итогам I квартала 2020 года. Субъект Российской Федерации: Ставропольский край"}]
[null,null,null,null,null,null,null,null,null,null,null,null,null,null,null,"NG","NG","NG","NG","NGL","NGL","NGL","NGL","NGU","NGU","NGU","NGU","NGC","NGC","NGC","NGC","GBL","GBL","GBL","GBL","GCK","GCK","GCK","GCK","GOA","GOA","GOA","GOA","DSG","DSG","DSG","DSG","GCN","GCN","GCN","GCN","LNG","LNG","LNG","LNG","DSL","DSL","DSL","DSL","DSLA","DSLA","DSLA","DSLA","DSLW","DSLW","DSLW","DSLW","DSLS","DSLS","DSLS","DSLS","DSLO","DSLO","DSLO","DSLO","MST","MST","MST","MST","MSTM40","MSTM40","MSTM40","MSTM40","MSTM100","MSTM100","MSTM100","MSTM100","MSTM200","MSTM200","MSTM200","MSTM200","MSTT","MSTT","MSTT","MSTT","MSTF5","MSTF5","MSTF5","MSTF5","MSTF12","MSTF12","MSTF12","MSTF12","OIL","OIL","OIL","OIL","COA","COA","COA","COA","COAA","COAA","COAA","COAA","COAB","COAB","COAB","COAB","COAG","COAG","COAG","COAG","COALF","COALF","COALF","COALF","COAF","COAF","COAF","COAF","COAC","COAC","COAC","COAC","COASC","COASC","COASC","COASC","COAWC","COAWC","COAWC","COAWC","COAS","COAS","COAS","COAS","ENR","ENR","ENR","ENR","PWR","PWR","PWR","PWR","CWD","CWD","CWD","CWD","WDS","WDS","WDS","WDS","PLT","PLT","PLT","PLT","SAW","SAW","SAW","SAW","PEA","PEA","PEA","PEA","SHL","SHL","SHL","SHL","STF","STF","STF","STF","OTH","OTH","OTH","OTH"]
[null,null,null,null,null,"№ п/п","Показатели",null,null,"Вид топлива",null,"STATUS","SUM","CRITERIA",null,"Газ природный",null,null,null,"Газ природный",null,null,null,"Газ природный",null,null,null,"Газ природный",null,null,null,"Газ доменный",null,null,null,"Газ коксовый",null,null,null,"Газ нефтяной (попутный)",null,null,null,"Газ сухой отбензиненный",null,null,null,"Газовый конденсат",null,null,null,"Газ сжиженный",null,null,null,"Дизельное топливо",null,null,null,"Дизельное топливо",null,null,null,"Дизельное топливо",null,null,null,"Дизельное топливо",null,null,null,"Дизельное топливо",null,null,null,"Мазут",null,null,null,"Мазут",null,null,null,"Мазут",null,null,null,"Мазут",null,null,null,"Мазут",null,null,null,"Мазут",null,null,null,"Мазут",null,null,null,"Нефть",null,null,null,"Уголь",null,null,null,"Уголь",null,null,null,"Уголь",null,null,null,"Уголь",null,null,null,"Уголь",null,null,null,"Уголь",null,null,null,"Уголь",null,null,null,"Уголь",null,null,null,"Уголь",null,null,null,"Уголь",null,null,null,"Электроэнергия",null,null,null,"Электроэнергия",null,null,null,"Уголь",null,null,null,"Дрова",null,null,null,"Пеллеты",null,null,null,"Опилки",null,null,null,"Торф",null,null,null,"Сланцы",null,null,null,"Печное бытовое топливо",null,null,null,"Прочие виды топлива",null,null,null,null,null,"SUM.Q4","SUM.Q3","SUM.Q2","SUM.Q1"]
[null,null,null,null,null,null,null,null,null,"Марка топлива",null,null,null,null,null,"Всего",null,null,null,"Газ лимитный",null,null,null,"Газ сверхлимитный",null,null,null,"Газ коммерческий",null,null,null,null,null,null,null,null,null,null,null,null,null,null,null,null,null,null,null,null,null,null,null,null,null,null,null,"Всего",null,null,null,"А (арктическое)",null,null,null,"З (зимнее)",null,null,null,"Л (летнее)",null,null,null,"Е (межсезонное)",null,null,null,"Всего",null,null,null,"М-40",null,null,null,"М-100",null,null,null,"М-200",null,null,null,"мазут марки \"Т\"",null,null,null,"Ф-5",null,null,null,"Ф-12",null,null,null,null,null,null,null,"Всего",null,null,null,"Уголь антрацит",null,null,null,"Уголь бурый",null,null,null,"Уголь газовый",null,null,null,"Уголь длиннопламенный",null,null,null,"Уголь жирный",null,null,null,"Уголь коксовый",null,null,null,"Уголь отощённо-спекающийся",null,null,null,"Уголь слабоспекающийся",null,null,null,"Уголь тощий",null,null,null,"Энергия",null,null,null,"Заявленная мощность",null,null,null,"Уголь древесный"]
[null,null,null,null,null,null,null,null,null,"Единица измерения",null,null,null,null,null,"тыс.куб.м",null,null,null,"тыс.куб.м",null,null,null,"тыс.куб.м",null,null,null,"тыс.куб.м",null,null,null,"тыс.куб.м",null,null,null,"тыс.куб.м",null,null,null,"тыс.куб.м",null,null,null,"тыс.куб.м",null,null,null,"тнт",null,null,null,"тнт",null,null,null,"тнт",null,null,null,"тнт",null,null,null,"тнт",null,null,null,"тнт",null,null,null,"тнт",null,null,null,"тнт",null,null,null,"тнт",null,null,null,"тнт",null,null,null,"тнт",null,null,null,"тнт",null,null,null,"тнт",null,null,null,"тнт",null,null,null,"тнт",null,null,null,"тнт",null,null,null,"тнт",null,null,null,"тнт",null,null,null,"тнт",null,null,null,"тнт",null,null,null,"тнт",null,null,null,"тнт",null,null,null,"тнт",null,null,null,"тнт",null,null,null,"тнт",null,null,null,"тыс.кВт*час",null,null,null,"МВт",null,null,null,"тнт",null,null,null,"тнт",null,null,null,"тнт",null,null,null,"тнт",null,null,null,"тнт",null,null,null,"тнт",null,null,null,"тнт",null,null,null,"тнт"]
[null,null,null,null,null,null,null,null,null,"Период",null,null,null,null,null,"12 месяцев","9 месяцев","I полугодие","I квартал","12 месяцев","9 месяцев","I полугодие","I квартал","12 месяцев","9 месяцев","I полугодие","I квартал","12 месяцев","9 месяцев","I полугодие","I квартал","12 месяцев","9 месяцев","I полугодие","I квартал","12 месяцев","9 месяцев","I полугодие","I квартал","12 месяцев","9 месяцев","I полугодие","I квартал","12 месяцев","9 месяцев","I полугодие","I квартал","12 месяцев","9 месяцев","I полугодие","I квартал","12 месяцев","9 месяцев","I полугодие","I квартал","12 месяцев","9 месяцев","I полугодие","I квартал","12 месяцев","9 месяцев","I полугодие","I квартал","12 месяцев","9 месяцев","I полугодие","I квартал","12 месяцев","9 месяцев","I полугодие","I квартал","12 месяцев","9 месяцев","I полугодие","I квартал","12 месяцев","9 месяцев","I полугодие","I квартал","12 месяцев","9 месяцев","I полугодие","I квартал","12 месяцев","9 месяцев","I полугодие","I квартал","12 месяцев","9 месяцев","I полугодие","I квартал","12 месяцев","9 месяцев","I полугодие","I квартал","12 месяцев","9 месяцев","I полугодие","I квартал","12 месяцев","9 месяцев","I полугодие","I квартал","12 месяцев","9 месяцев","I полугодие","I квартал","12 месяцев","9 месяцев","I полугодие","I квартал","12 месяцев","9 месяцев","I полугодие","I квартал","12 месяцев","9 месяцев","I полугодие","I квартал","12 месяцев","9 месяцев","I полугодие","I квартал","12 месяцев","9 месяцев","I полугодие","I квартал","12 месяцев","9 месяцев","I полугодие","I квартал","12 месяцев","9 месяцев","I полугодие","I квартал","12 месяцев","9 месяцев","I полугодие","I квартал","12 месяцев","9 месяцев","I полугодие","I квартал","12 месяцев","9 месяцев","I полугодие","I квартал","12 месяцев","9 месяцев","I полугодие","I квартал","12 месяцев","9 месяцев","I полугодие","I квартал","12 месяцев","9 месяцев","I полугодие","I квартал","12 месяцев","9 месяцев","I полугодие","I квартал","12 месяцев","9 месяцев","I полугодие","I квартал","12 месяцев","9 месяцев","I полугодие","I квартал","12 месяцев","9 месяцев","I полугодие","I квартал","12 месяцев","9 месяцев","I полугодие","I квартал","12 месяцев","9 месяцев","I полугодие","I квартал","12 месяцев","9 месяцев","I полугодие","I квартал",null,null,"12 месяцев","9 месяцев","I полугодие","I квартал"]
[]
[null,0]
[null,"1",null,{"$f":"IF('Список организаций'!$M$16=\"да\", NDS, 1)","v":1},"Удалить",{"$f":"B56","v":"1"},{"$f":"'Список организаций'!$S$16 & \" / \" & 'Список организаций'!$I$16 & IF('Список организаций'!$K$16=\"\",\"\",\" / \" & 'Список организаций'!$K$16) & \" / \" & 'Список организаций'!$N$16 & \" объектов\"","v":"Город Ставрополь / ИП Согоян Геворг Владимирович / 1 объектов"},null,null,null,null,{"$f":"'Список организаций'!$P$16","v":"ACTI"},{"$f":"SUM($P67:$GE67)+SUM($P87:$GE87)","v":975.39425207499983},null,null,null,null,null,null,"Включить в расчёт","Включить в расчёт","Включить в расчёт","Исключить из расчёта","Включить в расчёт","Включить в расчёт","Включить в расчёт","Исключить из расчёта","Включить в расчёт","Включить в расчёт","Включить в расчёт","Включить в расчёт","Включить в расчёт","Включить в расчёт","Включить в расчёт","Включить в расчёт","Включить в расчёт","Включить в расчёт","Включить в расчёт","Включить в расчёт","Включить в расчёт","Включить в расчёт","Включить в расчёт","Включить в расчёт","Включить в расчёт","Включить в расчёт","Включить в расчёт","Включить в расчёт","Включить в расчёт","Включить в расчёт","Включить в расчёт","Включить в расчёт","Включить в расчёт","Включить в расчёт","Включить в расчёт","Включить в расчёт",null,null,null,null,"Включить в расчёт","Включить в расчёт","Включить в расчёт","Включить в расчёт","Включить в расчёт","Включить в расчёт","Включить в расчёт","Включить в расчёт","Включить в расчёт","Включить в расчёт","Включить в расчёт","Включить в расчёт","Включить в расчёт","Включить в расчёт","Включить в расчёт","Включить в расчёт",null,null,null,null,"Включить в расчёт","Включить в расчёт","Включить в расчёт","Включить в расчёт","Включить в расчёт","Включить в расчёт","Включить в расчёт","Включить в расчёт","Включить в расчёт","Включить в расчёт","Включить в расчёт","Включить в расчёт","Включить в расчёт","Включить в расчёт","Включить в расчёт","Включить в расчёт","Включить в расчёт","Включить в расчёт","Включить в расчёт","Включить в расчёт","Включить в расчёт","Включить в расчёт","Включить в расчёт","Включить в расчёт","Включить в расчёт","Включить в расчёт","Включить в расчёт","Включить в расчёт",null,null,null,null,"Включить в расчёт","Включить в расчёт","Включить в расчёт","Включить в расчёт","Включить в расчёт","Включить в расчёт","Включить в расчёт","Включить в расчёт","Включить в расчёт","Включить в расчёт","Включить в расчёт","Включить в расчёт","Включить в расчёт","Включить в расчёт","Включить в расчёт","Включить в расчёт","Включить в расчёт","Включить в расчёт","Включить в расчёт","Включить в расчёт","Включить в расчёт","Включить в расчёт","Включить в расчёт","Включить в расчёт","Включить в расчёт","Включить в расчёт","Включить в расчёт","Включить в расчёт","Включить в расчёт","Включить в расчёт","Включить в расчёт","Включить в расчёт","Включить в расчёт","Включить в расчёт","Включить в расчёт","Включить в расчёт","Включить в расчёт","Включить в расчёт","Включить в расчёт","Включить в расчёт","Включить в расчёт","Включить в расчёт","Включить в расчёт","Включить в расчёт","Включить в расчёт","Включить в расчёт","Включить в расчёт","Включить в расчёт","Включить в расчёт","Включить в расчёт","Включить в расчёт","Включить в расчёт","Включить в расчёт","Включить в расчёт","Включить в расчёт","Включить в расчёт","Включить в расчёт","Включить в расчёт","Включить в расчёт","Включить в расчёт","Включить в расчёт","Включить в расчёт","Включить в расчёт","Включить в расчёт","Включить в расчёт","Включить в расчёт","Включить в расчёт","Включить в расчёт","Включить в расчёт","Включить в расчёт","Включить в расчёт","Включить в расчёт","Включить в расчёт","Включить в расчёт","Включить в расчёт","Включить в расчёт",null,null,{"$f":"SUMIF($P$53:$GE$53,\"12 месяцев\",$P67:$GE67)+SUMIF($P$53:$GE$53,\"12 месяцев\",$P87:$GE87)","v":0},{"$f":"SUMIF($P$53:$GE$53,\"9 месяцев\",$P67:$GE67)+SUMIF($P$53:$GE$53,\"9 месяцев\",$P87:$GE87)","v":0},{"$f":"SUMIF($P$53:$GE$53,\"I полугодие\",$P67:$GE67)+SUMIF($P$53:$GE$53,\"I полугодие\",$P87:$GE87)","v":0},{"$f":"SUMIF($P$53:$GE$53,\"I квартал\",$P67:$GE67)+SUMIF($P$53:$GE$53,\"I квартал\",$P87:$GE87)","v":975.39425207499983}]
[null,null,null,null,null,null,null,null,null,null,null,null,null,null,null,null,{"$f":"$D56","v":1},{"$f":"$D56","v":1},{"$f":"$D56","v":1},null,null,null,{"$f":"$D56","v":1},null,null,null,{"$f":"$D56","v":1},null,null,null,null,null,null,null,null,null,null,null,null,null,null,null,null,null,null,null,null,null,null,null,null,null,null,null,null,null,{"$f":"$D56","v":1},{"$f":"$D56","v":1},{"$f":"$D56","v":1},null,null,null,null,null,null,null,null,null,null,null,null,null,null,null,null,null,{"$f":"$D56","v":1},{"$f":"$D56","v":1},{"$f":"$D56","v":1},null,null,null,null,null,null,null,null,null,null,null,null,null,null,null,null,null,null,null,null,null,null,null,null,null,null,null,null,null,{"$f":"$D56","v":1},{"$f":"$D56","v":1},{"$f":"$D56","v":1}]
[null,null,null,null,null,"1.1.1","Цена натурального топлива без учёта транспортировки (руб./ед.изм.)",null,null,"без НДС",null,null,null,{"$f":"F58 & \"::\" & L56","v":"1.1.1::ACTI"},null,null,null,null,null,null,null,null,6240.7604000000001,null,null,null,9257.5925000000007,null,null,null,null,null,null,null,null,null,null,null,null,null,null,null,null,null,null,null,null,null,null,null,null,null,null,null,null,{"$f":"IF(BD64=0,0,(BD67-BD75-BD80-BD85)*1000/BD64)","v":0},{"$f":"IF(BE64=0,0,(BE67-BE75-BE80-BE85)*1000/BE64)","v":0},{"$f":"IF(BF64=0,0,(BF67-BF75-BF80-BF85)*1000/BF64)","v":0},{"$f":"IF(BG64=0,0,(BG67-BG75-BG80-BG85)*1000/BG64)","v":0},null,null,null,null,null,null,null,null,null,null,null,null,null,null,null,null,{"$f":"IF(BX64=0,0,(BX67-BX75-BX80-BX85)*1000/BX64)","v":0},{"$f":"IF(BY64=0,0,(BY67-BY75-BY80-BY85)*1000/BY64)","v":0},{"$f":"IF(BZ64=0,0,(BZ67-BZ75-BZ80-BZ85)*1000/BZ64)","v":0},{"$f":"IF(CA64=0,0,(CA67-CA75-CA80-CA85)*1000/CA64)","v":0},null,null,null,null,null,null,null,null,null,null,null,null,null,null,null,null,null,null,null,null,null,null,null,null,null,null,null,null,{"$f":"IF(DD64=0,0,(DD67-DD75-DD80-DD85)*1000/DD64)","v":0},{"$f":"IF(DE64=0,0,(DE67-DE75-DE80-DE85)*1000/DE64)","v":0},{"$f":"IF(DF64=0,0,(DF67-DF75-DF80-DF85)*1000/DF64)","v":0},{"$f":"IF(DG64=0,0,(DG67-DG75-DG80-DG85)*1000/DG64)","v":0}]
[null,null,null,null,null,"1.1.2",null,null,null,"с НДС",null,null,null,{"$f":"F59 & \"::\" & L56","v":"1.1.2::ACTI"},null,null,null,null,null,null,null,null,{"$f":"W58*W57","v":6240.7604000000001},null,null,null,{"$f":"AA58*AA57","v":9257.5925000000007},null,null,null,null,null,null,null,null,null,null,null,null,null,null,null,null,null,null,null,null,null,null,null,null,null,null,null,null,{"$f":"IF(BD64=0,0,(BD68-BD76-BD81-BD86)*1000/BD64)","v":0},{"$f":"IF(BE64=0,0,(BE68-BE76-BE81-BE86)*1000/BE64)","v":0},{"$f":"IF(BF64=0,0,(BF68-BF76-BF81-BF86)*1000/BF64)","v":0},{"$f":"IF(BG64=0,0,(BG68-BG76-BG81-BG86)*1000/BG64)","v":0},null,null,null,null,null,null,null,null,null,null,null,null,null,null,null,null,{"$f":"IF(BX64=0,0,(BX68-BX76-BX81-BX86)*1000/BX64)","v":0},{"$f":"IF(BY64=0,0,(BY68-BY76-BY81-BY86)*1000/BY64)","v":0},{"$f":"IF(BZ64=0,0,(BZ68-BZ76-BZ81-BZ86)*1000/BZ64)","v":0},{"$f":"IF(CA64=0,0,(CA68-CA76-CA81-CA86)*1000/CA64)","v":0},null,null,null,null,null,null,null,null,null,null,null,null,null,null,null,null,null,null,null,null,null,null,null,null,null,null,null,null,{"$f":"IF(DD64=0,0,(DD68-DD76-DD81-DD86)*1000/DD64)","v":0},{"$f":"IF(DE64=0,0,(DE68-DE76-DE81-DE86)*1000/DE64)","v":0},{"$f":"IF(DF64=0,0,(DF68-DF76-DF81-DF86)*1000/DF64)","v":0},{"$f":"IF(DG64=0,0,(DG68-DG76-DG81-DG86)*1000/DG64)","v":0}]
[null,null,null,null,null,"1.2.1","Цена натурального топлива с учётом транспортировки (руб./ед.изм.)",null,null,"без НДС",null,null,null,{"$f":"F60 & \"::\" & L56","v":"1.2.1::ACTI"},null,{"$f":"IF(P64=0,0,P67*1000/P64)","v":0},{"$f":"IF(Q64=0,0,Q67*1000/Q64)","v":0},{"$f":"IF(R64=0,0,R67*1000/R64)","v":0},{"$f":"IF(S64=0,0,S67*1000/S64)","v":7262.1526898192269},null,null,null,7122.5684000000001,null,null,null,10580.3045,null,null,null,null,null,null,null,null,null,null,null,null,null,null,null,null,null,null,null,null,null,null,null,null,null,null,null,null,{"$f":"IF(BD64=0,0,BD67*1000/BD64)","v":0},{"$f":"IF(BE64=0,0,BE67*1000/BE64)","v":0},{"$f":"IF(BF64=0,0,BF67*1000/BF64)","v":0},{"$f":"IF(BG64=0,0,BG67*1000/BG64)","v":0},null,null,null,null,null,null,null,null,null,null,null,null,null,null,null,null,{"$f":"IF(BX64=0,0,BX67*1000/BX64)","v":0},{"$f":"IF(BY64=0,0,BY67*1000/BY64)","v":0},{"$f":"IF(BZ64=0,0,BZ67*1000/BZ64)","v":0},{"$f":"IF(CA64=0,0,CA67*1000/CA64)","v":0},null,null,null,null,null,null,null,null,null,null,null,null,null,null,null,null,null,null,null,null,null,null,null,null,null,null,null,null,{"$f":"IF(DD64=0,0,DD67*1000/DD64)","v":0},{"$f":"IF(DE64=0,0,DE67*1000/DE64)","v":0},{"$f":"IF(DF64=0,0,DF67*1000/DF64)","v":0},{"$f":"IF(DG64=0,0,DG67*1000/DG64)","v":0}]
[null,null,null,null,null,"1.2.2",null,null,null,"с НДС",null,null,null,{"$f":"F61 & \"::\" & L56","v":"1.2.2::ACTI"},null,{"$f":"IF(P64=0,0,P68*1000/P64)","v":0},{"$f":"IF(Q64=0,0,Q68*1000/Q64)","v":0},{"$f":"IF(R64=0,0,R68*1000/R64)","v":0},{"$f":"IF(S64=0,0,S68*1000/S64)","v":7262.1526898192269},null,null,null,{"$f":"W60*W57","v":7122.5684000000001},null,null,null,{"$f":"AA60*AA57","v":10580.3045},null,null,null,null,null,null,null,null,null,null,null,null,null,null,null,null,null,null,null,null,null,null,null,null,null,null,null,null,{"$f":"IF(BD64=0,0,BD68*1000/BD64)","v":0},{"$f":"IF(BE64=0,0,BE68*1000/BE64)","v":0},{"$f":"IF(BF64=0,0,BF68*1000/BF64)","v":0},{"$f":"IF(BG64=0,0,BG68*1000/BG64)","v":0},null,null,null,null,null,null,null,null,null,null,null,null,null,null,null,null,{"$f":"IF(BX64=0,0,BX68*1000/BX64)","v":0},{"$f":"IF(BY64=0,0,BY68*1000/BY64)","v":0},{"$f":"IF(BZ64=0,0,BZ68*1000/BZ64)","v":0},{"$f":"IF(CA64=0,0,CA68*1000/CA64)","v":0},null,null,null,null,null,null,null,null,null,null,null,null,null,null,null,null,null,null,null,null,null,null,null,null,null,null,null,null,{"$f":"IF(DD64=0,0,DD68*1000/DD64)","v":0},{"$f":"IF(DE64=0,0,DE68*1000/DE64)","v":0},{"$f":"IF(DF64=0,0,DF68*1000/DF64)","v":0},{"$f":"IF(DG64=0,0,DG68*1000/DG64)","v":0}]
[null,null,null,null,null,"1.3.1","Цена условного топлива с учётом транспортировки (руб./тут)",null,null,"без НДС",null,null,null,{"$f":"F62 & \"::\" & L56","v":"1.3.1::ACTI"},null,{"$f":"IF(P66=0,0,P67*1000/P66)","v":0},{"$f":"IF(Q66=0,0,Q67*1000/Q66)","v":0},{"$f":"IF(R66=0,0,R67*1000/R66)","v":0},{"$f":"IF(S66=0,0,S67*1000/S66)","v":6225.591675798737},null,null,null,{"$f":"IF(W66=0,0,W67*1000/W66)","v":6105.9309044149168},null,null,null,{"$f":"IF(AA66=0,0,AA67*1000/AA66)","v":9070.1281611658815},null,null,null,null,null,null,null,null,null,null,null,null,null,null,null,null,null,null,null,null,null,null,null,null,null,null,null,null,{"$f":"IF(BD66=0,0,BD67*1000/BD66)","v":0},{"$f":"IF(BE66=0,0,BE67*1000/BE66)","v":0},{"$f":"IF(BF66=0,0,BF67*1000/BF66)","v":0},{"$f":"IF(BG66=0,0,BG67*1000/BG66)","v":0},null,null,null,null,null,null,null,null,null,null,null,null,null,null,null,null,{"$f":"IF(BX66=0,0,BX67*1000/BX66)","v":0},{"$f":"IF(BY66=0,0,BY67*1000/BY66)","v":0},{"$f":"IF(BZ66=0,0,BZ67*1000/BZ66)","v":0},{"$f":"IF(CA66=0,0,CA67*1000/CA66)","v":0},null,null,null,null,null,null,null,null,null,null,null,null,null,null,null,null,null,null,null,null,null,null,null,null,null,null,null,null,{"$f":"IF(DD66=0,0,DD67*1000/DD66)","v":0},{"$f":"IF(DE66=0,0,DE67*1000/DE66)","v":0},{"$f":"IF(DF66=0,0,DF67*1000/DF66)","v":0},{"$f":"IF(DG66=0,0,DG67*1000/DG66)","v":0}]
[null,null,null,null,null,"1.3.2",null,null,null,"с НДС",null,null,null,{"$f":"F63 & \"::\" & L56","v":"1.3.2::ACTI"},null,{"$f":"IF(P66=0,0,P68*1000/P66)","v":0},{"$f":"IF(Q66=0,0,Q68*1000/Q66)","v":0},{"$f":"IF(R66=0,0,R68*1000/R66)","v":0},{"$f":"IF(S66=0,0,S68*1000/S66)","v":6225.591675798737},null,null,null,{"$f":"IF(W66=0,0,W68*1000/W66)","v":6105.9309044149168},null,null,null,{"$f":"IF(AA66=0,0,AA68*1000/AA66)","v":9070.1281611658815},null,null,null,null,null,null,null,null,null,null,null,null,null,null,null,null,null,null,null,null,null,null,null,null,null,null,null,null,{"$f":"IF(BD66=0,0,BD68*1000/BD66)","v":0},{"$f":"IF(BE66=0,0,BE68*1000/BE66)","v":0},{"$f":"IF(BF66=0,0,BF68*1000/BF66)","v":0},{"$f":"IF(BG66=0,0,BG68*1000/BG66)","v":0},null,null,null,null,null,null,null,null,null,null,null,null,null,null,null,null,{"$f":"IF(BX66=0,0,BX68*1000/BX66)","v":0},{"$f":"IF(BY66=0,0,BY68*1000/BY66)","v":0},{"$f":"IF(BZ66=0,0,BZ68*1000/BZ66)","v":0},{"$f":"IF(CA66=0,0,CA68*1000/CA66)","v":0},null,null,null,null,null,null,null,null,null,null,null,null,null,null,null,null,null,null,null,null,null,null,null,null,null,null,null,null,{"$f":"IF(DD66=0,0,DD68*1000/DD66)","v":0},{"$f":"IF(DE66=0,0,DE68*1000/DE66)","v":0},{"$f":"IF(DF66=0,0,DF68*1000/DF66)","v":0},{"$f":"IF(DG66=0,0,DG68*1000/DG66)","v":0}]
[null,null,null,null,null,"2.1","Объём натурального топлива, всего",null,null,null,null,null,null,{"$f":"F64 & \"::\" & L56","v":"2.1::ACTI"},null,{"$f":"SUM(T64,X64,AB64)","v":0},{"$f":"SUM(U64,Y64,AC64)","v":0},{"$f":"SUM(V64,Z64,AD64)","v":0},{"$f":"SUM(W64,AA64,AE64)","v":67.155999999999992},null,null,null,64.444999999999993,null,null,null,2.7109999999999999,null,null,null,null,null,null,null,null,null,null,null,null,null,null,null,null,null,null,null,null,null,null,null,null,null,null,null,null,{"$f":"SUM(BH64,BL64,BP64,BT64)","v":0},{"$f":"SUM(BI64,BM64,BQ64,BU64)","v":0},{"$f":"SUM(BJ64,BN64,BR64,BV64)","v":0},{"$f":"SUM(BK64,BO64,BS64,BW64)","v":0},null,null,null,null,null,null,null,null,null,null,null,null,null,null,null,null,{"$f":"SUM(CB64,CF64,CJ64,CN64,CR64,CV64)","v":0},{"$f":"SUM(CC64,CG64,CK64,CO64,CS64,CW64)","v":0},{"$f":"SUM(CD64,CH64,CL64,CP64,CT64,CX64)","v":0},{"$f":"SUM(CE64,CI64,CM64,CQ64,CU64,CY64)","v":0},null,null,null,null,null,null,null,null,null,null,null,null,null,null,null,null,null,null,null,null,null,null,null,null,null,null,null,null,{"$f":"SUM(DH64,DL64,DP64,DT64,DX64,EB64,EF64,EJ64,EN64)","v":0},{"$f":"SUM(DI64,DM64,DQ64,DU64,DY64,EC64,EG64,EK64,EO64)","v":0},{"$f":"SUM(DJ64,DN64,DR64,DV64,DZ64,ED64,EH64,EL64,EP64)","v":0},{"$f":"SUM(DK64,DO64,DS64,DW64,EA64,EE64,EI64,EM64,EQ64)","v":0}]
[null,null,null,null,null,"2.2","Переводной коэффициент",null,null,null,null,null,null,{"$f":"F65 & \"::\" & L56","v":"2.2::ACTI"},null,null,null,null,null,null,null,null,1.1665000000000001,null,null,null,{"$f":"W65","v":1.1665000000000001}]
[null,null,null,null,null,"2.3","Объём условного топлива, всего (тут)",null,null,null,null,null,null,{"$f":"F66 & \"::\" & L56","v":"2.3::ACTI"},null,{"$f":"SUM(T66,X66,AB66)","v":0},0,0,78.337473999999986,null,null,null,{"$f":"W64*W65","v":75.175092499999991},null,null,null,{"$f":"AA64*AA65","v":3.1623815},null,null,null,null,null,null,null,null,null,null,null,null,null,null,null,null,null,null,null,null,null,null,null,null,null,null,null,null,{"$f":"SUM(BH66,BL66,BP66,BT66)","v":0},0,0,{"$f":"SUM(BK66,BO66,BS66,BW66)","v":0},null,null,null,null,null,null,null,null,null,null,null,null,null,null,null,null,{"$f":"SUM(CB66,CF66,CJ66,CN66,CR66,CV66)","v":0},0,0,0,null,null,null,null,null,null,null,null,null,null,null,null,null,null,null,null,null,null,null,null,null,null,null,null,null,null,null,null,{"$f":"SUM(DH66,DL66,DP66,DT66,DX66,EB66,EF66,EJ66,EN66)","v":0},0,0,0]
[null,null,null,null,null,"3.1","Затраты на топливо, всего (тыс.руб.)",null,null,"без НДС",null,null,null,{"$f":"F67 & \"::\" & L56","v":"3.1::ACTI"},null,0,0,0,487.69712603749991,null,null,null,{"$f":"W60*W64/1000","v":459.01392053799992},null,null,null,{"$f":"AA60*AA64/1000","v":28.683205499500001},null,null,null,null,null,null,null,null,null,null,null,null,null,null,null,null,null,null,null,null,null,null,null,null,null,null,null,null,0,0,0,{"$f":"SUM(BK67,BO67,BS67,BW67)","v":0},null,null,null,null,null,null,null,null,null,null,null,null,null,null,null,null,0,0,0,0,null,null,null,null,null,null,null,null,null,null,null,null,null,null,null,null,null,null,null,null,null,null,null,null,null,null,null,null,0,0,0,0]
[null,null,null,null,null,"3.2",null,null,null,"с НДС",null,null,null,{"$f":"F68 & \"::\" & L56","v":"3.2::ACTI"},null,0,0,0,487.69712603749991,null,null,null,{"$f":"W61*W64/1000","v":459.01392053799992},null,null,null,{"$f":"AA61*AA64/1000","v":28.683205499500001},null,null,null,null,null,null,null,null,null,null,null,null,null,null,null,null,null,null,null,null,null,null,null,null,null,null,null,null,0,0,0,{"$f":"SUM(BK68,BO68,BS68,BW68)","v":0},null,null,null,null,null,null,null,null,null,null,null,null,null,null,null,null,0,0,0,0,null,null,null,null,null,null,null,null,null,null,null,null,null,null,null,null,null,null,null,null,null,null,null,null,null,null,null,null,0,0,0,0]
[null,null,null,null,null,"4.1.1","Топливо, транспортируемое по сетям, магистралям (трубопроводам)",null,"Средний тариф транзитной транспортировки (руб./тыс.куб.м)","без НДС",null,null,null,{"$f":"F69 & \"::\" & L56","v":"4.1.1::ACTI"}]
[null,null,null,null,null,"4.1.2",null,null,null,"с НДС",null,null,null,{"$f":"F70 & \"::\" & L56","v":"4.1.2::ACTI"},null,null,null,null,null,null,null,null,{"$f":"W69*W57","v":0},null,null,null,{"$f":"AA69*AA57","v":0}]
[null,null,null,null,null,"4.2",null,null,"Объём топлива, транспортируемого в транзитном потоке",null,null,null,null,{"$f":"F71 & \"::\" & L56","v":"4.2::ACTI"},null,{"$f":"SUM(T71,X71,AB71)","v":0},{"$f":"SUM(U71,Y71,AC71)","v":0},{"$f":"SUM(V71,Z71,AD71)","v":0},{"$f":"SUM(W71,AA71,AE71)","v":0}]
[null,null,null,null,null,"5.1.1","Топливо, транспортируемое по дорогам (авто, ж/д), а также прочие виды транспортировки","Транспортировка топлива автоперевозками","Тариф (цена за единицу) (руб./ед.изм.)","без НДС",null,null,null,{"$f":"F72 & \"::\" & L56","v":"5.1.1::ACTI"},null,null,null,null,null,null,null,null,null,null,null,null,null,null,null,null,null,null,null,null,null,null,null,null,null,null,null,null,null,null,null,null,null,null,null,null,null,null,null,null,null,{"$f":"IF(BD74=0,0,BD75*1000/BD74)","v":0},{"$f":"IF(BE74=0,0,BE75*1000/BE74)","v":0},{"$f":"IF(BF74=0,0,BF75*1000/BF74)","v":0},{"$f":"IF(BG74=0,0,BG75*1000/BG74)","v":0},null,null,null,null,null,null,null,null,null,null,null,null,null,null,null,null,{"$f":"IF(BX74=0,0,BX75*1000/BX74)","v":0},{"$f":"IF(BY74=0,0,BY75*1000/BY74)","v":0},{"$f":"IF(BZ74=0,0,BZ75*1000/BZ74)","v":0},{"$f":"IF(CA74=0,0,CA75*1000/CA74)","v":0},null,null,null,null,null,null,null,null,null,null,null,null,null,null,null,null,null,null,null,null,null,null,null,null,null,null,null,null,{"$f":"IF(DD74=0,0,DD75*1000/DD74)","v":0},{"$f":"IF(DE74=0,0,DE75*1000/DE74)","v":0},{"$f":"IF(DF74=0,0,DF75*1000/DF74)","v":0},{"$f":"IF(DG74=0,0,DG75*1000/DG74)","v":0}]
[null,null,null,null,null,"5.1.2",null,null,null,"с НДС",null,null,null,{"$f":"F73 & \"::\" & L56","v":"5.1.2::ACTI"},null,null,null,null,null,null,null,null,null,null,null,null,null,null,null,null,null,null,null,null,null,null,null,null,null,null,null,null,null,null,null,null,null,null,null,null,null,null,null,null,null,{"$f":"IF(BD74=0,0,BD76*1000/BD74)","v":0},{"$f":"IF(BE74=0,0,BE76*1000/BE74)","v":0},{"$f":"IF(BF74=0,0,BF76*1000/BF74)","v":0},{"$f":"IF(BG74=0,0,BG76*1000/BG74)","v":0},null,null,null,null,null,null,null,null,null,null,null,null,null,null,null,null,{"$f":"IF(BX74=0,0,BX76*1000/BX74)","v":0},{"$f":"IF(BY74=0,0,BY76*1000/BY74)","v":0},{"$f":"IF(BZ74=0,0,BZ76*1000/BZ74)","v":0},{"$f":"IF(CA74=0,0,CA76*1000/CA74)","v":0},null,null,null,null,null,null,null,null,null,null,null,null,null,null,null,null,null,null,null,null,null,null,null,null,null,null,null,null,{"$f":"IF(DD74=0,0,DD76*1000/DD74)","v":0},{"$f":"IF(DE74=0,0,DE76*1000/DE74)","v":0},{"$f":"IF(DF74=0,0,DF76*1000/DF74)","v":0},{"$f":"IF(DG74=0,0,DG76*1000/DG74)","v":0}]
[null,null,null,null,null,"5.2",null,null,"Объём топлива",null,null,null,null,{"$f":"F74 & \"::\" & L56","v":"5.2::ACTI"},null,null,null,null,null,null,null,null,null,null,null,null,null,null,null,null,null,null,null,null,null,null,null,null,null,null,null,null,null,null,null,null,null,null,null,null,null,null,null,null,null,{"$f":"SUM(BH74,BL74,BP74,BT74)","v":0},0,0,{"$f":"SUM(BK74,BO74,BS74,BW74)","v":0},null,null,null,null,null,null,null,null,null,null,null,null,null,null,null,null,{"$f":"SUM(CB74,CF74,CJ74,CN74,CR74,CV74)","v":0},0,0,0,null,null,null,null,null,null,null,null,null,null,null,null,null,null,null,null,null,null,null,null,null,null,null,null,null,null,null,null,{"$f":"SUM(DH74,DL74,DP74,DT74,DX74,EB74,EF74,EJ74,EN74)","v":0},0,0,0]
[null,null,null,null,null,"5.3.1",null,null,"Затраты (тыс.руб.)","без НДС",null,null,null,{"$f":"F75 & \"::\" & L56","v":"5.3.1::ACTI"},null,null,null,null,null,null,null,null,null,null,null,null,null,null,null,null,null,null,null,null,null,null,null,null,null,null,null,null,null,null,null,null,null,null,null,null,null,null,null,null,null,0,0,0,{"$f":"SUM(BK75,BO75,BS75,BW75)","v":0},null,null,null,null,null,null,null,null,null,null,null,null,null,null,null,null,0,0,0,0,null,null,null,null,null,null,null,null,null,null,null,null,null,null,null,null,null,null,null,null,null,null,null,null,null,null,null,null,0,0,0,0]
[null,null,null,null,null,"5.3.2",null,null,null,"с НДС",null,null,null,{"$f":"F76 & \"::\" & L56","v":"5.3.2::ACTI"},null,null,null,null,null,null,null,null,null,null,null,null,null,null,null,null,null,null,null,null,null,null,null,null,null,null,null,null,null,null,null,null,null,null,null,null,null,null,null,null,null,0,0,0,{"$f":"SUM(BK76,BO76,BS76,BW76)","v":0},null,null,null,null,null,null,null,null,null,null,null,null,null,null,null,null,0,0,0,0,null,null,null,null,null,null,null,null,null,null,null,null,null,null,null,null,null,null,null,null,null,null,null,null,null,null,null,null,0,0,0,0]
[null,null,null,null,null,"6.1.1",null,"Транспортировка топлива ж/д перевозками","Тариф (цена за единицу) (руб./ед.изм.)","без НДС",null,null,null,{"$f":"F77 & \"::\" & L56","v":"6.1.1::ACTI"},null,null,null,null,null,null,null,null,null,null,null,null,null,null,null,null,null,null,null,null,null,null,null,null,null,null,null,null,null,null,null,null,null,null,null,null,null,null,null,null,null,{"$f":"IF(BD79=0,0,BD80*1000/BD79)","v":0},{"$f":"IF(BE79=0,0,BE80*1000/BE79)","v":0},{"$f":"IF(BF79=0,0,BF80*1000/BF79)","v":0},{"$f":"IF(BG79=0,0,BG80*1000/BG79)","v":0},null,null,null,null,null,null,null,null,null,null,null,null,null,null,null,null,{"$f":"IF(BX79=0,0,BX80*1000/BX79)","v":0},{"$f":"IF(BY79=0,0,BY80*1000/BY79)","v":0},{"$f":"IF(BZ79=0,0,BZ80*1000/BZ79)","v":0},{"$f":"IF(CA79=0,0,CA80*1000/CA79)","v":0},null,null,null,null,null,null,null,null,null,null,null,null,null,null,null,null,null,null,null,null,null,null,null,null,null,null,null,null,{"$f":"IF(DD79=0,0,DD80*1000/DD79)","v":0},{"$f":"IF(DE79=0,0,DE80*1000/DE79)","v":0},{"$f":"IF(DF79=0,0,DF80*1000/DF79)","v":0},{"$f":"IF(DG79=0,0,DG80*1000/DG79)","v":0}]
[null,null,null,null,null,"6.1.2",null,null,null,"с НДС",null,null,null,{"$f":"F78 & \"::\" & L56","v":"6.1.2::ACTI"},null,null,null,null,null,null,null,null,null,null,null,null,null,null,null,null,null,null,null,null,null,null,null,null,null,null,null,null,null,null,null,null,null,null,null,null,null,null,null,null,null,{"$f":"IF(BD79=0,0,BD81*1000/BD79)","v":0},{"$f":"IF(BE79=0,0,BE81*1000/BE79)","v":0},{"$f":"IF(BF79=0,0,BF81*1000/BF79)","v":0},{"$f":"IF(BG79=0,0,BG81*1000/BG79)","v":0},null,null,null,null,null,null,null,null,null,null,null,null,null,null,null,null,{"$f":"IF(BX79=0,0,BX81*1000/BX79)","v":0},{"$f":"IF(BY79=0,0,BY81*1000/BY79)","v":0},{"$f":"IF(BZ79=0,0,BZ81*1000/BZ79)","v":0},{"$f":"IF(CA79=0,0,CA81*1000/CA79)","v":0},null,null,null,null,null,null,null,null,null,null,null,null,null,null,null,null,null,null,null,null,null,null,null,null,null,null,null,null,{"$f":"IF(DD79=0,0,DD81*1000/DD79)","v":0},{"$f":"IF(DE79=0,0,DE81*1000/DE79)","v":0},{"$f":"IF(DF79=0,0,DF81*1000/DF79)","v":0},{"$f":"IF(DG79=0,0,DG81*1000/DG79)","v":0}]
[null,null,null,null,null,"6.2",null,null,"Объём топлива",null,null,null,null,{"$f":"F79 & \"::\" & L56","v":"6.2::ACTI"},null,null,null,null,null,null,null,null,null,null,null,null,null,null,null,null,null,null,null,null,null,null,null,null,null,null,null,null,null,null,null,null,null,null,null,null,null,null,null,null,null,{"$f":"SUM(BH79,BL79,BP79,BT79)","v":0},0,0,{"$f":"SUM(BK79,BO79,BS79,BW79)","v":0},null,null,null,null,null,null,null,null,null,null,null,null,null,null,null,null,{"$f":"SUM(CB79,CF79,CJ79,CN79,CR79,CV79)","v":0},0,0,0,null,null,null,null,null,null,null,null,null,null,null,null,null,null,null,null,null,null,null,null,null,null,null,null,null,null,null,null,{"$f":"SUM(DH79,DL79,DP79,DT79,DX79,EB79,EF79,EJ79,EN79)","v":0},0,0,0]
[null,null,null,null,null,"6.3.1",null,null,"Затраты (тыс.руб.)","без НДС",null,null,null,{"$f":"F80 & \"::\" & L56","v":"6.3.1::ACTI"},null,null,null,null,null,null,null,null,null,null,null,null,null,null,null,null,null,null,null,null,null,null,null,null,null,null,null,null,null,null,null,null,null,null,null,null,null,null,null,null,null,0,0,0,{"$f":"SUM(BK80,BO80,BS80,BW80)","v":0},null,null,null,null,null,null,null,null,null,null,null,null,null,null,null,null,0,0,0,0,null,null,null,null,null,null,null,null,null,null,null,null,null,null,null,null,null,null,null,null,null,null,null,null,null,null,null,null,0,0,0,0]
[null,null,null,null,null,"6.3.2",null,null,null,"с НДС",null,null,null,{"$f":"F81 & \"::\" & L56","v":"6.3.2::ACTI"},null,null,null,null,null,null,null,null,null,null,null,null,null,null,null,null,null,null,null,null,null,null,null,null,null,null,null,null,null,null,null,null,null,null,null,null,null,null,null,null,null,0,0,0,{"$f":"SUM(BK81,BO81,BS81,BW81)","v":0},null,null,null,null,null,null,null,null,null,null,null,null,null,null,null,null,0,0,0,0,null,null,null,null,null,null,null,null,null,null,null,null,null,null,null,null,null,null,null,null,null,null,null,null,null,null,null,null,0,0,0,0]
[null,null,null,null,null,"7.1.1",null,"Транспортировка топлива иными видами перевозок","Тариф (цена за единицу) (руб./ед.изм.)","без НДС",null,null,null,{"$f":"F82 & \"::\" & L56","v":"7.1.1::ACTI"},null,null,null,null,null,null,null,null,null,null,null,null,null,null,null,null,null,null,null,null,null,null,null,null,null,null,null,null,null,null,null,null,null,null,null,null,null,null,null,null,null,{"$f":"IF(BD84=0,0,BD85*1000/BD84)","v":0},{"$f":"IF(BE84=0,0,BE85*1000/BE84)","v":0},{"$f":"IF(BF84=0,0,BF85*1000/BF84)","v":0},{"$f":"IF(BG84=0,0,BG85*1000/BG84)","v":0},null,null,null,null,null,null,null,null,null,null,null,null,null,null,null,null,{"$f":"IF(BX84=0,0,BX85*1000/BX84)","v":0},{"$f":"IF(BY84=0,0,BY85*1000/BY84)","v":0},{"$f":"IF(BZ84=0,0,BZ85*1000/BZ84)","v":0},{"$f":"IF(CA84=0,0,CA85*1000/CA84)","v":0},null,null,null,null,null,null,null,null,null,null,null,null,null,null,null,null,null,null,null,null,null,null,null,null,null,null,null,null,{"$f":"IF(DD84=0,0,DD85*1000/DD84)","v":0},{"$f":"IF(DE84=0,0,DE85*1000/DE84)","v":0},{"$f":"IF(DF84=0,0,DF85*1000/DF84)","v":0},{"$f":"IF(DG84=0,0,DG85*1000/DG84)","v":0}]
[null,null,null,null,null,"7.1.2",null,null,null,"с НДС",null,null,null,{"$f":"F83 & \"::\" & L56","v":"7.1.2::ACTI"},null,null,null,null,null,null,null,null,null,null,null,null,null,null,null,null,null,null,null,null,null,null,null,null,null,null,null,null,null,null,null,null,null,null,null,null,null,null,null,null,null,{"$f":"IF(BD84=0,0,BD86*1000/BD84)","v":0},{"$f":"IF(BE84=0,0,BE86*1000/BE84)","v":0},{"$f":"IF(BF84=0,0,BF86*1000/BF84)","v":0},{"$f":"IF(BG84=0,0,BG86*1000/BG84)","v":0},null,null,null,null,null,null,null,null,null,null,null,null,null,null,null,null,{"$f":"IF(BX84=0,0,BX86*1000/BX84)","v":0},{"$f":"IF(BY84=0,0,BY86*1000/BY84)","v":0},{"$f":"IF(BZ84=0,0,BZ86*1000/BZ84)","v":0},{"$f":"IF(CA84=0,0,CA86*1000/CA84)","v":0},null,null,null,null,null,null,null,null,null,null,null,null,null,null,null,null,null,null,null,null,null,null,null,null,null,null,null,null,{"$f":"IF(DD84=0,0,DD86*1000/DD84)","v":0},{"$f":"IF(DE84=0,0,DE86*1000/DE84)","v":0},{"$f":"IF(DF84=0,0,DF86*1000/DF84)","v":0},{"$f":"IF(DG84=0,0,DG86*1000/DG84)","v":0}]
[null,null,null,null,null,"7.2",null,null,"Объём топлива",null,null,null,null,{"$f":"F84 & \"::\" & L56","v":"7.2::ACTI"},null,null,null,null,null,null,null,null,null,null,null,null,null,null,null,null,null,null,null,null,null,null,null,null,null,null,null,null,null,null,null,null,null,null,null,null,null,null,null,null,null,{"$f":"SUM(BH84,BL84,BP84,BT84)","v":0},0,0,{"$f":"SUM(BK84,BO84,BS84,BW84)","v":0},null,null,null,null,null,null,null,null,null,null,null,null,null,null,null,null,{"$f":"SUM(CB84,CF84,CJ84,CN84,CR84,CV84)","v":0},0,0,0,null,null,null,null,null,null,null,null,null,null,null,null,null,null,null,null,null,null,null,null,null,null,null,null,null,null,null,null,{"$f":"SUM(DH84,DL84,DP84,DT84,DX84,EB84,EF84,EJ84,EN84)","v":0},0,0,0]
[null,null,null,null,null,"7.3.1",null,null,"Затраты (тыс.руб.)","без НДС",null,null,null,{"$f":"F85 & \"::\" & L56","v":"7.3.1::ACTI"},null,null,null,null,null,null,null,null,null,null,null,null,null,null,null,null,null,null,null,null,null,null,null,null,null,null,null,null,null,null,null,null,null,null,null,null,null,null,null,null,null,0,0,0,{"$f":"SUM(BK85,BO85,BS85,BW85)","v":0},null,null,null,null,null,null,null,null,null,null,null,null,null,null,null,null,0,0,0,0,null,null,null,null,null,null,null,null,null,null,null,null,null,null,null,null,null,null,null,null,null,null,null,null,null,null,null,null,0,0,0,0]
[null,null,null,null,null,"7.3.2",null,null,null,"с НДС",null,null,null,{"$f":"F86 & \"::\" & L56","v":"7.3.2::ACTI"},null,null,null,null,null,null,null,null,null,null,null,null,null,null,null,null,null,null,null,null,null,null,null,null,null,null,null,null,null,null,null,null,null,null,null,null,null,null,null,null,null,0,0,0,{"$f":"SUM(BK86,BO86,BS86,BW86)","v":0},null,null,null,null,null,null,null,null,null,null,null,null,null,null,null,null,0,0,0,0,null,null,null,null,null,null,null,null,null,null,null,null,null,null,null,null,null,null,null,null,null,null,null,null,null,null,null,null,0,0,0,0]
[null,null,null,null,null,"8.1","Электроэнергия","Затраты, всего (тыс.руб.)",null,"без НДС",null,null,null,{"$f":"F87 & \"::\" & L56","v":"8.1::ACTI"}]
[null,null,null,null,null,"8.2",null,null,null,"с НДС",null,null,null,{"$f":"F88 & \"::\" & L56","v":"8.2::ACTI"}]
[null,null,null,null,null,"9",null,"Объём энергии / заявленной мощности",null,null,null,null,null,{"$f":"F89 & \"::\" & L56","v":"9::ACTI"}]
[null,null,null,null,null,"10.1",null,"Тариф на энергию / заявленную мощность (руб./кВт*ч / руб./кВт*мес)",null,"без НДС",null,null,null,{"$f":"F90 & \"::\" & L56","v":"10.1::ACTI"}]
[null,null,null,null,null,"10.2",null,null,null,"с НДС",null,null,null,{"$f":"F91 & \"::\" & L56","v":"10.2::ACTI"}]
[null,null,null,null,null,null,"Добавить"]

{"sheet":"Поставки топлива","index":8,"n_rows":17,"n_cols":114,"rows_kept":17,"cut":false,"hidden":false,"merged":[[12,94,13,94],[12,92,13,92],[12,93,13,93],[12,82,12,83],[12,84,13,84],[12,89,12,91],[12,85,12,86],[12,113,13,113],[12,109,13,109],[12,107,13,107],[12,108,13,108],[12,95,12,98],[12,103,12,106],[12,99,12,102],[12,58,13,58],[12,49,13,49],[12,50,13,50],[12,68,13,68],[12,56,13,56],[12,60,13,60],[12,65,13,65],[12,61,13,61],[12,62,13,62],[12,63,13,63],[12,64,13,64],[12,78,12,79],[12,80,12,81],[12,73,13,73],[12,74,13,74],[12,59,13,59],[12,75,13,75],[12,76,13,76],[12,72,13,72],[12,66,13,66],[12,67,13,67],[12,70,13,70],[12,77,13,77],[12,71,13,71],[12,69,13,69],[12,55,13,55],[12,57,13,57],[12,29,12,32],[12,34,12,37],[12,40,12,42],[12,48,13,48],[12,52,13,52],[12,53,13,53],[12,54,13,54],[12,46,13,46],[12,10,13,10],[12,28,13,28],[12,33,13,33],[12,38,13,38],[12,39,13,39],[12,5,13,5],[12,6,13,6],[12,7,13,7],[12,8,13,8],[12,9,13,9],[12,16,13,16],[12,26,13,26],[12,27,13,27],[12,43,12,45],[12,47,13,47],[12,11,13,11],[12,12,13,12],[12,13,13,13],[12,14,13,14],[12,15,13,15],[12,23,13,24],[12,25,13,25],[12,17,13,17],[12,18,13,18],[12,19,13,19],[12,20,13,20],[12,21,13,21],[12,22,13,22]]}
[]
[]
[]
[]
[]
[]
[]
[null,null,null,null,null,{"$f":"\"Информация о поставках топлива по итогам \" & CURRENT_PRD & \" \" & god & \" года. \" & \"Субъект Российской Федерации: \" & REGION_NAME","v":"Информация о поставках топлива по итогам I квартала 2020 года. Субъект Российской Федерации: Ставропольский край"},null,null,null,null,null,null,null,null,null,null,null,null,null,null,null,null,null,null,null,null,null,null,null,null,null,null,null,null,null,null,null,null,null,null,null,null,null,null,null,null,"* Если элементов в списке недостаточно, пожалуйста, обратитесь в службу сопровождения с запросом на добавление необходимых вариантов для расширения перечня, а затем обновите данные с помощью кнопки"]
[]
[]
[]
[]
[null,null,null,null,null,"№ п/п","ИНН","КПП","Наименование юридического лица",null,"Наименование (описание) обособленного подразделения","Вид(-ы) деятельности организации","Плательщик НДС",null,null,null,null,null,null,"TAX",null,null,null,"№ п/п",null,"Вид топлива","Марка топлива","Период","Наличие поставок и факт использования топлива в периоде","Поставщик продукции",null,null,null,null,"Грузополучатель продукции",null,null,null,null,null,"Контракт / договор, в соответствии с которым осуществлялась отгрузка товара",null,null,"Дополнительное соглашение, спецификация либо иное приложение к контракту / договору, в соответствии с которым осуществлялась отгрузка товара",null,null,"Основание заключения контракта / договора, в соответствии с которым осуществлялась отгрузка товара","URL-ссылка на закупку","Номер закупочной процедуры","Дата отгрузки продукции",null,"Счёт-фактура",null,"Условие поставки продукции в соответствии с Инкотермс 2010",null,"Идентификационный номер внебиржевого договора, зарегистрированного на АО \"СПбМТСБ\"",null,"Адрес сайта, на котором размещена документация по конкурентным процедурам",null,null,null,"Станция / место отправления продукции",null,"Станция / место поставки продукции",null,null,null,null,null,null,null,"Плечо доставки, км",null,null,null,null,"Способ доставки топлива",null,"Цена продукции на базисе контракта / договора (руб./ед.изм.) (включает транспортные расходы)",null,"Транспортные расходы (руб./ед.изм.)",null,"Цена продукции без учёта транспортных расходов (руб./ед.изм.)",null,"Объём отгрузки продукции (ед.изм.)","Затраты на продукцию, всего (тыс.руб.)",null,{"$f":"\"Запасы топлива прошлых периодов (до \" & god & \" года), созданных до 31.12.\" & god-1 & \" включительно (ед.изм.)\"","v":"Запасы топлива прошлых периодов (до 2020 года), созданных до 31.12.2019 включительно (ед.изм.)"},{"$f":"\"Запасы топлива, созданные в течение \" & god & \" года (ед.изм.)\"","v":"Запасы топлива, созданные в течение 2020 года (ед.изм.)"},{"$f":"\"Использование в течение \" & god & \" года запасов топлива, в том числе прошлых периодов (до \" & god & \" года), создаваемых (созданных) до 31.12.\" & god & \" включительно (ед.изм.)\"","v":"Использование в течение 2020 года запасов топлива, в том числе прошлых периодов (до 2020 года), создаваемых (созданных) до 31.12.2020 включительно (ед.изм.)"},null,null,null,"FUEL MARKER",null,"MST",null,null,null,"DSL",null,null,null,"COA",null,null,null,null,null,null,null,null,null,"Примечание"]
[null,null,null,null,null,null,null,null,null,null,null,null,null,null,null,null,null,null,null,null,null,null,null,null,null,null,null,null,null,"Наименование","ИНН","КПП","Юридический адрес",null,"Наименование","ИНН","КПП","Юридический адрес",null,null,"Номер","Дата заключения","URL-ссылка на документ","Номер","Дата заключения","URL-ссылка на документ",null,null,null,null,null,"URL-ссылка на документ",null,null,null,null,null,null,null,null,null,null,null,null,null,null,null,null,null,null,null,null,null,null,null,null,null,null,"без НДС","с НДС","без НДС","с НДС","без НДС","с НДС",null,"без НДС","с НДС","Всего в наличии","Всего в наличии","Всего в наличии","Использовано","Остаток на конец периода",null,null,null,"I","II","III","IV","I","II","III","IV","I","II","III","IV"]
[]
[null,null,null,null,null,0]
[null,null,null,null,null,null,"Добавить"]

{"sheet":"Свод","index":9,"n_rows":32,"n_cols":10,"rows_kept":32,"cut":false,"hidden":true,"merged":[[18,1,18,6],[24,1,24,6],[31,1,31,6],[25,1,25,6],[26,1,26,6],[27,1,27,6],[28,1,28,6],[29,1,29,6],[30,1,30,6],[5,1,5,6],[23,1,23,6],[21,1,21,6],[22,1,22,6],[2,5,2,6],[3,1,3,6],[7,2,7,6],[9,2,9,6],[19,1,19,6],[12,1,12,6],[13,1,13,6],[14,1,14,6],[15,1,15,6],[20,1,20,6],[16,1,16,6],[17,1,17,6]]}
[]
[null,null,null,null,null,null,{"$f":"version","v":"Версия 1.0"}]
[]
[null,"Свод отчётов от организаций",null,null,null,null,null,"Отчёт заполняется от организации (организаций)"]
[]
[null,{"$f":"IF(TOPL_TEMPLATE_MODE=\"\",\"\",TOPL_TEMPLATE_MODE)","v":"Отчёт заполняется от организации (организаций)"}]
[]
[null,{"$f":"\"Укажите, путь до папки в которой размещены отчёты с кодом \" & GetTemplateCode()","v":"Укажите, путь до папки в которой размещены отчёты с кодом WARM.TOPL.Q1.2020"}]
[]
[null,"Выберите шаблон из списка файлов указанной папки"]
[]
[]
[null,"Инструкция по своду данных"]
[]
[null,"Для того чтобы добавить в отчёт данные из других файлов:"]
[null,"1) Поместите отчёты, данные из которых необходимо добавить, в одну папку. Наименование этой папки необходимо указать в ячейке «C8»: либо вручную, либо с помощью кнопки «Обзор папок…»",null,null,null,null,null,null,null," "]
[null,"2) Нажмите кнопку «Выгрузить данные из папки»"]
[]
[null,"Для того чтобы добавить в отчёт данные из одного файла:"]
[null,"1) Укажите в ячейке «C8» путь к папке, в которой находится добавляемый файл"]
[null,"2) Нажмите кнопку «Сформировать список файлов папки»"]
[null,"3) В ячейке «C10» выберите из предложенного списка имя файла"]
[null,"4) Нажмите кнопку «Добавить данные из файла»"]
[]
[null,"Примечания"]
[null,"При запуске функции «Выгрузить данные из всех файлов данной папки» появляется окно «Замена совпадений» с вопросом: «При полном совпадении реквизитов организаций из обрабатываемого отчёта с реквизитами организаций уже присутствующими в данном отчёте, перегружать данные об организациях в данный отчёт?»."]
[null,"Варианты ответа:"]
[null,"-         «Всегда заменять» - при совпадении реквизитов данные организаций будут заменяться данными из добавляемого отчёта без подтверждений"]
[null,"-         «Спрашивать о замене» - при совпадении реквизитов данные организаций будут заменяться данными из добавляемого отчёта, только если вы подтвердите это в окне «Замена совпадений»"]
[null,"-         «Пропускать» - при совпадении реквизитов данные организаций не будут заменяться данными из добавляемого отчёта"]
[]
[null,"Лист  «Результаты загрузки» - лист для отображения результатов (ошибок и предупреждений) при переносе данных из других отчётов данного региона."]

{"sheet":"Результаты загрузки","index":10,"n_rows":1,"n_cols":2,"rows_kept":1,"cut":false,"hidden":true,"merged":[]}
["Файл (для просмотра щелкните по гиперссылке)","Статус"]

{"sheet":"Комментарии","index":11,"n_rows":10,"n_cols":9,"rows_kept":10,"cut":false,"hidden":true,"merged":[[6,5,6,9],[7,5,7,8]]}
[]
[]
[]
[]
[]
[]
[]
[null,null,null,null,null,"Комментарии"]
[]
[null,null,null,null,null,"I квартал","I полугодие","9 месяцев","12 месяцев"]

{"sheet":"Проверка","index":12,"n_rows":11,"n_cols":8,"rows_kept":11,"cut":false,"hidden":false,"merged":[[8,4,8,7]]}
[]
[]
[]
[]
[]
[]
[]
[]
[null,null,null,null,"Результаты проверки"]
[]
[null,null,null,null,"Ссылка 1","Ссылка 2","Описание причины","Обязательность выполнения"]

{"sheet":"TECHSHEET","index":13,"n_rows":988,"n_cols":19,"rows_kept":988,"cut":false,"hidden":true,"merged":[]}
["Алтайский край","RU22","Алтайский край",null,"HEAT_PRODUCTION_TYPE_LIST",null,"YES_NO",null,"SUPPLY_FUEL_TYPES",null,"PROTECT_MARKER",null,"DNS",null,"Sogo26","LOGIN",null,"YEAR_LIST","MONTH_LIST"]
["Амурская область","RU28","Амурская область",null,"некомбинированное",null,"да",null,"Мазут",null,"FEDERAL.2020",null,{"$f":"USE_DNS_SERVICE","v":"https://eias.ru"},null,null,"PASSWORD",null,2010,"Январь"]
["Архангельская область","RU29","Архангельская область",null,"комбинированное, более 25 МВт",null,"нет",null,"Дизельное топливо",null,null,null,null,null,"MD5","ATH_SCHEME",null,2011,"Февраль"]
["Астраханская область","RU30","Астраханская область",null,"комбинированное, менее 25 МВт",null,null,null,"Уголь",null,null,null,"NDS",null,"YES","RETAIN_PASSWORD",null,2012,"Март"]
["Белгородская область","RU31","Белгородская область",null,null,null,null,null,null,null,null,null,1.2,null,null,"SESSION_ID",null,2013,"Апрель"]
["Брянская область","RU32","Брянская область",null,"HEAT_VD_COMPONENTS",null,"ORDER_BY",null,"SUPPLY_FUEL_GRADES",null,"INCOTERMS_2010_TERMS",null,null,null,"70:75:68:40:38:56:55:58:57:43","OBFUSCATED_PASSWORD",null,2014,"Май"]
["Владимирская область","RU33","Владимирская область",null,"Производство",null,"UNDEF",null,"MASUT_GRADE_LIST",null,"EXW (Ex Works / Франко завод)",null,"PERIOD",null,null,null,null,2015,"Июнь"]
["Волгоградская область","RU34","Волгоградская область",null,"Передача",null,"MO",null,"DIESEL_GRADE_LIST",null,"FCA (Free Carrier / Франко перевозчик)",null,{"$f":"god","v":2020},null,"XML_ORG_LIST_TAG_NAMES",null,null,2016,"Июль"]
["Вологодская область","RU35","Вологодская область",null,"Сбыт",null,"ORG",null,"COAL_GRADE_LIST",null,"CPT (Carriage Paid to / Перевозка оплачена до)",null,null,null,"REGION_NAME",null,null,2017,"Август"]
["Воронежская область","RU36","Воронежская область",null,null,null,null,null,"М-40",null,"CIP (Carriage and Insurance Paid to / Перевозка и страхование оплачены до)",null,"Организация",null,"MR_NAME",null,null,2018,"Сентябрь"]
["г. Москва","RU77","Москва",null,"XML_PLAN1X_AGGREGATE_LIST_TAG_NAMES",null,null,null,"М-100",null,"DAT (Delivered at Terminal / Поставка на терминале)",null,{"$f":"\"01.01.\" & PERIOD","v":"01.01.2020"},null,"OKTMR_NAME",null,null,2019,"Октябрь"]
["г. Байконур","RU00",null,null,"NSRF",null,"XML_PLAN1X_SUBSIDIARY_LIST_TAG_NAMES",null,"М-200",null,"DAP (Delivered at Place / Поставка в месте назначения)",null,{"$f":"\"31.12.\" & PERIOD","v":"31.12.2020"},null,"MO_NAME",null,null,2020,"Ноябрь"]
["г. Санкт-Петербург","RU78","Cанкт-Петербург",null,"FUEL",null,"FIL_NAME",null,"мазут марки \"Т\"",null,"DDP (Delivered Duty Paid / Поставка с оплатой пошлин)",null,null,null,"OKTMO_NAME",null,null,2021,"Декабрь"]
["г. Севастополь","RU92","Севастополь",null,"PRICE",null,null,null,"Ф-5",null,null,null,"Виды деятельности",null,"RST_ORG_ID"]
["Еврейская автономная область","RU79","Еврейская автономная область",null,"AMOUNT",null,null,null,"Ф-12",null,null,null,{"$f":"\"01.01.\" & PERIOD","v":"01.01.2020"},null,"ORG_NAME"]
["Забайкальский край","RU75","Забайкальский край",null,"COSTS",null,"XML_PLAN1X_OKOPF_LIST_TAG_NAMES",null,"А (арктическое)",null,null,null,{"$f":"\"31.12.\" & PERIOD","v":"31.12.2020"},null,"INN_NAME"]
["Ивановская область","RU37","Ивановская область",null,"STATUS",null,"OKOPF_NAME",null,"З (зимнее)",null,null,null,null,null,"KPP_NAME"]
["Иркутская область","RU38","Иркутская область",null,"FUEL_COMMENTS_Q4",null,null,null,"Л (летнее)",null,null,null,"Территории",null,"VDET_NAME"]
["Кабардино-Балкарская республика","RU07","Республика Кабардино-Балкария",null,"FUEL_COMMENTS_Q3",null,null,null,"Е (межсезонное)",null,null,null,{"$f":"\"01.01.\" & PERIOD","v":"01.01.2020"},null,"VDET_NAME_LIST"]
["Калининградская область","RU39","Калининградская область",null,"FUEL_COMMENTS_Q2",null,"XML_W1X_TOPL_COMS_TAG_NAMES",null,"антрацит",null,null,null,{"$f":"\"31.12.\" & PERIOD","v":"31.12.2020"},null,"VDET_FULL_NAME_LIST"]
["Калужская область","RU40","Калужская область",null,"FUEL_COMMENTS_Q1",null,"N",null,"бурый",null,null,null,null,null,"ORG_START_DATE"]
["Камчатский край","RU41","Камчатский край",null,null,null,"CMT_Q1",null,"газовый",null,"XML_AUTHORISATION_TAG_NAMES",null,"XML_WTQ1X_DICTIONARIES_TAG_NAMES",null,"ORG_END_DATE"]
["Карачаево-Черкесская республика","RU09","Республика Карачаево-Черкессия",null,"XML_PLAN1X_HEAT_LIST_ORG_TAG_NAMES",null,"CMT_Q2",null,"длиннопламенный",null,"L1",null,"DIC_NAME",null,"VDET_START_DATE"]
["Кемеровская область","RU42","Кемеровская область",null,"RST_ORG_ID",null,"CMT_Q3",null,"жирный",null,"L2",null,"DIC_VALUE",null,"VDET_END_DATE"]
["Кировская область","RU43","Кировская область",null,"NOMER",null,"CMT_Q4",null,"коксовый"]
["Костромская область","RU44","Костромская область",null,"MR",null,null,null,"отощённо-спекающийся"]
["Краснодарский край","RU23","Краснодарский край",null,"MO",null,null,null,"слабоспекающийся",null,"SAX_PARSER_FEATURE",null,"XML_PLAN1X_FUEL_USAGE_TAG_NAMES",null,"XML_MR_MO_OKTMO_LIST_TAG_NAMES"]
["Красноярский край","RU24","Красноярский край",null,"OKTMO",null,"XML_W1X_TOPL_TOTAL_COMS_TAG_NAMES",null,"тощий",null,"YES",null,"ORG_NAME",null,"NSRF"]
["Курганская область","RU45","Курганская область",null,"INN",null,"VTOP_NAME",null,null,null,null,null,"INN_NAME",null,"MR_NAME"]
["Курская область","RU46","Курская область",null,"KPP",null,"VTOP2_NAME",null,"SUPPLY_FACT",null,null,null,"KPP_NAME",null,"OKTMO_MR_NAME"]
["Ленинградская область","RU47","Ленинградская область",null,"ORG",null,"ODP_NAME",null,"да",null,"VALIDATION_SETTINGS",null,"FIL_NAME",null,"MO_NAME"]
["Липецкая область","RU48","Липецкая область",null,"OKOPF",null,"L_COMMENT",null,"топливо не использовалось",null,"NO",null,"VDET_NAME",null,"OKTMO_NAME"]
["Магаданская область","RU49","Магаданская область",null,"FIL",null,null,null,"использовались запасы прошлых периодов",null,"NO",null,"FUEL_COMBO",null,"TYPE"]
["Московская область","RU50","Московская область",null,"VDET",null,null,null,null,null,"NO"]
["Мурманская область","RU51","Мурманская область",null,"NDS",null,"XML_W1X_TOPL_LIST_RST_ORG_TAG_NAMES",null,null,null,"NO",null,"XML_FILE_STORE_DATA_1/2/3_TAG_NAMES",null,"XML_FILE_EGR_BY_ORGN_TAG_NAMES"]
["Ненецкий автономный округ","RU83","Ненецкий автономный округ",null,"TRANSFER_AGENTS",null,"ORG_NAME",null,null,null,"YES",null,"GUID",null,"OGRN"]
["Нижегородская область","RU52","Нижегородская область",null,"NAME",null,"INN_NAME",null,null,null,null,null,"MIME",null,"ORG"]
["Новгородская область","RU53","Новгородская область",null,"POSITION",null,"KPP_NAME",null,null,null,null,null,"EXTENSION",null,"INN"]
["Новосибирская область","RU54","Новосибирская область",null,"PHONE",null,null,null,null,null,null,null,"CREATE_DATE",null,"KPP"]
["Омская область","RU55","Омская область",null,"EMAIL",null,null,null,null,null,null,null,"FORCE_ALLOWED"]
["Оренбургская область","RU56","Оренбургская область"]
["Орловская область","RU57","Орловская область",null,"XML_PLAN1X_HEAT_LIST_SRC_TAG_NAMES",null,"XML_W1X_TOPL_ORG_TAG_NAMES",null,"XML_W1X_TOPL_SRC_TAG_NAMES",null,"XML_W1X_TOPL_FUEL_TAG_NAMES",null,"XML_W1X_TOPL_SUPPLY_TAG_NAMES",null,"XML_W1X_TOPL_SUPPLY_PREV_TAG_NAMES"]
["Пензенская область","RU58","Пензенская область",null,"LGL_ID",null,"LGL_ID",{"$f":"\"HTP.P('<\" & G43 & \"><![CDATA[' || \" & IF(MID(G43,3,4)=\"STUB\",\"NULL\",\"REC.\" & G43) & \" || ']]></\" & G43 & \">');\"","v":"HTP.P('<LGL_ID><![CDATA[' || REC.LGL_ID || ']]></LGL_ID>');"},"LGL_ID",{"$f":"\"HTP.P('<\" & I43 & \"><![CDATA[' || \" & IF(MID(I43,3,4)=\"STUB\",\"NULL\",\"REC.\" & I43) & \" || ']]></\" & I43 & \">');\"","v":"HTP.P('<LGL_ID><![CDATA[' || REC.LGL_ID || ']]></LGL_ID>');"},"LGL_ID",{"$f":"\"HTP.P('<\" & K43 & \"><![CDATA[' || \" & IF(MID(K43,3,4)=\"STUB\",\"NULL\",\"REC.\" & K43) & \" || ']]></\" & K43 & \">');\"","v":"HTP.P('<LGL_ID><![CDATA[' || REC.LGL_ID || ']]></LGL_ID>');"},"LGL_ID",{"$f":"\"HTP.P('<\" & M43 & \"><![CDATA[' || \" & IF(MID(M43,3,4)=\"STUB\",\"NULL\",\"REC.\" & M43) & \" || ']]></\" & M43 & \">');\"","v":"HTP.P('<LGL_ID><![CDATA[' || REC.LGL_ID || ']]></LGL_ID>');"},"LGL_ID"]
["Пермский край","RU59","Пермский край",null,"NOMER_NAME",null,"L_STUB_1",{"$f":"\"HTP.P('<\" & G44 & \"><![CDATA[' || \" & IF(MID(G44,3,4)=\"STUB\",\"NULL\",\"REC.\" & G44) & \" || ']]></\" & G44 & \">');\"","v":"HTP.P('<L_STUB_1><![CDATA[' || NULL || ']]></L_STUB_1>');"},"L_OBJECT_NAME","HTP.P('<L_OBJECT_NAME><![CDATA[' || REC.L_OBJECT_NAME || ']]></L_OBJECT_NAME>');","NOMER_NAME",{"$f":"\"HTP.P('<\" & K44 & \"><![CDATA[' || \" & IF(MID(K44,3,4)=\"STUB\",\"NULL\",\"REC.\" & K44) & \" || ']]></\" & K44 & \">');\"","v":"HTP.P('<NOMER_NAME><![CDATA[' || REC.NOMER_NAME || ']]></NOMER_NAME>');"},"L_STUB_1","HTP.P('<L_STUB_1><![CDATA[' || NULL || ']]></L_STUB_1>');","NOMER_NAME"]
["Приморский край","RU25","Приморский край",null,"L_SERVICE_PRODUCTION",null,"L_STUB_2","HTP.P('<L_STUB_2><![CDATA[' || NULL || ']]></L_STUB_2>');","L_OBJECT_TYPE","HTP.P('<L_OBJECT_TYPE><![CDATA[' || REC.L_OBJECT_TYPE || ']]></L_OBJECT_TYPE>');","VTOP_NAME",{"$f":"\"HTP.P('<\" & K45 & \"><![CDATA[' || \" & IF(MID(K45,3,4)=\"STUB\",\"NULL\",\"REC.\" & K45) & \" || ']]></\" & K45 & \">');\"","v":"HTP.P('<VTOP_NAME><![CDATA[' || REC.VTOP_NAME || ']]></VTOP_NAME>');"},"L_STUB_2","HTP.P('<L_STUB_2><![CDATA[' || NULL || ']]></L_STUB_2>');","DET_NAME"]
["Псковская область","RU60","Псковская область",null,"L_SERVICE_TRANSMISSION",null,"L_STUB_3","HTP.P('<L_STUB_3><![CDATA[' || NULL || ']]></L_STUB_3>');","L_BASE_SERVICE_1","HTP.P('<L_BASE_SERVICE_1><![CDATA[' || REC.L_BASE_SERVICE_1 || ']]></L_BASE_SERVICE_1>');","VTOP2_NAME",{"$f":"\"HTP.P('<\" & K46 & \"><![CDATA[' || \" & IF(MID(K46,3,4)=\"STUB\",\"NULL\",\"REC.\" & K46) & \" || ']]></\" & K46 & \">');\"","v":"HTP.P('<VTOP2_NAME><![CDATA[' || REC.VTOP2_NAME || ']]></VTOP2_NAME>');"},"L_STUB_3","HTP.P('<L_STUB_3><![CDATA[' || NULL || ']]></L_STUB_3>');","INN_NAME"]
["Республика Адыгея","RU01","Республика Адыгея",null,"L_SERVICE_SALE",null,"L_STUB_4","HTP.P('<L_STUB_4><![CDATA[' || NULL || ']]></L_STUB_4>');","L_BASE_SERVICE_2","HTP.P('<L_BASE_SERVICE_2><![CDATA[' || REC.L_BASE_SERVICE_2 || ']]></L_BASE_SERVICE_2>');","ODP_NAME",{"$f":"\"HTP.P('<\" & K47 & \"><![CDATA[' || \" & IF(MID(K47,3,4)=\"STUB\",\"NULL\",\"REC.\" & K47) & \" || ']]></\" & K47 & \">');\"","v":"HTP.P('<ODP_NAME><![CDATA[' || REC.ODP_NAME || ']]></ODP_NAME>');"},"L_STUB_4","HTP.P('<L_STUB_4><![CDATA[' || NULL || ']]></L_STUB_4>');","KPP_NAME"]
["Республика Алтай","RU04","Республика Алтай",null,"ORG_NAME",null,"NOMER_NAME","HTP.P('<NOMER_NAME><![CDATA[' || REC.NOMER_NAME || ']]></NOMER_NAME>');","L_BASE_SERVICE_3","HTP.P('<L_BASE_SERVICE_3><![CDATA[' || REC.L_BASE_SERVICE_3 || ']]></L_BASE_SERVICE_3>');","L1_1_1",{"$f":"\"HTP.P('<\" & K48 & \">' || \" & IF(MID(K48,3,4)=\"STUB\",\"NULL\",\"REC.\" & K48) & \" || '</\" & K48 & \">');\"","v":"HTP.P('<L1_1_1>' || REC.L1_1_1 || '</L1_1_1>');"},"NOMER_NAME","HTP.P('<NOMER_NAME><![CDATA[' || REC.NOMER_NAME || ']]></NOMER_NAME>');","ORG_NAME"]
["Республика Башкортостан","RU02","Республика Башкортостан",null,"INN_NAME",null,"INN_NAME","HTP.P('<INN_NAME><![CDATA[' || REC.INN_NAME || ']]></INN_NAME>');","L_ADDRESS_MR","HTP.P('<L_ADDRESS_MR><![CDATA[' || REC.L_ADDRESS_MR || ']]></L_ADDRESS_MR>');","L1_1_2",{"$f":"\"HTP.P('<\" & K49 & \">' || \" & IF(MID(K49,3,4)=\"STUB\",\"NULL\",\"REC.\" & K49) & \" || '</\" & K49 & \">');\"","v":"HTP.P('<L1_1_2>' || REC.L1_1_2 || '</L1_1_2>');"},"INN_NAME","HTP.P('<INN_NAME><![CDATA[' || REC.INN_NAME || ']]></INN_NAME>');","FIL_NAME"]
["Республика Бурятия","RU03","Республика Бурятия",null,"KPP_NAME",null,"KPP_NAME","HTP.P('<KPP_NAME><![CDATA[' || REC.KPP_NAME || ']]></KPP_NAME>');","L_ADDRESS_MO","HTP.P('<L_ADDRESS_MO><![CDATA[' || REC.L_ADDRESS_MO || ']]></L_ADDRESS_MO>');","L1_2_1","HTP.P('<L1_2_1>' || REC.L1_2_1 || '</L1_2_1>');","KPP_NAME","HTP.P('<KPP_NAME><![CDATA[' || REC.KPP_NAME || ']]></KPP_NAME>');","VDET_NAME"]
["Республика Дагестан","RU05","Республика Дагестан",null,"FIL_NAME",null,"ORG_NAME","HTP.P('<ORG_NAME><![CDATA[' || REC.ORG_NAME || ']]></ORG_NAME>');","L_ADDRESS_OKTMO","HTP.P('<L_ADDRESS_OKTMO><![CDATA[' || REC.L_ADDRESS_OKTMO || ']]></L_ADDRESS_OKTMO>');","L1_2_2","HTP.P('<L1_2_2>' || REC.L1_2_2 || '</L1_2_2>');","ORG_NAME","HTP.P('<ORG_NAME><![CDATA[' || REC.ORG_NAME || ']]></ORG_NAME>');","L_TAX"]
["Республика Ингушетия","RU06","Республика Ингушетия",null,"NOMER2_NAME",null,"OKOPF_NAME","HTP.P('<OKOPF_NAME><![CDATA[' || REC.OKOPF_NAME || ']]></OKOPF_NAME>');","L_ADDRESS_LOCATION","HTP.P('<L_ADDRESS_LOCATION><![CDATA[' || REC.L_ADDRESS_LOCATION || ']]></L_ADDRESS_LOCATION>');","L1_3_1","HTP.P('<L1_3_1>' || REC.L1_3_1 || '</L1_3_1>');","L_STUB_5","HTP.P('<L_STUB_5><![CDATA[' || NULL || ']]></L_STUB_5>');","L_FUEL_TYPE"]
["Республика Калмыкия","RU08","Республика Калмыкия",null,"NMOB_NAME",null,"FIL_NAME","HTP.P('<FIL_NAME><![CDATA[' || REC.FIL_NAME || ']]></FIL_NAME>');","L_ADDRESS_LOC_OKTMO","HTP.P('<L_ADDRESS_LOC_OKTMO><![CDATA[' || REC.L_ADDRESS_LOC_OKTMO || ']]></L_ADDRESS_LOC_OKTMO>');","L1_3_2","HTP.P('<L1_3_2>' || REC.L1_3_2 || '</L1_3_2>');","FIL_NAME","HTP.P('<FIL_NAME><![CDATA[' || REC.FIL_NAME || ']]></FIL_NAME>');","L_FUEL_GRADE"]
["Республика Карелия","RU10","Республика Карелия",null,"DET_NAME",null,"VDET_NAME","HTP.P('<VDET_NAME><![CDATA[' || REC.VDET_NAME || ']]></VDET_NAME>');","L_ADDRESS_STREET","HTP.P('<L_ADDRESS_STREET><![CDATA[' || REC.L_ADDRESS_STREET || ']]></L_ADDRESS_STREET>');","L2_1","HTP.P('<L2_1>' || REC.L2_1 || '</L2_1>');","VDET_NAME","HTP.P('<VDET_NAME><![CDATA[' || REC.VDET_NAME || ']]></VDET_NAME>');","L_PERIOD"]
["Республика Коми","RU11","Республика Коми",null,"L_ADDRESS_MR",null,"NDS","HTP.P('<NDS><![CDATA[' || REC.NDS || ']]></NDS>');","L_ADDRESS_BUILDING","HTP.P('<L_ADDRESS_BUILDING><![CDATA[' || REC.L_ADDRESS_BUILDING || ']]></L_ADDRESS_BUILDING>');","L2_2","HTP.P('<L2_2>' || REC.L2_2 || '</L2_2>');","L_TAX","HTP.P('<L_TAX><![CDATA[' || REC.L_TAX || ']]></L_TAX>');","L_FUEL_BALANCE"]
["Республика Крым","RU82","Крым",null,"L_ADDRESS_MO",null,"DPR_NAME","HTP.P('<DPR_NAME><![CDATA[' || REC.DPR_NAME || ']]></DPR_NAME>');","L_STUB_1","HTP.P('<L_STUB_1><![CDATA[' || NULL || ']]></L_STUB_1>');","L2_3","HTP.P('<L2_3>' || REC.L2_3 || '</L2_3>');","L_STUB_6","HTP.P('<L_STUB_6><![CDATA[' || NULL || ']]></L_STUB_6>');"]
["Республика Марий Эл","RU12","Республика Марий Эл",null,"L_ADDRESS_OKTMO",null,"RST_ORG_ID","HTP.P('<RST_ORG_ID><![CDATA[' || REC.RST_ORG_ID || ']]></RST_ORG_ID>');","L_STUB_2","HTP.P('<L_STUB_2><![CDATA[' || NULL || ']]></L_STUB_2>');","L3_1","HTP.P('<L3_1>' || REC.L3_1 || '</L3_1>');","L_STUB_7","HTP.P('<L_STUB_7><![CDATA[' || NULL || ']]></L_STUB_7>');"]
["Республика Мордовия","RU13","Республика Мордовия",null,"L_ADDRESS_LOCATION",null,"L_STUB_5","HTP.P('<L_STUB_5><![CDATA[' || NULL || ']]></L_STUB_5>');","L_STUB_3","HTP.P('<L_STUB_3><![CDATA[' || NULL || ']]></L_STUB_3>');","L3_2","HTP.P('<L3_2>' || REC.L3_2 || '</L3_2>');","L_STUB_8","HTP.P('<L_STUB_8><![CDATA[' || NULL || ']]></L_STUB_8>');"]
["Республика Саха (Якутия)","RU14","Республика Саха (Якутия)",null,"L_ADDRESS_LOC_OKTMO",null,"L_STUB_6","HTP.P('<L_STUB_6><![CDATA[' || NULL || ']]></L_STUB_6>');","L_STUB_4","HTP.P('<L_STUB_4><![CDATA[' || NULL || ']]></L_STUB_4>');","L4_1_1","HTP.P('<L4_1_1>' || REC.L4_1_1 || '</L4_1_1>');","L_STUB_9","HTP.P('<L_STUB_9><![CDATA[' || NULL || ']]></L_STUB_9>');"]
["Республика Северная Осетия-Алания","RU15","Республика Северная Осетия (Алания)",null,"L_ADDRESS_STREET",null,"MR_NAME","HTP.P('<MR_NAME><![CDATA[' || REC.MR_NAME || ']]></MR_NAME>');","L_STUB_5","HTP.P('<L_STUB_5><![CDATA[' || NULL || ']]></L_STUB_5>');","L4_1_2","HTP.P('<L4_1_2>' || REC.L4_1_2 || '</L4_1_2>');","L_STUB_10","HTP.P('<L_STUB_10><![CDATA[' || NULL || ']]></L_STUB_10>');"]
["Республика Татарстан","RU16","Республика Татарстан",null,"L_ADDRESS_BUILDING",null,"MO_NAME","HTP.P('<MO_NAME><![CDATA[' || REC.MO_NAME || ']]></MO_NAME>');","L_STUB_6","HTP.P('<L_STUB_6><![CDATA[' || NULL || ']]></L_STUB_6>');","L4_2","HTP.P('<L4_2>' || REC.L4_2 || '</L4_2>');","L_STUB_11","HTP.P('<L_STUB_11><![CDATA[' || NULL || ']]></L_STUB_11>');"]
["Республика Тыва","RU17","Республика Тыва (Тува)",null,"DET2_NAME",null,"OKTMO_NAME","HTP.P('<OKTMO_NAME><![CDATA[' || REC.OKTMO_NAME || ']]></OKTMO_NAME>');","L_SERVICE_AREA_MR","HTP.P('<L_SERVICE_AREA_MR><![CDATA[' || REC.L_SERVICE_AREA_MR || ']]></L_SERVICE_AREA_MR>');","L5_1_1","HTP.P('<L5_1_1>' || REC.L5_1_1 || '</L5_1_1>');","L_STUB_12","HTP.P('<L_STUB_12><![CDATA[' || NULL || ']]></L_STUB_12>');"]
["Республика Хакасия","RU19","Республика Хакасия",null,"MR_NAME",null,"L_STUB_7","HTP.P('<L_STUB_7><![CDATA[' || NULL || ']]></L_STUB_7>');","L_SERVICE_AREA_MO","HTP.P('<L_SERVICE_AREA_MO><![CDATA[' || REC.L_SERVICE_AREA_MO || ']]></L_SERVICE_AREA_MO>');","L5_1_2","HTP.P('<L5_1_2>' || REC.L5_1_2 || '</L5_1_2>');","L_STUB_13","HTP.P('<L_STUB_13><![CDATA[' || NULL || ']]></L_STUB_13>');"]
["Ростовская область","RU61","Ростовская область",null,"MO_NAME",null,"L_STUB_8","HTP.P('<L_STUB_8><![CDATA[' || NULL || ']]></L_STUB_8>');","L_SERVICE_AREA_OKTMO","HTP.P('<L_SERVICE_AREA_OKTMO><![CDATA[' || REC.L_SERVICE_AREA_OKTMO || ']]></L_SERVICE_AREA_OKTMO>');","L5_2","HTP.P('<L5_2>' || REC.L5_2 || '</L5_2>');","L_STUB_14","HTP.P('<L_STUB_14><![CDATA[' || NULL || ']]></L_STUB_14>');"]
["Рязанская область","RU62","Рязанская область",null,"OKTMO_NAME",null,"PREVIOUS_NMBR","HTP.P('<PREVIOUS_NMBR><![CDATA[' || REC.PREVIOUS_NMBR || ']]></PREVIOUS_NMBR>');","L_SERVICE_AREA_LOCATION","HTP.P('<L_SERVICE_AREA_LOCATION><![CDATA[' || REC.L_SERVICE_AREA_LOCATION || ']]></L_SERVICE_AREA_LOCATION>');","L5_3_1","HTP.P('<L5_3_1>' || REC.L5_3_1 || '</L5_3_1>');","L_STUB_15","HTP.P('<L_STUB_15><![CDATA[' || NULL || ']]></L_STUB_15>');"]
["Самарская область","RU63","Самарская область",null,"LOCATION_NAME",null,"L_STUB_10","HTP.P('<L_STUB_10><![CDATA[' || NULL || ']]></L_STUB_10>');","L_SERVICE_AREA_LOC_OKTMO","HTP.P('<L_SERVICE_AREA_LOC_OKTMO><![CDATA[' || REC.L_SERVICE_AREA_LOC_OKTMO || ']]></L_SERVICE_AREA_LOC_OKTMO>');","L5_3_2","HTP.P('<L5_3_2>' || REC.L5_3_2 || '</L5_3_2>');","L_STUB_16","HTP.P('<L_STUB_16><![CDATA[' || NULL || ']]></L_STUB_16>');"]
["Саратовская область","RU64","Саратовская область",null,"LOCATION_OKTMO_NAME",null,"L_STUB_11","HTP.P('<L_STUB_11><![CDATA[' || NULL || ']]></L_STUB_11>');","L_STUB_7","HTP.P('<L_STUB_7><![CDATA[' || NULL || ']]></L_STUB_7>');","L6_1_1","HTP.P('<L6_1_1>' || REC.L6_1_1 || '</L6_1_1>');","DET_NAME","HTP.P('<DET_NAME><![CDATA[' || REC.DET_NAME || ']]></DET_NAME>');"]
["Сахалинская область","RU65","Сахалинская область",null,"L_PR_IC",null,"L_STUB_12","HTP.P('<L_STUB_12><![CDATA[' || NULL || ']]></L_STUB_12>');","L_STUB_8","HTP.P('<L_STUB_8><![CDATA[' || NULL || ']]></L_STUB_8>');","L6_1_2","HTP.P('<L6_1_2>' || REC.L6_1_2 || '</L6_1_2>');","L_FUEL_TYPE","HTP.P('<L_FUEL_TYPE><![CDATA[' || REC.L_FUEL_TYPE || ']]></L_FUEL_TYPE>');"]
["Свердловская область","RU66","Свердловская область",null,"L_PR_CL",null,"L_STUB_13","HTP.P('<L_STUB_13><![CDATA[' || NULL || ']]></L_STUB_13>');","L_STUB_9","HTP.P('<L_STUB_9><![CDATA[' || NULL || ']]></L_STUB_9>');","L6_2","HTP.P('<L6_2>' || REC.L6_2 || '</L6_2>');","L_FUEL_GRADE","HTP.P('<L_FUEL_GRADE><![CDATA[' || REC.L_FUEL_GRADE || ']]></L_FUEL_GRADE>');"]
["Смоленская область","RU67","Смоленская область",null,"L_TR_IC",null,"L_STUB_14","HTP.P('<L_STUB_14><![CDATA[' || NULL || ']]></L_STUB_14>');","L_STUB_10","HTP.P('<L_STUB_10><![CDATA[' || NULL || ']]></L_STUB_10>');","L6_3_1","HTP.P('<L6_3_1>' || REC.L6_3_1 || '</L6_3_1>');","L_PERIOD","HTP.P('<L_PERIOD><![CDATA[' || REC.L_PERIOD || ']]></L_PERIOD>');"]
["Ставропольский край","RU26","Ставропольский край",null,"L_TR_CL",null,"TRANSFER_AGENTS","HTP.P('<TRANSFER_AGENTS><![CDATA[' || REC.TRANSFER_AGENTS || ']]></TRANSFER_AGENTS>');","L_STUB_11","HTP.P('<L_STUB_11><![CDATA[' || NULL || ']]></L_STUB_11>');","L6_3_2","HTP.P('<L6_3_2>' || REC.L6_3_2 || '</L6_3_2>');","L_SUPPLY_EXISTENCE","HTP.P('<L_SUPPLY_EXISTENCE><![CDATA[' || REC.L_SUPPLY_EXISTENCE || ']]></L_SUPPLY_EXISTENCE>');"]
["Тамбовская область","RU68","Тамбовская область",null,"L_SL_IC",null,"L_STUB_15","HTP.P('<L_STUB_15><![CDATA[' || NULL || ']]></L_STUB_15>');","L_STUB_12","HTP.P('<L_STUB_12><![CDATA[' || NULL || ']]></L_STUB_12>');","L7_1_1","HTP.P('<L7_1_1>' || REC.L7_1_1 || '</L7_1_1>');","L_SUPPLIER_NAME","HTP.P('<L_SUPPLIER_NAME><![CDATA[' || REC.L_SUPPLIER_NAME || ']]></L_SUPPLIER_NAME>');"]
["Тверская область","RU69","Тверская область",null,"L_SL_CL",null,"L_STUB_16","HTP.P('<L_STUB_16><![CDATA[' || NULL || ']]></L_STUB_16>');","L_STUB_13","HTP.P('<L_STUB_13><![CDATA[' || NULL || ']]></L_STUB_13>');","L7_1_2","HTP.P('<L7_1_2>' || REC.L7_1_2 || '</L7_1_2>');","L_SUPPLIER_INN","HTP.P('<L_SUPPLIER_INN><![CDATA[' || REC.L_SUPPLIER_INN || ']]></L_SUPPLIER_INN>');"]
["Томская область","RU70","Томская область",null,null,null,"L_STUB_17","HTP.P('<L_STUB_17><![CDATA[' || NULL || ']]></L_STUB_17>');","L_STUB_14","HTP.P('<L_STUB_14><![CDATA[' || NULL || ']]></L_STUB_14>');","L7_2","HTP.P('<L7_2>' || REC.L7_2 || '</L7_2>');","L_SUPPLIER_KPP","HTP.P('<L_SUPPLIER_KPP><![CDATA[' || REC.L_SUPPLIER_KPP || ']]></L_SUPPLIER_KPP>');"]
["Тульская область","RU71","Тульская область",null,null,null,"L_STUB_18","HTP.P('<L_STUB_18><![CDATA[' || NULL || ']]></L_STUB_18>');","L_PR_IC",{"$f":"\"HTP.P('<\" & I75 & \"><![CDATA[' || \" & IF(MID(I75,3,4)=\"STUB\",\"NULL\",\"REC.\" & I75) & \" || ']]></\" & I75 & \">');\"","v":"HTP.P('<L_PR_IC><![CDATA[' || REC.L_PR_IC || ']]></L_PR_IC>');"},"L7_3_1","HTP.P('<L7_3_1>' || REC.L7_3_1 || '</L7_3_1>');","L_SUPPLIER_ADDRESS",{"$f":"\"HTP.P('<\" & M75 & \"><![CDATA[' || \" & IF(MID(M75,3,4)=\"STUB\",\"NULL\",\"REC.\" & M75) & \" || ']]></\" & M75 & \">');\"","v":"HTP.P('<L_SUPPLIER_ADDRESS><![CDATA[' || REC.L_SUPPLIER_ADDRESS || ']]></L_SUPPLIER_ADDRESS>');"}]
["Тюменская область","RU72","Тюменская область",null,null,null,"L_STUB_19","HTP.P('<L_STUB_19><![CDATA[' || NULL || ']]></L_STUB_19>');","L_PR_CL","HTP.P('<L_PR_CL><![CDATA[' || REC.L_PR_CL || ']]></L_PR_CL>');","L7_3_2","HTP.P('<L7_3_2>' || REC.L7_3_2 || '</L7_3_2>');","L_STUB_17","HTP.P('<L_STUB_17><![CDATA[' || NULL || ']]></L_STUB_17>');"]
["Удмуртская республика","RU18","Республика Удмуртия",null,null,null,"L_STUB_20","HTP.P('<L_STUB_20><![CDATA[' || NULL || ']]></L_STUB_20>');","L_TR_IC","HTP.P('<L_TR_IC><![CDATA[' || REC.L_TR_IC || ']]></L_TR_IC>');","L8_1","HTP.P('<L8_1>' || REC.L8_1 || '</L8_1>');","L_CONSIGNEE_NAME","HTP.P('<L_CONSIGNEE_NAME><![CDATA[' || REC.L_CONSIGNEE_NAME || ']]></L_CONSIGNEE_NAME>');"]
["Ульяновская область","RU73","Ульяновская область",null,null,null,"L_STUB_21","HTP.P('<L_STUB_21><![CDATA[' || NULL || ']]></L_STUB_21>');","L_TR_CL","HTP.P('<L_TR_CL><![CDATA[' || REC.L_TR_CL || ']]></L_TR_CL>');","L8_2","HTP.P('<L8_2>' || REC.L8_2 || '</L8_2>');","L_CONSIGNEE_INN","HTP.P('<L_CONSIGNEE_INN><![CDATA[' || REC.L_CONSIGNEE_INN || ']]></L_CONSIGNEE_INN>');"]
["Хабаровский край","RU27","Хабаровский край",null,null,null,"L_STUB_22","HTP.P('<L_STUB_22><![CDATA[' || NULL || ']]></L_STUB_22>');","L_SL_IC","HTP.P('<L_SL_IC><![CDATA[' || REC.L_SL_IC || ']]></L_SL_IC>');","L9","HTP.P('<L9>' || REC.L9 || '</L9>');","L_CONSIGNEE_KPP","HTP.P('<L_CONSIGNEE_KPP><![CDATA[' || REC.L_CONSIGNEE_KPP || ']]></L_CONSIGNEE_KPP>');"]
["Ханты-Мансийский автономный округ","RU86","Ханты-Мансийский автономный округ",null,null,null,"L_STUB_23","HTP.P('<L_STUB_23><![CDATA[' || NULL || ']]></L_STUB_23>');","L_SL_CL","HTP.P('<L_SL_CL><![CDATA[' || REC.L_SL_CL || ']]></L_SL_CL>');","L10_1","HTP.P('<L10_1>' || REC.L10_1 || '</L10_1>');","L_CONSIGNEE_ADDRESS","HTP.P('<L_CONSIGNEE_ADDRESS><![CDATA[' || REC.L_CONSIGNEE_ADDRESS || ']]></L_CONSIGNEE_ADDRESS>');"]
["Челябинская область","RU74","Челябинская область",null,null,null,"L_STUB_24","HTP.P('<L_STUB_24><![CDATA[' || NULL || ']]></L_STUB_24>');","L_STUB_15","HTP.P('<L_STUB_15><![CDATA[' || NULL || ']]></L_STUB_15>');","L10_2","HTP.P('<L10_2>' || REC.L10_2 || '</L10_2>');","L_STUB_18","HTP.P('<L_STUB_18><![CDATA[' || NULL || ']]></L_STUB_18>');"]
["Чеченская республика","RU20","Республика Чечня",null,null,null,"L_STUB_25","HTP.P('<L_STUB_25><![CDATA[' || NULL || ']]></L_STUB_25>');","L_STUB_16","HTP.P('<L_STUB_16><![CDATA[' || NULL || ']]></L_STUB_16>');",null,null,"L_STUB_19","HTP.P('<L_STUB_19><![CDATA[' || NULL || ']]></L_STUB_19>');"]
["Чувашская республика","RU21","Республика Чувашия",null,null,null,"L_STUB_26","HTP.P('<L_STUB_26><![CDATA[' || NULL || ']]></L_STUB_26>');","L_STUB_17","HTP.P('<L_STUB_17><![CDATA[' || NULL || ']]></L_STUB_17>');",null,null,"L_CONTRACT_NMBR","HTP.P('<L_CONTRACT_NMBR><![CDATA[' || REC.L_CONTRACT_NMBR || ']]></L_CONTRACT_NMBR>');"]
["Чукотский автономный округ","RU87","Чукотский автономный округ",null,null,null,"L_STUB_27","HTP.P('<L_STUB_27><![CDATA[' || NULL || ']]></L_STUB_27>');","L_STUB_18","HTP.P('<L_STUB_18><![CDATA[' || NULL || ']]></L_STUB_18>');",null,null,"L_CONTRACT_DATE","HTP.P('<L_CONTRACT_DATE><![CDATA[' || REC.L_CONTRACT_DATE || ']]></L_CONTRACT_DATE>');"]
["Ямало-Ненецкий автономный округ","RU89","Ямало-Ненецкий автономный округ",null,null,null,"L_STUB_28","HTP.P('<L_STUB_28><![CDATA[' || NULL || ']]></L_STUB_28>');","L_STUB_19","HTP.P('<L_STUB_19><![CDATA[' || NULL || ']]></L_STUB_19>');",null,null,"L_CONTRACT_URL","HTP.P('<L_CONTRACT_URL><![CDATA[' || REC.L_CONTRACT_URL || ']]></L_CONTRACT_URL>');"]
["Ярославская область","RU76","Ярославская область",null,null,null,"L_STUB_29","HTP.P('<L_STUB_29><![CDATA[' || NULL || ']]></L_STUB_29>');","L_STUB_20","HTP.P('<L_STUB_20><![CDATA[' || NULL || ']]></L_STUB_20>');",null,null,"L_EXT_DOCUMENT_NMBR","HTP.P('<L_EXT_DOCUMENT_NMBR><![CDATA[' || REC.L_EXT_DOCUMENT_NMBR || ']]></L_EXT_DOCUMENT_NMBR>');"]
[null,null,"г. Москва",null,null,null,"L_STUB_30","HTP.P('<L_STUB_30><![CDATA[' || NULL || ']]></L_STUB_30>');","L_STUB_21","HTP.P('<L_STUB_21><![CDATA[' || NULL || ']]></L_STUB_21>');",null,null,"L_EXT_DOCUMENT_DATE","HTP.P('<L_EXT_DOCUMENT_DATE><![CDATA[' || REC.L_EXT_DOCUMENT_DATE || ']]></L_EXT_DOCUMENT_DATE>');"]
[null,null,null,null,null,null,"L_STUB_31","HTP.P('<L_STUB_31><![CDATA[' || NULL || ']]></L_STUB_31>');","L_STUB_22","HTP.P('<L_STUB_22><![CDATA[' || NULL || ']]></L_STUB_22>');",null,null,"L_EXT_DOCUMENT_URL","HTP.P('<L_EXT_DOCUMENT_URL><![CDATA[' || REC.L_EXT_DOCUMENT_URL || ']]></L_EXT_DOCUMENT_URL>');"]
[null,null,null,null,null,null,"L_STUB_32","HTP.P('<L_STUB_32><![CDATA[' || NULL || ']]></L_STUB_32>');","L_STUB_23","HTP.P('<L_STUB_23><![CDATA[' || NULL || ']]></L_STUB_23>');",null,null,"L_CONTRACT_BASE","HTP.P('<L_CONTRACT_BASE><![CDATA[' || REC.L_CONTRACT_BASE || ']]></L_CONTRACT_BASE>');"]
[null,null,null,null,null,null,"L_STUB_33","HTP.P('<L_STUB_33><![CDATA[' || NULL || ']]></L_STUB_33>');","L_STUB_24","HTP.P('<L_STUB_24><![CDATA[' || NULL || ']]></L_STUB_24>');",null,null,"L_PURCHASE_URL","HTP.P('<L_PURCHASE_URL><![CDATA[' || REC.L_PURCHASE_URL || ']]></L_PURCHASE_URL>');"]
[null,null,null,null,null,null,"L_STUB_34","HTP.P('<L_STUB_34><![CDATA[' || NULL || ']]></L_STUB_34>');","L_STUB_25","HTP.P('<L_STUB_25><![CDATA[' || NULL || ']]></L_STUB_25>');",null,null,"L_PURCHASE_REG_NUMBER","HTP.P('<L_PURCHASE_REG_NUMBER><![CDATA[' || REC.L_PURCHASE_REG_NUMBER || ']]></L_PURCHASE_REG_NUMBER>');"]
[null,null,null,null,null,null,"L_STUB_35","HTP.P('<L_STUB_35><![CDATA[' || NULL || ']]></L_STUB_35>');","L_STUB_26","HTP.P('<L_STUB_26><![CDATA[' || NULL || ']]></L_STUB_26>');",null,null,"L_SHIPMENT_DATE","HTP.P('<L_SHIPMENT_DATE><![CDATA[' || REC.L_SHIPMENT_DATE || ']]></L_SHIPMENT_DATE>');"]
[null,null,null,null,null,null,"L_STUB_36","HTP.P('<L_STUB_36><![CDATA[' || NULL || ']]></L_STUB_36>');","L_STUB_27","HTP.P('<L_STUB_27><![CDATA[' || NULL || ']]></L_STUB_27>');",null,null,"L_STUB_21","HTP.P('<L_STUB_21><![CDATA[' || NULL || ']]></L_STUB_21>');"]
[null,null,null,null,null,null,"L_STUB_37","HTP.P('<L_STUB_37><![CDATA[' || NULL || ']]></L_STUB_37>');","L_STUB_28","HTP.P('<L_STUB_28><![CDATA[' || NULL || ']]></L_STUB_28>');",null,null,"L_INVOICE_URL","HTP.P('<L_INVOICE_URL><![CDATA[' || REC.L_INVOICE_URL || ']]></L_INVOICE_URL>');"]
[null,null,null,null,null,null,"L_STUB_38","HTP.P('<L_STUB_38><![CDATA[' || NULL || ']]></L_STUB_38>');","L_STUB_29","HTP.P('<L_STUB_29><![CDATA[' || NULL || ']]></L_STUB_29>');",null,null,"L_STUB_22","HTP.P('<L_STUB_22><![CDATA[' || NULL || ']]></L_STUB_22>');"]
[null,null,null,null,null,null,"L_STUB_39","HTP.P('<L_STUB_39><![CDATA[' || NULL || ']]></L_STUB_39>');","L_STUB_30","HTP.P('<L_STUB_30><![CDATA[' || NULL || ']]></L_STUB_30>');",null,null,"L_DELIVERY_CONDITIONS","HTP.P('<L_DELIVERY_CONDITIONS><![CDATA[' || REC.L_DELIVERY_CONDITIONS || ']]></L_DELIVERY_CONDITIONS>');"]
[null,null,null,null,null,null,"L_STUB_40","HTP.P('<L_STUB_40><![CDATA[' || NULL || ']]></L_STUB_40>');","L_COMMENTS","HTP.P('<L_COMMENTS><![CDATA[' || REC.L_COMMENTS || ']]></L_COMMENTS>');",null,null,"L_STUB_23","HTP.P('<L_STUB_23><![CDATA[' || NULL || ']]></L_STUB_23>');"]
[null,null,null,null,null,null,"L_STUB_41","HTP.P('<L_STUB_41><![CDATA[' || NULL || ']]></L_STUB_41>');","PREVIOUS_NMBR","HTP.P('<PREVIOUS_NMBR><![CDATA[' || REC.PREVIOUS_NMBR || ']]></PREVIOUS_NMBR>');",null,null,"L_SPIMEX_NUMBER",{"$f":"\"HTP.P('<\" & M98 & \"><![CDATA[' || \" & IF(MID(M98,3,4)=\"STUB\",\"NULL\",\"REC.\" & M98) & \" || ']]></\" & M98 & \">');\"","v":"HTP.P('<L_SPIMEX_NUMBER><![CDATA[' || REC.L_SPIMEX_NUMBER || ']]></L_SPIMEX_NUMBER>');"}]
[null,null,null,null,null,null,"L_STUB_42","HTP.P('<L_STUB_42><![CDATA[' || NULL || ']]></L_STUB_42>');",null,null,null,null,"L_STUB_24","HTP.P('<L_STUB_24><![CDATA[' || NULL || ']]></L_STUB_24>');"]
[null,null,null,null,null,null,"L_STUB_43","HTP.P('<L_STUB_43><![CDATA[' || NULL || ']]></L_STUB_43>');",null,null,null,null,"L_COMPETITIVE_PROC_DOCS_URL","HTP.P('<L_COMPETITIVE_PROC_DOCS_URL><![CDATA[' || REC.L_COMPETITIVE_PROC_DOCS_URL || ']]></L_COMPETITIVE_PROC_DOCS_URL>');"]
[null,null,null,null,null,null,"L_STUB_44","HTP.P('<L_STUB_44><![CDATA[' || NULL || ']]></L_STUB_44>');",null,null,null,null,"L_STUB_26","HTP.P('<L_STUB_26><![CDATA[' || NULL || ']]></L_STUB_26>');"]
[null,null,null,null,null,null,"L_STUB_45","HTP.P('<L_STUB_45><![CDATA[' || NULL || ']]></L_STUB_45>');",null,null,null,null,"L_STUB_27","HTP.P('<L_STUB_27><![CDATA[' || NULL || ']]></L_STUB_27>');"]
[null,null,null,null,null,null,"L_STUB_46","HTP.P('<L_STUB_46><![CDATA[' || NULL || ']]></L_STUB_46>');",null,null,null,null,"L_STUB_28","HTP.P('<L_STUB_28><![CDATA[' || NULL || ']]></L_STUB_28>');"]
[null,null,null,null,null,null,"L_STUB_47","HTP.P('<L_STUB_47><![CDATA[' || NULL || ']]></L_STUB_47>');",null,null,null,null,"L_STATION_OF_ORIGIN","HTP.P('<L_STATION_OF_ORIGIN><![CDATA[' || REC.L_STATION_OF_ORIGIN || ']]></L_STATION_OF_ORIGIN>');"]
[null,null,null,null,null,null,"L_STUB_48","HTP.P('<L_STUB_48><![CDATA[' || NULL || ']]></L_STUB_48>');",null,null,null,null,"L_STUB_30","HTP.P('<L_STUB_30><![CDATA[' || NULL || ']]></L_STUB_30>');"]
[null,null,null,null,null,null,"L_STUB_49","HTP.P('<L_STUB_49><![CDATA[' || NULL || ']]></L_STUB_49>');",null,null,null,null,"L_DELIVERY_STATION","HTP.P('<L_DELIVERY_STATION><![CDATA[' || REC.L_DELIVERY_STATION || ']]></L_DELIVERY_STATION>');"]
[null,null,null,null,null,null,"L_STUB_50","HTP.P('<L_STUB_50><![CDATA[' || NULL || ']]></L_STUB_50>');",null,null,null,null,"L_STUB_31","HTP.P('<L_STUB_31><![CDATA[' || NULL || ']]></L_STUB_31>');"]
[null,null,null,null,null,null,"L_STUB_51",{"$f":"\"HTP.P('<\" & G108 & \"><![CDATA[' || \" & IF(MID(G108,3,4)=\"STUB\",\"NULL\",\"REC.\" & G108) & \" || ']]></\" & G108 & \">');\"","v":"HTP.P('<L_STUB_51><![CDATA[' || NULL || ']]></L_STUB_51>');"},null,null,null,null,"L_STUB_32","HTP.P('<L_STUB_32><![CDATA[' || NULL || ']]></L_STUB_32>');"]
[null,null,null,null,null,null,"L_STUB_52","HTP.P('<L_STUB_52><![CDATA[' || NULL || ']]></L_STUB_52>');",null,null,null,null,"L_STUB_33","HTP.P('<L_STUB_33><![CDATA[' || NULL || ']]></L_STUB_33>');"]
[null,null,null,null,null,null,"L_STUB_53","HTP.P('<L_STUB_53><![CDATA[' || NULL || ']]></L_STUB_53>');",null,null,null,null,"L_STUB_34","HTP.P('<L_STUB_34><![CDATA[' || NULL || ']]></L_STUB_34>');"]
[null,null,null,null,null,null,"L_STUB_54","HTP.P('<L_STUB_54><![CDATA[' || NULL || ']]></L_STUB_54>');",null,null,null,null,"L_STUB_35","HTP.P('<L_STUB_35><![CDATA[' || NULL || ']]></L_STUB_35>');"]
[null,null,null,null,null,null,"L_STUB_55","HTP.P('<L_STUB_55><![CDATA[' || NULL || ']]></L_STUB_55>');",null,null,null,null,"L_STUB_36","HTP.P('<L_STUB_36><![CDATA[' || NULL || ']]></L_STUB_36>');"]
[null,null,null,null,null,null,"L_STUB_56","HTP.P('<L_STUB_56><![CDATA[' || NULL || ']]></L_STUB_56>');",null,null,null,null,"L_STUB_37","HTP.P('<L_STUB_37><![CDATA[' || NULL || ']]></L_STUB_37>');"]
[null,null,null,null,null,null,"L_STUB_57","HTP.P('<L_STUB_57><![CDATA[' || NULL || ']]></L_STUB_57>');",null,null,null,null,"L_DELIVERY_SHOULDER","HTP.P('<L_DELIVERY_SHOULDER><![CDATA[' || REC.L_DELIVERY_SHOULDER || ']]></L_DELIVERY_SHOULDER>');"]
[null,null,null,null,null,null,"L_STUB_58","HTP.P('<L_STUB_58><![CDATA[' || NULL || ']]></L_STUB_58>');",null,null,null,null,"L_STUB_38","HTP.P('<L_STUB_38><![CDATA[' || NULL || ']]></L_STUB_38>');"]
[null,null,null,null,null,null,"L_STUB_59","HTP.P('<L_STUB_59><![CDATA[' || NULL || ']]></L_STUB_59>');",null,null,null,null,"L_STUB_39","HTP.P('<L_STUB_39><![CDATA[' || NULL || ']]></L_STUB_39>');"]
[null,null,null,null,null,null,"L_STUB_60","HTP.P('<L_STUB_60><![CDATA[' || NULL || ']]></L_STUB_60>');",null,null,null,null,"L_STUB_40","HTP.P('<L_STUB_40><![CDATA[' || NULL || ']]></L_STUB_40>');"]
[null,null,null,null,null,null,"L_STUB_61","HTP.P('<L_STUB_61><![CDATA[' || NULL || ']]></L_STUB_61>');",null,null,null,null,"L_STUB_41","HTP.P('<L_STUB_41><![CDATA[' || NULL || ']]></L_STUB_41>');"]
[null,null,null,null,null,null,"L_STUB_62","HTP.P('<L_STUB_62><![CDATA[' || NULL || ']]></L_STUB_62>');",null,null,null,null,"L_FUEL_SUPPLY_METHOD","HTP.P('<L_FUEL_SUPPLY_METHOD><![CDATA[' || REC.L_FUEL_SUPPLY_METHOD || ']]></L_FUEL_SUPPLY_METHOD>');"]
[null,null,null,null,null,null,"L_STUB_63","HTP.P('<L_STUB_63><![CDATA[' || NULL || ']]></L_STUB_63>');",null,null,null,null,"L_STUB_42","HTP.P('<L_STUB_42><![CDATA[' || NULL || ']]></L_STUB_42>');"]
[null,null,null,null,null,null,"FUEL_USAGE_DISBALANCE_URL","HTP.P('<FUEL_USAGE_DISBALANCE_URL><![CDATA[' || REC.FUEL_USAGE_DISBALANCE_URL || ']]></FUEL_USAGE_DISBALANCE_URL>');",null,null,null,null,"L_PRICE_NO_TAX",{"$f":"\"HTP.P('<\" & M121 & \">' || \" & IF(MID(M121,3,4)=\"STUB\",\"NULL\",\"REC.\" & M121) & \" || '</\" & M121 & \">');\"","v":"HTP.P('<L_PRICE_NO_TAX>' || REC.L_PRICE_NO_TAX || '</L_PRICE_NO_TAX>');"}]
[null,null,null,null,null,null,"L_STUB_64","HTP.P('<L_STUB_64><![CDATA[' || NULL || ']]></L_STUB_64>');",null,null,null,null,"L_STUB_43","HTP.P('<L_STUB_43>' || NULL || '</L_STUB_43>');"]
[null,null,null,null,null,null,"NAME","HTP.P('<NAME><![CDATA[' || REC.NAME || ']]></NAME>');",null,null,null,null,"L_TRSP_NO_TAX","HTP.P('<L_TRSP_NO_TAX>' || REC.L_TRSP_NO_TAX || '</L_TRSP_NO_TAX>');"]
[null,null,null,null,null,null,"POSITION","HTP.P('<POSITION><![CDATA[' || REC.POSITION || ']]></POSITION>');",null,null,null,null,"L_STUB_44","HTP.P('<L_STUB_44>' || NULL || '</L_STUB_44>');"]
[null,null,null,null,null,null,"PHONE","HTP.P('<PHONE><![CDATA[' || REC.PHONE || ']]></PHONE>');",null,null,null,null,"L_PRICE_NO_TAX_NO_TRSP","HTP.P('<L_PRICE_NO_TAX_NO_TRSP>' || REC.L_PRICE_NO_TAX_NO_TRSP || '</L_PRICE_NO_TAX_NO_TRSP>');"]
[null,null,null,null,null,null,"EMAIL","HTP.P('<EMAIL><![CDATA[' || REC.EMAIL || ']]></EMAIL>');",null,null,null,null,"L_STUB_45","HTP.P('<L_STUB_45>' || NULL || '</L_STUB_45>');"]
[null,null,null,null,null,null,null,null,null,null,null,null,"L_VOLUME","HTP.P('<L_VOLUME>' || REC.L_VOLUME || '</L_VOLUME>');"]
[null,null,null,null,null,null,null,null,null,null,null,null,"L_COSTS_NO_TAX","HTP.P('<L_COSTS_NO_TAX>' || REC.L_COSTS_NO_TAX || '</L_COSTS_NO_TAX>');"]
[null,null,null,null,null,null,null,null,null,null,null,null,"L_STUB_46",{"$f":"\"HTP.P('<\" & M129 & \"><![CDATA[' || \" & IF(MID(M129,3,4)=\"STUB\",\"NULL\",\"REC.\" & M129) & \" || ']]></\" & M129 & \">');\"","v":"HTP.P('<L_STUB_46><![CDATA[' || NULL || ']]></L_STUB_46>');"}]
[null,null,null,null,null,null,null,null,null,null,null,null,"L_FUEL_STOCK_PREVIOUS_PERIOD",{"$f":"\"HTP.P('<\" & M130 & \"><![CDATA[' || \" & IF(MID(M130,3,4)=\"STUB\",\"NULL\",\"REC.\" & M130) & \" || ']]></\" & M130 & \">');\"","v":"HTP.P('<L_FUEL_STOCK_PREVIOUS_PERIOD><![CDATA[' || REC.L_FUEL_STOCK_PREVIOUS_PERIOD || ']]></L_FUEL_STOCK_PREVIOUS_PERIOD>');"}]
[null,null,null,null,null,null,null,null,null,null,null,null,"L_FUEL_STOCK_CURRENT_PERIOD",{"$f":"\"HTP.P('<\" & M131 & \"><![CDATA[' || \" & IF(MID(M131,3,4)=\"STUB\",\"NULL\",\"REC.\" & M131) & \" || ']]></\" & M131 & \">');\"","v":"HTP.P('<L_FUEL_STOCK_CURRENT_PERIOD><![CDATA[' || REC.L_FUEL_STOCK_CURRENT_PERIOD || ']]></L_FUEL_STOCK_CURRENT_PERIOD>');"}]
[null,null,null,null,null,null,null,null,null,null,null,null,"L_TOTAL_VLM","HTP.P('<L_TOTAL_VLM>' || REC.L_TOTAL_VLM || '</L_TOTAL_VLM>');"]
[null,null,null,null,null,null,null,null,null,null,null,null,"L_USED_VLM","HTP.P('<L_USED_VLM>' || REC.L_USED_VLM || '</L_USED_VLM>');"]
[null,null,null,null,null,null,null,null,null,null,null,null,"L_REMAIN_VLM",{"$f":"\"HTP.P('<\" & M134 & \">' || \" & IF(MID(M134,3,4)=\"STUB\",\"NULL\",\"REC.\" & M134) & \" || '</\" & M134 & \">');\"","v":"HTP.P('<L_REMAIN_VLM>' || REC.L_REMAIN_VLM || '</L_REMAIN_VLM>');"}]
[null,null,null,null,null,null,null,null,null,null,null,null,"L_NOTE","HTP.P('<L_NOTE>' || REC.L_NOTE || '</L_NOTE>');"]
[]
[]
[]
[]
[]
[]
[]
[]
[]
[]
[]
[]
[]
[]
[]
[]
[]
[]
[]
[]
[]
[]
[]
[]
[]
[]
[]
[]
[]
[]
[]
[]
[]
[]
[]
[]
[]
[]
[]
[]
[]
[]
[]
[]
[]
[]
[]
[]
[]
[]
[]
[]
[]
[]
[]
[]
[]
[]
[]
[]
[]
[]
[]
[]
[]
[]
[]
[]
[]
[]
[]
[]
[]
[]
[]
[]
[]
[]
[]
[]
[]
[]
[]
[]
[]
[]
[]
[]
[]
[]
[]
[]
[]
[]
[]
[]
[]
[]
[]
[]
[]
[]
[]
[]
[]
[]
[]
[]
[]
[]
[]
[]
[]
[]
[]
[]
[]
[]
[]
[]
[]
[]
[]
[]
[]
[]
[]
[]
[]
[]
[]
[]
[]
[]
[]
[]
[]
[]
[]
[]
[]
[]
[]
[]
[]
[]
[]
[]
[]
[]
[]
[]
[]
[]
[]
[]
[]
[]
[]
[]
[]
[]
[]
[]
[]
[]
[]
[]
[]
[]
[]
[]
[]
[]
[]
[]
[]
[]
[]
[]
[]
[]
[]
[]
[]
[]
[]
[]
[]
[]
[]
[]
[]
[]
[]
[]
[]
[]
[]
[]
[]
[]
[]
[]
[]
[]
[]
[]
[]
[]
[]
[]
[]
[]
[]
[]
[]
[]
[]
[]
[]
[]
[]
[]
[]
[]
[]
[]
[]
[]
[]
[]
[]
[]
[]
[]
[]
[]
[]
[]
[]
[]
[]
[]
[]
[]
[]
[]
[]
[]
[]
[]
[]
[]
[]
[]
[]
[]
[]
[]
[]
[]
[]
[]
[]
[]
[]
[]
[]
[]
[]
[]
[]
[]
[]
[]
[]
[]
[]
[]
[]
[]
[]
[]
[]
[]
[]
[]
[]
[]
[]
[]
[]
[]
[]
[]
[]
[]
[]
[]
[]
[]
[]
[]
[]
[]
[]
[]
[]
[]
[]
[]
[]
[]
[]
[]
[]
[]
[{"$f":"\"HTP.P('<\" &#REF! & \">' || \" & IF(MID(#REF!,1,4)=\"STUB\",\"NULL\",\"REC.\" &#REF!) & \" || '</\" &#REF! & \">');\"","v":{"$error":"#REF!"}},null,{"$f":"\"DECODE(C_T.\" &#REF! & \", 0, NULL, C_T.\" &#REF! & \") AS \" &#REF! & \",\"","v":{"$error":"#REF!"}}]
[{"$f":"\"HTP.P('<\" &#REF! & \">' || \" & IF(MID(#REF!,1,4)=\"STUB\",\"NULL\",\"REC.\" &#REF!) & \" || '</\" &#REF! & \">');\"","v":{"$error":"#REF!"}},null,{"$f":"\"DECODE(C_T.\" &#REF! & \", 0, NULL, C_T.\" &#REF! & \") AS \" &#REF! & \",\"","v":{"$error":"#REF!"}}]
[{"$f":"\"HTP.P('<\" &#REF! & \">' || \" & IF(MID(#REF!,1,4)=\"STUB\",\"NULL\",\"REC.\" &#REF!) & \" || '</\" &#REF! & \">');\"","v":{"$error":"#REF!"}},null,{"$f":"\"DECODE(C_T.\" &#REF! & \", 0, NULL, C_T.\" &#REF! & \") AS \" &#REF! & \",\"","v":{"$error":"#REF!"}}]
[{"$f":"\"HTP.P('<\" &#REF! & \">' || \" & IF(MID(#REF!,1,4)=\"STUB\",\"NULL\",\"REC.\" &#REF!) & \" || '</\" &#REF! & \">');\"","v":{"$error":"#REF!"}},null,{"$f":"\"DECODE(C_T.\" &#REF! & \", 0, NULL, C_T.\" &#REF! & \") AS \" &#REF! & \",\"","v":{"$error":"#REF!"}}]
[{"$f":"\"HTP.P('<\" &#REF! & \">' || \" & IF(MID(#REF!,1,4)=\"STUB\",\"NULL\",\"REC.\" &#REF!) & \" || '</\" &#REF! & \">');\"","v":{"$error":"#REF!"}},null,{"$f":"\"DECODE(C_T.\" &#REF! & \", 0, NULL, C_T.\" &#REF! & \") AS \" &#REF! & \",\"","v":{"$error":"#REF!"}}]
[{"$f":"\"HTP.P('<\" &#REF! & \">' || \" & IF(MID(#REF!,1,4)=\"STUB\",\"NULL\",\"REC.\" &#REF!) & \" || '</\" &#REF! & \">');\"","v":{"$error":"#REF!"}},null,{"$f":"\"DECODE(C_T.\" &#REF! & \", 0, NULL, C_T.\" &#REF! & \") AS \" &#REF! & \",\"","v":{"$error":"#REF!"}}]
[{"$f":"\"HTP.P('<\" &#REF! & \">' || \" & IF(MID(#REF!,1,4)=\"STUB\",\"NULL\",\"REC.\" &#REF!) & \" || '</\" &#REF! & \">');\"","v":{"$error":"#REF!"}},null,{"$f":"\"DECODE(C_T.\" &#REF! & \", 0, NULL, C_T.\" &#REF! & \") AS \" &#REF! & \",\"","v":{"$error":"#REF!"}}]
[{"$f":"\"HTP.P('<\" &#REF! & \">' || \" & IF(MID(#REF!,1,4)=\"STUB\",\"NULL\",\"REC.\" &#REF!) & \" || '</\" &#REF! & \">');\"","v":{"$error":"#REF!"}},null,{"$f":"\"DECODE(C_T.\" &#REF! & \", 0, NULL, C_T.\" &#REF! & \") AS \" &#REF! & \",\"","v":{"$error":"#REF!"}}]
[{"$f":"\"HTP.P('<\" &#REF! & \">' || \" & IF(MID(#REF!,1,4)=\"STUB\",\"NULL\",\"REC.\" &#REF!) & \" || '</\" &#REF! & \">');\"","v":{"$error":"#REF!"}},null,{"$f":"\"DECODE(C_T.\" &#REF! & \", 0, NULL, C_T.\" &#REF! & \") AS \" &#REF! & \",\"","v":{"$error":"#REF!"}}]
[{"$f":"\"HTP.P('<\" &#REF! & \">' || \" & IF(MID(#REF!,1,4)=\"STUB\",\"NULL\",\"REC.\" &#REF!) & \" || '</\" &#REF! & \">');\"","v":{"$error":"#REF!"}},null,{"$f":"\"DECODE(C_T.\" &#REF! & \", 0, NULL, C_T.\" &#REF! & \") AS \" &#REF! & \",\"","v":{"$error":"#REF!"}}]
[{"$f":"\"HTP.P('<\" &#REF! & \">' || \" & IF(MID(#REF!,1,4)=\"STUB\",\"NULL\",\"REC.\" &#REF!) & \" || '</\" &#REF! & \">');\"","v":{"$error":"#REF!"}},null,{"$f":"\"DECODE(C_T.\" &#REF! & \", 0, NULL, C_T.\" &#REF! & \") AS \" &#REF! & \",\"","v":{"$error":"#REF!"}}]
[{"$f":"\"HTP.P('<\" &#REF! & \">' || \" & IF(MID(#REF!,1,4)=\"STUB\",\"NULL\",\"REC.\" &#REF!) & \" || '</\" &#REF! & \">');\"","v":{"$error":"#REF!"}},null,{"$f":"\"DECODE(C_T.\" &#REF! & \", 0, NULL, C_T.\" &#REF! & \") AS \" &#REF! & \",\"","v":{"$error":"#REF!"}}]
[{"$f":"\"HTP.P('<\" &#REF! & \">' || \" & IF(MID(#REF!,1,4)=\"STUB\",\"NULL\",\"REC.\" &#REF!) & \" || '</\" &#REF! & \">');\"","v":{"$error":"#REF!"}},null,{"$f":"\"DECODE(C_T.\" &#REF! & \", 0, NULL, C_T.\" &#REF! & \") AS \" &#REF! & \",\"","v":{"$error":"#REF!"}}]
[{"$f":"\"HTP.P('<\" &#REF! & \">' || \" & IF(MID(#REF!,1,4)=\"STUB\",\"NULL\",\"REC.\" &#REF!) & \" || '</\" &#REF! & \">');\"","v":{"$error":"#REF!"}},null,{"$f":"\"DECODE(C_T.\" &#REF! & \", 0, NULL, C_T.\" &#REF! & \") AS \" &#REF! & \",\"","v":{"$error":"#REF!"}}]
[{"$f":"\"HTP.P('<\" &#REF! & \">' || \" & IF(MID(#REF!,1,4)=\"STUB\",\"NULL\",\"REC.\" &#REF!) & \" || '</\" &#REF! & \">');\"","v":{"$error":"#REF!"}},null,{"$f":"\"DECODE(C_T.\" &#REF! & \", 0, NULL, C_T.\" &#REF! & \") AS \" &#REF! & \",\"","v":{"$error":"#REF!"}}]
[{"$f":"\"HTP.P('<\" & M499 & \">' || \" & IF(MID(M499,1,4)=\"STUB\",\"NULL\",\"REC.\" & M499) & \" || '</\" & M499 & \">');\"","v":"HTP.P('<>' || REC. || '</>');"},null,{"$f":"\"DECODE(C_T.\" & M499 & \", 0, NULL, C_T.\" & M499 & \") AS \" & M499 & \",\"","v":"DECODE(C_T., 0, NULL, C_T.) AS ,"}]
[{"$f":"\"HTP.P('<\" &#REF! & \">' || \" & IF(MID(#REF!,1,4)=\"STUB\",\"NULL\",\"REC.\" &#REF!) & \" || '</\" &#REF! & \">');\"","v":{"$error":"#REF!"}},null,{"$f":"\"DECODE(C_T.\" &#REF! & \", 0, NULL, C_T.\" &#REF! & \") AS \" &#REF! & \",\"","v":{"$error":"#REF!"}}]
[{"$f":"\"HTP.P('<\" &#REF! & \">' || \" & IF(MID(#REF!,1,4)=\"STUB\",\"NULL\",\"REC.\" &#REF!) & \" || '</\" &#REF! & \">');\"","v":{"$error":"#REF!"}},null,{"$f":"\"DECODE(C_T.\" &#REF! & \", 0, NULL, C_T.\" &#REF! & \") AS \" &#REF! & \",\"","v":{"$error":"#REF!"}}]
[{"$f":"\"HTP.P('<\" &#REF! & \">' || \" & IF(MID(#REF!,1,4)=\"STUB\",\"NULL\",\"REC.\" &#REF!) & \" || '</\" &#REF! & \">');\"","v":{"$error":"#REF!"}},null,{"$f":"\"DECODE(C_T.\" &#REF! & \", 0, NULL, C_T.\" &#REF! & \") AS \" &#REF! & \",\"","v":{"$error":"#REF!"}}]
[{"$f":"\"HTP.P('<\" &#REF! & \">' || \" & IF(MID(#REF!,1,4)=\"STUB\",\"NULL\",\"REC.\" &#REF!) & \" || '</\" &#REF! & \">');\"","v":{"$error":"#REF!"}},null,{"$f":"\"DECODE(C_T.\" &#REF! & \", 0, NULL, C_T.\" &#REF! & \") AS \" &#REF! & \",\"","v":{"$error":"#REF!"}}]
[{"$f":"\"HTP.P('<\" &#REF! & \">' || \" & IF(MID(#REF!,1,4)=\"STUB\",\"NULL\",\"REC.\" &#REF!) & \" || '</\" &#REF! & \">');\"","v":{"$error":"#REF!"}},null,{"$f":"\"DECODE(C_T.\" &#REF! & \", 0, NULL, C_T.\" &#REF! & \") AS \" &#REF! & \",\"","v":{"$error":"#REF!"}}]
[{"$f":"\"HTP.P('<\" &#REF! & \">' || \" & IF(MID(#REF!,1,4)=\"STUB\",\"NULL\",\"REC.\" &#REF!) & \" || '</\" &#REF! & \">');\"","v":{"$error":"#REF!"}},null,{"$f":"\"DECODE(C_T.\" &#REF! & \", 0, NULL, C_T.\" &#REF! & \") AS \" &#REF! & \",\"","v":{"$error":"#REF!"}}]
[{"$f":"\"HTP.P('<\" &#REF! & \">' || \" & IF(MID(#REF!,1,4)=\"STUB\",\"NULL\",\"REC.\" &#REF!) & \" || '</\" &#REF! & \">');\"","v":{"$error":"#REF!"}},null,{"$f":"\"DECODE(C_T.\" &#REF! & \", 0, NULL, C_T.\" &#REF! & \") AS \" &#REF! & \",\"","v":{"$error":"#REF!"}}]
[{"$f":"\"HTP.P('<\" &#REF! & \">' || \" & IF(MID(#REF!,1,4)=\"STUB\",\"NULL\",\"REC.\" &#REF!) & \" || '</\" &#REF! & \">');\"","v":{"$error":"#REF!"}},null,{"$f":"\"DECODE(C_T.\" &#REF! & \", 0, NULL, C_T.\" &#REF! & \") AS \" &#REF! & \",\"","v":{"$error":"#REF!"}}]
[{"$f":"\"HTP.P('<\" &#REF! & \">' || \" & IF(MID(#REF!,1,4)=\"STUB\",\"NULL\",\"REC.\" &#REF!) & \" || '</\" &#REF! & \">');\"","v":{"$error":"#REF!"}},null,{"$f":"\"DECODE(C_T.\" &#REF! & \", 0, NULL, C_T.\" &#REF! & \") AS \" &#REF! & \",\"","v":{"$error":"#REF!"}}]
[{"$f":"\"HTP.P('<\" &#REF! & \">' || \" & IF(MID(#REF!,1,4)=\"STUB\",\"NULL\",\"REC.\" &#REF!) & \" || '</\" &#REF! & \">');\"","v":{"$error":"#REF!"}},null,{"$f":"\"DECODE(C_T.\" &#REF! & \", 0, NULL, C_T.\" &#REF! & \") AS \" &#REF! & \",\"","v":{"$error":"#REF!"}}]
[{"$f":"\"HTP.P('<\" &#REF! & \">' || \" & IF(MID(#REF!,1,4)=\"STUB\",\"NULL\",\"REC.\" &#REF!) & \" || '</\" &#REF! & \">');\"","v":{"$error":"#REF!"}},null,{"$f":"\"DECODE(C_T.\" &#REF! & \", 0, NULL, C_T.\" &#REF! & \") AS \" &#REF! & \",\"","v":{"$error":"#REF!"}}]
[{"$f":"\"HTP.P('<\" &#REF! & \">' || \" & IF(MID(#REF!,1,4)=\"STUB\",\"NULL\",\"REC.\" &#REF!) & \" || '</\" &#REF! & \">');\"","v":{"$error":"#REF!"}},null,{"$f":"\"DECODE(C_T.\" &#REF! & \", 0, NULL, C_T.\" &#REF! & \") AS \" &#REF! & \",\"","v":{"$error":"#REF!"}}]
[{"$f":"\"HTP.P('<\" &#REF! & \">' || \" & IF(MID(#REF!,1,4)=\"STUB\",\"NULL\",\"REC.\" &#REF!) & \" || '</\" &#REF! & \">');\"","v":{"$error":"#REF!"}},null,{"$f":"\"DECODE(C_T.\" &#REF! & \", 0, NULL, C_T.\" &#REF! & \") AS \" &#REF! & \",\"","v":{"$error":"#REF!"}}]
[{"$f":"\"HTP.P('<\" &#REF! & \">' || \" & IF(MID(#REF!,1,4)=\"STUB\",\"NULL\",\"REC.\" &#REF!) & \" || '</\" &#REF! & \">');\"","v":{"$error":"#REF!"}},null,{"$f":"\"DECODE(C_T.\" &#REF! & \", 0, NULL, C_T.\" &#REF! & \") AS \" &#REF! & \",\"","v":{"$error":"#REF!"}}]
[{"$f":"\"HTP.P('<\" &#REF! & \">' || \" & IF(MID(#REF!,1,4)=\"STUB\",\"NULL\",\"REC.\" &#REF!) & \" || '</\" &#REF! & \">');\"","v":{"$error":"#REF!"}},null,{"$f":"\"DECODE(C_T.\" &#REF! & \", 0, NULL, C_T.\" &#REF! & \") AS \" &#REF! & \",\"","v":{"$error":"#REF!"}}]
[{"$f":"\"HTP.P('<\" &#REF! & \">' || \" & IF(MID(#REF!,1,4)=\"STUB\",\"NULL\",\"REC.\" &#REF!) & \" || '</\" &#REF! & \">');\"","v":{"$error":"#REF!"}},null,{"$f":"\"DECODE(C_T.\" &#REF! & \", 0, NULL, C_T.\" &#REF! & \") AS \" &#REF! & \",\"","v":{"$error":"#REF!"}}]
[{"$f":"\"HTP.P('<\" &#REF! & \">' || \" & IF(MID(#REF!,1,4)=\"STUB\",\"NULL\",\"REC.\" &#REF!) & \" || '</\" &#REF! & \">');\"","v":{"$error":"#REF!"}},null,{"$f":"\"DECODE(C_T.\" &#REF! & \", 0, NULL, C_T.\" &#REF! & \") AS \" &#REF! & \",\"","v":{"$error":"#REF!"}}]
[{"$f":"\"HTP.P('<\" &#REF! & \">' || \" & IF(MID(#REF!,1,4)=\"STUB\",\"NULL\",\"REC.\" &#REF!) & \" || '</\" &#REF! & \">');\"","v":{"$error":"#REF!"}},null,{"$f":"\"DECODE(C_T.\" &#REF! & \", 0, NULL, C_T.\" &#REF! & \") AS \" &#REF! & \",\"","v":{"$error":"#REF!"}}]
[{"$f":"\"HTP.P('<\" &#REF! & \">' || \" & IF(MID(#REF!,1,4)=\"STUB\",\"NULL\",\"REC.\" &#REF!) & \" || '</\" &#REF! & \">');\"","v":{"$error":"#REF!"}},null,{"$f":"\"DECODE(C_T.\" &#REF! & \", 0, NULL, C_T.\" &#REF! & \") AS \" &#REF! & \",\"","v":{"$error":"#REF!"}}]
[{"$f":"\"HTP.P('<\" &#REF! & \">' || \" & IF(MID(#REF!,1,4)=\"STUB\",\"NULL\",\"REC.\" &#REF!) & \" || '</\" &#REF! & \">');\"","v":{"$error":"#REF!"}},null,{"$f":"\"DECODE(C_T.\" &#REF! & \", 0, NULL, C_T.\" &#REF! & \") AS \" &#REF! & \",\"","v":{"$error":"#REF!"}}]
[{"$f":"\"HTP.P('<\" &#REF! & \">' || \" & IF(MID(#REF!,1,4)=\"STUB\",\"NULL\",\"REC.\" &#REF!) & \" || '</\" &#REF! & \">');\"","v":{"$error":"#REF!"}},null,{"$f":"\"DECODE(C_T.\" &#REF! & \", 0, NULL, C_T.\" &#REF! & \") AS \" &#REF! & \",\"","v":{"$error":"#REF!"}}]
[{"$f":"\"HTP.P('<\" &#REF! & \">' || \" & IF(MID(#REF!,1,4)=\"STUB\",\"NULL\",\"REC.\" &#REF!) & \" || '</\" &#REF! & \">');\"","v":{"$error":"#REF!"}},null,{"$f":"\"DECODE(C_T.\" &#REF! & \", 0, NULL, C_T.\" &#REF! & \") AS \" &#REF! & \",\"","v":{"$error":"#REF!"}}]
[{"$f":"\"HTP.P('<\" &#REF! & \">' || \" & IF(MID(#REF!,1,4)=\"STUB\",\"NULL\",\"REC.\" &#REF!) & \" || '</\" &#REF! & \">');\"","v":{"$error":"#REF!"}},null,{"$f":"\"DECODE(C_T.\" &#REF! & \", 0, NULL, C_T.\" &#REF! & \") AS \" &#REF! & \",\"","v":{"$error":"#REF!"}}]
[{"$f":"\"HTP.P('<\" &#REF! & \">' || \" & IF(MID(#REF!,1,4)=\"STUB\",\"NULL\",\"REC.\" &#REF!) & \" || '</\" &#REF! & \">');\"","v":{"$error":"#REF!"}},null,{"$f":"\"DECODE(C_T.\" &#REF! & \", 0, NULL, C_T.\" &#REF! & \") AS \" &#REF! & \",\"","v":{"$error":"#REF!"}}]
[{"$f":"\"HTP.P('<\" &#REF! & \">' || \" & IF(MID(#REF!,1,4)=\"STUB\",\"NULL\",\"REC.\" &#REF!) & \" || '</\" &#REF! & \">');\"","v":{"$error":"#REF!"}},null,{"$f":"\"DECODE(C_T.\" &#REF! & \", 0, NULL, C_T.\" &#REF! & \") AS \" &#REF! & \",\"","v":{"$error":"#REF!"}}]
[{"$f":"\"HTP.P('<\" &#REF! & \">' || \" & IF(MID(#REF!,1,4)=\"STUB\",\"NULL\",\"REC.\" &#REF!) & \" || '</\" &#REF! & \">');\"","v":{"$error":"#REF!"}},null,{"$f":"\"DECODE(C_T.\" &#REF! & \", 0, NULL, C_T.\" &#REF! & \") AS \" &#REF! & \",\"","v":{"$error":"#REF!"}}]
[{"$f":"\"HTP.P('<\" &#REF! & \">' || \" & IF(MID(#REF!,1,4)=\"STUB\",\"NULL\",\"REC.\" &#REF!) & \" || '</\" &#REF! & \">');\"","v":{"$error":"#REF!"}},null,{"$f":"\"DECODE(C_T.\" &#REF! & \", 0, NULL, C_T.\" &#REF! & \") AS \" &#REF! & \",\"","v":{"$error":"#REF!"}}]
[{"$f":"\"HTP.P('<\" &#REF! & \">' || \" & IF(MID(#REF!,1,4)=\"STUB\",\"NULL\",\"REC.\" &#REF!) & \" || '</\" &#REF! & \">');\"","v":{"$error":"#REF!"}},null,{"$f":"\"DECODE(C_T.\" &#REF! & \", 0, NULL, C_T.\" &#REF! & \") AS \" &#REF! & \",\"","v":{"$error":"#REF!"}}]
[{"$f":"\"HTP.P('<\" &#REF! & \">' || \" & IF(MID(#REF!,1,4)=\"STUB\",\"NULL\",\"REC.\" &#REF!) & \" || '</\" &#REF! & \">');\"","v":{"$error":"#REF!"}},null,{"$f":"\"DECODE(C_T.\" &#REF! & \", 0, NULL, C_T.\" &#REF! & \") AS \" &#REF! & \",\"","v":{"$error":"#REF!"}}]
[{"$f":"\"HTP.P('<\" &#REF! & \">' || \" & IF(MID(#REF!,1,4)=\"STUB\",\"NULL\",\"REC.\" &#REF!) & \" || '</\" &#REF! & \">');\"","v":{"$error":"#REF!"}},null,{"$f":"\"DECODE(C_T.\" &#REF! & \", 0, NULL, C_T.\" &#REF! & \") AS \" &#REF! & \",\"","v":{"$error":"#REF!"}}]
[{"$f":"\"HTP.P('<\" &#REF! & \">' || \" & IF(MID(#REF!,1,4)=\"STUB\",\"NULL\",\"REC.\" &#REF!) & \" || '</\" &#REF! & \">');\"","v":{"$error":"#REF!"}},null,{"$f":"\"DECODE(C_T.\" &#REF! & \", 0, NULL, C_T.\" &#REF! & \") AS \" &#REF! & \",\"","v":{"$error":"#REF!"}}]
[{"$f":"\"HTP.P('<\" &#REF! & \">' || \" & IF(MID(#REF!,1,4)=\"STUB\",\"NULL\",\"REC.\" &#REF!) & \" || '</\" &#REF! & \">');\"","v":{"$error":"#REF!"}},null,{"$f":"\"DECODE(C_T.\" &#REF! & \", 0, NULL, C_T.\" &#REF! & \") AS \" &#REF! & \",\"","v":{"$error":"#REF!"}}]
[{"$f":"\"HTP.P('<\" &#REF! & \">' || \" & IF(MID(#REF!,1,4)=\"STUB\",\"NULL\",\"REC.\" &#REF!) & \" || '</\" &#REF! & \">');\"","v":{"$error":"#REF!"}},null,{"$f":"\"DECODE(C_T.\" &#REF! & \", 0, NULL, C_T.\" &#REF! & \") AS \" &#REF! & \",\"","v":{"$error":"#REF!"}}]
[{"$f":"\"HTP.P('<\" &#REF! & \">' || \" & IF(MID(#REF!,1,4)=\"STUB\",\"NULL\",\"REC.\" &#REF!) & \" || '</\" &#REF! & \">');\"","v":{"$error":"#REF!"}},null,{"$f":"\"DECODE(C_T.\" &#REF! & \", 0, NULL, C_T.\" &#REF! & \") AS \" &#REF! & \",\"","v":{"$error":"#REF!"}}]
[{"$f":"\"HTP.P('<\" &#REF! & \">' || \" & IF(MID(#REF!,1,4)=\"STUB\",\"NULL\",\"REC.\" &#REF!) & \" || '</\" &#REF! & \">');\"","v":{"$error":"#REF!"}},null,{"$f":"\"DECODE(C_T.\" &#REF! & \", 0, NULL, C_T.\" &#REF! & \") AS \" &#REF! & \",\"","v":{"$error":"#REF!"}}]
[{"$f":"\"HTP.P('<\" &#REF! & \">' || \" & IF(MID(#REF!,1,4)=\"STUB\",\"NULL\",\"REC.\" &#REF!) & \" || '</\" &#REF! & \">');\"","v":{"$error":"#REF!"}},null,{"$f":"\"DECODE(C_T.\" &#REF! & \", 0, NULL, C_T.\" &#REF! & \") AS \" &#REF! & \",\"","v":{"$error":"#REF!"}}]
[{"$f":"\"HTP.P('<\" &#REF! & \">' || \" & IF(MID(#REF!,1,4)=\"STUB\",\"NULL\",\"REC.\" &#REF!) & \" || '</\" &#REF! & \">');\"","v":{"$error":"#REF!"}},null,{"$f":"\"DECODE(C_T.\" &#REF! & \", 0, NULL, C_T.\" &#REF! & \") AS \" &#REF! & \",\"","v":{"$error":"#REF!"}}]
[{"$f":"\"HTP.P('<\" &#REF! & \">' || \" & IF(MID(#REF!,1,4)=\"STUB\",\"NULL\",\"REC.\" &#REF!) & \" || '</\" &#REF! & \">');\"","v":{"$error":"#REF!"}},null,{"$f":"\"DECODE(C_T.\" &#REF! & \", 0, NULL, C_T.\" &#REF! & \") AS \" &#REF! & \",\"","v":{"$error":"#REF!"}}]
[{"$f":"\"HTP.P('<\" &#REF! & \">' || \" & IF(MID(#REF!,1,4)=\"STUB\",\"NULL\",\"REC.\" &#REF!) & \" || '</\" &#REF! & \">');\"","v":{"$error":"#REF!"}},null,{"$f":"\"DECODE(C_T.\" &#REF! & \", 0, NULL, C_T.\" &#REF! & \") AS \" &#REF! & \",\"","v":{"$error":"#REF!"}}]
[{"$f":"\"HTP.P('<\" &#REF! & \">' || \" & IF(MID(#REF!,1,4)=\"STUB\",\"NULL\",\"REC.\" &#REF!) & \" || '</\" &#REF! & \">');\"","v":{"$error":"#REF!"}},null,{"$f":"\"DECODE(C_T.\" &#REF! & \", 0, NULL, C_T.\" &#REF! & \") AS \" &#REF! & \",\"","v":{"$error":"#REF!"}}]
[{"$f":"\"HTP.P('<\" &#REF! & \">' || \" & IF(MID(#REF!,1,4)=\"STUB\",\"NULL\",\"REC.\" &#REF!) & \" || '</\" &#REF! & \">');\"","v":{"$error":"#REF!"}},null,{"$f":"\"DECODE(C_T.\" &#REF! & \", 0, NULL, C_T.\" &#REF! & \") AS \" &#REF! & \",\"","v":{"$error":"#REF!"}}]
[{"$f":"\"HTP.P('<\" &#REF! & \">' || \" & IF(MID(#REF!,1,4)=\"STUB\",\"NULL\",\"REC.\" &#REF!) & \" || '</\" &#REF! & \">');\"","v":{"$error":"#REF!"}},null,{"$f":"\"DECODE(C_T.\" &#REF! & \", 0, NULL, C_T.\" &#REF! & \") AS \" &#REF! & \",\"","v":{"$error":"#REF!"}}]
[{"$f":"\"HTP.P('<\" &#REF! & \">' || \" & IF(MID(#REF!,1,4)=\"STUB\",\"NULL\",\"REC.\" &#REF!) & \" || '</\" &#REF! & \">');\"","v":{"$error":"#REF!"}},null,{"$f":"\"DECODE(C_T.\" &#REF! & \", 0, NULL, C_T.\" &#REF! & \") AS \" &#REF! & \",\"","v":{"$error":"#REF!"}}]
[{"$f":"\"HTP.P('<\" &#REF! & \">' || \" & IF(MID(#REF!,1,4)=\"STUB\",\"NULL\",\"REC.\" &#REF!) & \" || '</\" &#REF! & \">');\"","v":{"$error":"#REF!"}},null,{"$f":"\"DECODE(C_T.\" &#REF! & \", 0, NULL, C_T.\" &#REF! & \") AS \" &#REF! & \",\"","v":{"$error":"#REF!"}}]
[{"$f":"\"HTP.P('<\" &#REF! & \">' || \" & IF(MID(#REF!,1,4)=\"STUB\",\"NULL\",\"REC.\" &#REF!) & \" || '</\" &#REF! & \">');\"","v":{"$error":"#REF!"}},null,{"$f":"\"DECODE(C_T.\" &#REF! & \", 0, NULL, C_T.\" &#REF! & \") AS \" &#REF! & \",\"","v":{"$error":"#REF!"}}]
[{"$f":"\"HTP.P('<\" &#REF! & \">' || \" & IF(MID(#REF!,1,4)=\"STUB\",\"NULL\",\"REC.\" &#REF!) & \" || '</\" &#REF! & \">');\"","v":{"$error":"#REF!"}},null,{"$f":"\"DECODE(C_T.\" &#REF! & \", 0, NULL, C_T.\" &#REF! & \") AS \" &#REF! & \",\"","v":{"$error":"#REF!"}}]
[{"$f":"\"HTP.P('<\" &#REF! & \">' || \" & IF(MID(#REF!,1,4)=\"STUB\",\"NULL\",\"REC.\" &#REF!) & \" || '</\" &#REF! & \">');\"","v":{"$error":"#REF!"}},null,{"$f":"\"DECODE(C_T.\" &#REF! & \", 0, NULL, C_T.\" &#REF! & \") AS \" &#REF! & \",\"","v":{"$error":"#REF!"}}]
[{"$f":"\"HTP.P('<\" &#REF! & \">' || \" & IF(MID(#REF!,1,4)=\"STUB\",\"NULL\",\"REC.\" &#REF!) & \" || '</\" &#REF! & \">');\"","v":{"$error":"#REF!"}},null,{"$f":"\"DECODE(C_T.\" &#REF! & \", 0, NULL, C_T.\" &#REF! & \") AS \" &#REF! & \",\"","v":{"$error":"#REF!"}}]
[{"$f":"\"HTP.P('<\" &#REF! & \">' || \" & IF(MID(#REF!,1,4)=\"STUB\",\"NULL\",\"REC.\" &#REF!) & \" || '</\" &#REF! & \">');\"","v":{"$error":"#REF!"}},null,{"$f":"\"DECODE(C_T.\" &#REF! & \", 0, NULL, C_T.\" &#REF! & \") AS \" &#REF! & \",\"","v":{"$error":"#REF!"}}]
[{"$f":"\"HTP.P('<\" &#REF! & \">' || \" & IF(MID(#REF!,1,4)=\"STUB\",\"NULL\",\"REC.\" &#REF!) & \" || '</\" &#REF! & \">');\"","v":{"$error":"#REF!"}},null,{"$f":"\"DECODE(C_T.\" &#REF! & \", 0, NULL, C_T.\" &#REF! & \") AS \" &#REF! & \",\"","v":{"$error":"#REF!"}}]
[{"$f":"\"HTP.P('<\" &#REF! & \">' || \" & IF(MID(#REF!,1,4)=\"STUB\",\"NULL\",\"REC.\" &#REF!) & \" || '</\" &#REF! & \">');\"","v":{"$error":"#REF!"}},null,{"$f":"\"DECODE(C_T.\" &#REF! & \", 0, NULL, C_T.\" &#REF! & \") AS \" &#REF! & \",\"","v":{"$error":"#REF!"}}]
[{"$f":"\"HTP.P('<\" &#REF! & \">' || \" & IF(MID(#REF!,1,4)=\"STUB\",\"NULL\",\"REC.\" &#REF!) & \" || '</\" &#REF! & \">');\"","v":{"$error":"#REF!"}},null,{"$f":"\"DECODE(C_T.\" &#REF! & \", 0, NULL, C_T.\" &#REF! & \") AS \" &#REF! & \",\"","v":{"$error":"#REF!"}}]
[{"$f":"\"HTP.P('<\" &#REF! & \">' || \" & IF(MID(#REF!,1,4)=\"STUB\",\"NULL\",\"REC.\" &#REF!) & \" || '</\" &#REF! & \">');\"","v":{"$error":"#REF!"}},null,{"$f":"\"DECODE(C_T.\" &#REF! & \", 0, NULL, C_T.\" &#REF! & \") AS \" &#REF! & \",\"","v":{"$error":"#REF!"}}]
[{"$f":"\"HTP.P('<\" &#REF! & \">' || \" & IF(MID(#REF!,1,4)=\"STUB\",\"NULL\",\"REC.\" &#REF!) & \" || '</\" &#REF! & \">');\"","v":{"$error":"#REF!"}},null,{"$f":"\"DECODE(C_T.\" &#REF! & \", 0, NULL, C_T.\" &#REF! & \") AS \" &#REF! & \",\"","v":{"$error":"#REF!"}}]
[{"$f":"\"HTP.P('<\" &#REF! & \">' || \" & IF(MID(#REF!,1,4)=\"STUB\",\"NULL\",\"REC.\" &#REF!) & \" || '</\" &#REF! & \">');\"","v":{"$error":"#REF!"}},null,{"$f":"\"DECODE(C_T.\" &#REF! & \", 0, NULL, C_T.\" &#REF! & \") AS \" &#REF! & \",\"","v":{"$error":"#REF!"}}]
[{"$f":"\"HTP.P('<\" &#REF! & \">' || \" & IF(MID(#REF!,1,4)=\"STUB\",\"NULL\",\"REC.\" &#REF!) & \" || '</\" &#REF! & \">');\"","v":{"$error":"#REF!"}},null,{"$f":"\"DECODE(C_T.\" &#REF! & \", 0, NULL, C_T.\" &#REF! & \") AS \" &#REF! & \",\"","v":{"$error":"#REF!"}}]
[{"$f":"\"HTP.P('<\" &#REF! & \">' || \" & IF(MID(#REF!,1,4)=\"STUB\",\"NULL\",\"REC.\" &#REF!) & \" || '</\" &#REF! & \">');\"","v":{"$error":"#REF!"}},null,{"$f":"\"DECODE(C_T.\" &#REF! & \", 0, NULL, C_T.\" &#REF! & \") AS \" &#REF! & \",\"","v":{"$error":"#REF!"}}]
[{"$f":"\"HTP.P('<\" &#REF! & \">' || \" & IF(MID(#REF!,1,4)=\"STUB\",\"NULL\",\"REC.\" &#REF!) & \" || '</\" &#REF! & \">');\"","v":{"$error":"#REF!"}},null,{"$f":"\"DECODE(C_T.\" &#REF! & \", 0, NULL, C_T.\" &#REF! & \") AS \" &#REF! & \",\"","v":{"$error":"#REF!"}}]
[{"$f":"\"HTP.P('<\" &#REF! & \">' || \" & IF(MID(#REF!,1,4)=\"STUB\",\"NULL\",\"REC.\" &#REF!) & \" || '</\" &#REF! & \">');\"","v":{"$error":"#REF!"}},null,{"$f":"\"DECODE(C_T.\" &#REF! & \", 0, NULL, C_T.\" &#REF! & \") AS \" &#REF! & \",\"","v":{"$error":"#REF!"}}]
[{"$f":"\"HTP.P('<\" &#REF! & \">' || \" & IF(MID(#REF!,1,4)=\"STUB\",\"NULL\",\"REC.\" &#REF!) & \" || '</\" &#REF! & \">');\"","v":{"$error":"#REF!"}},null,{"$f":"\"DECODE(C_T.\" &#REF! & \", 0, NULL, C_T.\" &#REF! & \") AS \" &#REF! & \",\"","v":{"$error":"#REF!"}}]
[{"$f":"\"HTP.P('<\" &#REF! & \">' || \" & IF(MID(#REF!,1,4)=\"STUB\",\"NULL\",\"REC.\" &#REF!) & \" || '</\" &#REF! & \">');\"","v":{"$error":"#REF!"}},null,{"$f":"\"DECODE(C_T.\" &#REF! & \", 0, NULL, C_T.\" &#REF! & \") AS \" &#REF! & \",\"","v":{"$error":"#REF!"}}]
[{"$f":"\"HTP.P('<\" &#REF! & \">' || \" & IF(MID(#REF!,1,4)=\"STUB\",\"NULL\",\"REC.\" &#REF!) & \" || '</\" &#REF! & \">');\"","v":{"$error":"#REF!"}},null,{"$f":"\"DECODE(C_T.\" &#REF! & \", 0, NULL, C_T.\" &#REF! & \") AS \" &#REF! & \",\"","v":{"$error":"#REF!"}}]
[{"$f":"\"HTP.P('<\" &#REF! & \">' || \" & IF(MID(#REF!,1,4)=\"STUB\",\"NULL\",\"REC.\" &#REF!) & \" || '</\" &#REF! & \">');\"","v":{"$error":"#REF!"}},null,{"$f":"\"DECODE(C_T.\" &#REF! & \", 0, NULL, C_T.\" &#REF! & \") AS \" &#REF! & \",\"","v":{"$error":"#REF!"}}]
[{"$f":"\"HTP.P('<\" &#REF! & \">' || \" & IF(MID(#REF!,1,4)=\"STUB\",\"NULL\",\"REC.\" &#REF!) & \" || '</\" &#REF! & \">');\"","v":{"$error":"#REF!"}},null,{"$f":"\"DECODE(C_T.\" &#REF! & \", 0, NULL, C_T.\" &#REF! & \") AS \" &#REF! & \",\"","v":{"$error":"#REF!"}}]
[{"$f":"\"HTP.P('<\" &#REF! & \">' || \" & IF(MID(#REF!,1,4)=\"STUB\",\"NULL\",\"REC.\" &#REF!) & \" || '</\" &#REF! & \">');\"","v":{"$error":"#REF!"}},null,{"$f":"\"DECODE(C_T.\" &#REF! & \", 0, NULL, C_T.\" &#REF! & \") AS \" &#REF! & \",\"","v":{"$error":"#REF!"}}]
[{"$f":"\"HTP.P('<\" &#REF! & \">' || \" & IF(MID(#REF!,1,4)=\"STUB\",\"NULL\",\"REC.\" &#REF!) & \" || '</\" &#REF! & \">');\"","v":{"$error":"#REF!"}},null,{"$f":"\"DECODE(C_T.\" &#REF! & \", 0, NULL, C_T.\" &#REF! & \") AS \" &#REF! & \",\"","v":{"$error":"#REF!"}}]
[{"$f":"\"HTP.P('<\" &#REF! & \">' || \" & IF(MID(#REF!,1,4)=\"STUB\",\"NULL\",\"REC.\" &#REF!) & \" || '</\" &#REF! & \">');\"","v":{"$error":"#REF!"}},null,{"$f":"\"DECODE(C_T.\" &#REF! & \", 0, NULL, C_T.\" &#REF! & \") AS \" &#REF! & \",\"","v":{"$error":"#REF!"}}]
[{"$f":"\"HTP.P('<\" &#REF! & \">' || \" & IF(MID(#REF!,1,4)=\"STUB\",\"NULL\",\"REC.\" &#REF!) & \" || '</\" &#REF! & \">');\"","v":{"$error":"#REF!"}},null,{"$f":"\"DECODE(C_T.\" &#REF! & \", 0, NULL, C_T.\" &#REF! & \") AS \" &#REF! & \",\"","v":{"$error":"#REF!"}}]
[{"$f":"\"HTP.P('<\" &#REF! & \">' || \" & IF(MID(#REF!,1,4)=\"STUB\",\"NULL\",\"REC.\" &#REF!) & \" || '</\" &#REF! & \">');\"","v":{"$error":"#REF!"}},null,{"$f":"\"DECODE(C_T.\" &#REF! & \", 0, NULL, C_T.\" &#REF! & \") AS \" &#REF! & \",\"","v":{"$error":"#REF!"}}]
[{"$f":"\"HTP.P('<\" &#REF! & \">' || \" & IF(MID(#REF!,1,4)=\"STUB\",\"NULL\",\"REC.\" &#REF!) & \" || '</\" &#REF! & \">');\"","v":{"$error":"#REF!"}},null,{"$f":"\"DECODE(C_T.\" &#REF! & \", 0, NULL, C_T.\" &#REF! & \") AS \" &#REF! & \",\"","v":{"$error":"#REF!"}}]
[{"$f":"\"HTP.P('<\" &#REF! & \">' || \" & IF(MID(#REF!,1,4)=\"STUB\",\"NULL\",\"REC.\" &#REF!) & \" || '</\" &#REF! & \">');\"","v":{"$error":"#REF!"}},null,{"$f":"\"DECODE(C_T.\" &#REF! & \", 0, NULL, C_T.\" &#REF! & \") AS \" &#REF! & \",\"","v":{"$error":"#REF!"}}]
[{"$f":"\"HTP.P('<\" &#REF! & \">' || \" & IF(MID(#REF!,1,4)=\"STUB\",\"NULL\",\"REC.\" &#REF!) & \" || '</\" &#REF! & \">');\"","v":{"$error":"#REF!"}},null,{"$f":"\"DECODE(C_T.\" &#REF! & \", 0, NULL, C_T.\" &#REF! & \") AS \" &#REF! & \",\"","v":{"$error":"#REF!"}}]
[{"$f":"\"HTP.P('<\" &#REF! & \">' || \" & IF(MID(#REF!,1,4)=\"STUB\",\"NULL\",\"REC.\" &#REF!) & \" || '</\" &#REF! & \">');\"","v":{"$error":"#REF!"}},null,{"$f":"\"DECODE(C_T.\" &#REF! & \", 0, NULL, C_T.\" &#REF! & \") AS \" &#REF! & \",\"","v":{"$error":"#REF!"}}]
[{"$f":"\"HTP.P('<\" &#REF! & \">' || \" & IF(MID(#REF!,1,4)=\"STUB\",\"NULL\",\"REC.\" &#REF!) & \" || '</\" &#REF! & \">');\"","v":{"$error":"#REF!"}},null,{"$f":"\"DECODE(C_T.\" &#REF! & \", 0, NULL, C_T.\" &#REF! & \") AS \" &#REF! & \",\"","v":{"$error":"#REF!"}}]
[{"$f":"\"HTP.P('<\" &#REF! & \">' || \" & IF(MID(#REF!,1,4)=\"STUB\",\"NULL\",\"REC.\" &#REF!) & \" || '</\" &#REF! & \">');\"","v":{"$error":"#REF!"}},null,{"$f":"\"DECODE(C_T.\" &#REF! & \", 0, NULL, C_T.\" &#REF! & \") AS \" &#REF! & \",\"","v":{"$error":"#REF!"}}]
[{"$f":"\"HTP.P('<\" &#REF! & \">' || \" & IF(MID(#REF!,1,4)=\"STUB\",\"NULL\",\"REC.\" &#REF!) & \" || '</\" &#REF! & \">');\"","v":{"$error":"#REF!"}},null,{"$f":"\"DECODE(C_T.\" &#REF! & \", 0, NULL, C_T.\" &#REF! & \") AS \" &#REF! & \",\"","v":{"$error":"#REF!"}}]
[{"$f":"\"HTP.P('<\" &#REF! & \">' || \" & IF(MID(#REF!,1,4)=\"STUB\",\"NULL\",\"REC.\" &#REF!) & \" || '</\" &#REF! & \">');\"","v":{"$error":"#REF!"}},null,{"$f":"\"DECODE(C_T.\" &#REF! & \", 0, NULL, C_T.\" &#REF! & \") AS \" &#REF! & \",\"","v":{"$error":"#REF!"}}]
[{"$f":"\"HTP.P('<\" &#REF! & \">' || \" & IF(MID(#REF!,1,4)=\"STUB\",\"NULL\",\"REC.\" &#REF!) & \" || '</\" &#REF! & \">');\"","v":{"$error":"#REF!"}},null,{"$f":"\"DECODE(C_T.\" &#REF! & \", 0, NULL, C_T.\" &#REF! & \") AS \" &#REF! & \",\"","v":{"$error":"#REF!"}}]
[{"$f":"\"HTP.P('<\" &#REF! & \">' || \" & IF(MID(#REF!,1,4)=\"STUB\",\"NULL\",\"REC.\" &#REF!) & \" || '</\" &#REF! & \">');\"","v":{"$error":"#REF!"}},null,{"$f":"\"DECODE(C_T.\" &#REF! & \", 0, NULL, C_T.\" &#REF! & \") AS \" &#REF! & \",\"","v":{"$error":"#REF!"}}]
[{"$f":"\"HTP.P('<\" &#REF! & \">' || \" & IF(MID(#REF!,1,4)=\"STUB\",\"NULL\",\"REC.\" &#REF!) & \" || '</\" &#REF! & \">');\"","v":{"$error":"#REF!"}},null,{"$f":"\"DECODE(C_T.\" &#REF! & \", 0, NULL, C_T.\" &#REF! & \") AS \" &#REF! & \",\"","v":{"$error":"#REF!"}}]
[{"$f":"\"HTP.P('<\" &#REF! & \">' || \" & IF(MID(#REF!,1,4)=\"STUB\",\"NULL\",\"REC.\" &#REF!) & \" || '</\" &#REF! & \">');\"","v":{"$error":"#REF!"}},null,{"$f":"\"DECODE(C_T.\" &#REF! & \", 0, NULL, C_T.\" &#REF! & \") AS \" &#REF! & \",\"","v":{"$error":"#REF!"}}]
[{"$f":"\"HTP.P('<\" &#REF! & \">' || \" & IF(MID(#REF!,1,4)=\"STUB\",\"NULL\",\"REC.\" &#REF!) & \" || '</\" &#REF! & \">');\"","v":{"$error":"#REF!"}},null,{"$f":"\"DECODE(C_T.\" &#REF! & \", 0, NULL, C_T.\" &#REF! & \") AS \" &#REF! & \",\"","v":{"$error":"#REF!"}}]
[{"$f":"\"HTP.P('<\" &#REF! & \">' || \" & IF(MID(#REF!,1,4)=\"STUB\",\"NULL\",\"REC.\" &#REF!) & \" || '</\" &#REF! & \">');\"","v":{"$error":"#REF!"}},null,{"$f":"\"DECODE(C_T.\" &#REF! & \", 0, NULL, C_T.\" &#REF! & \") AS \" &#REF! & \",\"","v":{"$error":"#REF!"}}]
[{"$f":"\"HTP.P('<\" &#REF! & \">' || \" & IF(MID(#REF!,1,4)=\"STUB\",\"NULL\",\"REC.\" &#REF!) & \" || '</\" &#REF! & \">');\"","v":{"$error":"#REF!"}},null,{"$f":"\"DECODE(C_T.\" &#REF! & \", 0, NULL, C_T.\" &#REF! & \") AS \" &#REF! & \",\"","v":{"$error":"#REF!"}}]
[{"$f":"\"HTP.P('<\" &#REF! & \">' || \" & IF(MID(#REF!,1,4)=\"STUB\",\"NULL\",\"REC.\" &#REF!) & \" || '</\" &#REF! & \">');\"","v":{"$error":"#REF!"}},null,{"$f":"\"DECODE(C_T.\" &#REF! & \", 0, NULL, C_T.\" &#REF! & \") AS \" &#REF! & \",\"","v":{"$error":"#REF!"}}]
[{"$f":"\"HTP.P('<\" &#REF! & \">' || \" & IF(MID(#REF!,1,4)=\"STUB\",\"NULL\",\"REC.\" &#REF!) & \" || '</\" &#REF! & \">');\"","v":{"$error":"#REF!"}},null,{"$f":"\"DECODE(C_T.\" &#REF! & \", 0, NULL, C_T.\" &#REF! & \") AS \" &#REF! & \",\"","v":{"$error":"#REF!"}}]
[{"$f":"\"HTP.P('<\" & I386 & \">' || \" & IF(MID(I386,1,4)=\"STUB\",\"NULL\",\"REC.\" & I386) & \" || '</\" & I386 & \">');\"","v":"HTP.P('<>' || REC. || '</>');"},null,{"$f":"\"DECODE(C_T.\" & I386 & \", 0, NULL, C_T.\" & I386 & \") AS \" & I386 & \",\"","v":"DECODE(C_T., 0, NULL, C_T.) AS ,"}]
[{"$f":"\"HTP.P('<\" & I387 & \">' || \" & IF(MID(I387,1,4)=\"STUB\",\"NULL\",\"REC.\" & I387) & \" || '</\" & I387 & \">');\"","v":"HTP.P('<>' || REC. || '</>');"},null,{"$f":"\"DECODE(C_T.\" & I387 & \", 0, NULL, C_T.\" & I387 & \") AS \" & I387 & \",\"","v":"DECODE(C_T., 0, NULL, C_T.) AS ,"}]
[{"$f":"\"HTP.P('<\" & I423 & \">' || \" & IF(MID(I423,1,4)=\"STUB\",\"NULL\",\"REC.\" & I423) & \" || '</\" & I423 & \">');\"","v":"HTP.P('<>' || REC. || '</>');"},null,{"$f":"\"DECODE(C_T.\" & I423 & \", 0, NULL, C_T.\" & I423 & \") AS \" & I423 & \",\"","v":"DECODE(C_T., 0, NULL, C_T.) AS ,"}]
["HTP.P('<>' || REC. || '</>');",null,"DECODE(C_T., 0, NULL, C_T.) AS ,"]
["HTP.P('<>' || REC. || '</>');",null,"DECODE(C_T., 0, NULL, C_T.) AS ,"]
["HTP.P('<>' || REC. || '</>');",null,"DECODE(C_T., 0, NULL, C_T.) AS ,"]
["HTP.P('<>' || REC. || '</>');",null,"DECODE(C_T., 0, NULL, C_T.) AS ,"]
["HTP.P('<>' || REC. || '</>');",null,"DECODE(C_T., 0, NULL, C_T.) AS ,"]
["HTP.P('<>' || REC. || '</>');",null,"DECODE(C_T., 0, NULL, C_T.) AS ,"]
["HTP.P('<>' || REC. || '</>');",null,"DECODE(C_T., 0, NULL, C_T.) AS ,"]
["HTP.P('<>' || REC. || '</>');",null,"DECODE(C_T., 0, NULL, C_T.) AS ,"]
["HTP.P('<>' || REC. || '</>');",null,"DECODE(C_T., 0, NULL, C_T.) AS ,"]
["HTP.P('<>' || REC. || '</>');",null,"DECODE(C_T., 0, NULL, C_T.) AS ,"]
["HTP.P('<>' || REC. || '</>');",null,"DECODE(C_T., 0, NULL, C_T.) AS ,"]
["HTP.P('<>' || REC. || '</>');",null,"DECODE(C_T., 0, NULL, C_T.) AS ,"]
["HTP.P('<>' || REC. || '</>');",null,"DECODE(C_T., 0, NULL, C_T.) AS ,"]
["HTP.P('<>' || REC. || '</>');",null,"DECODE(C_T., 0, NULL, C_T.) AS ,"]
["HTP.P('<>' || REC. || '</>');",null,"DECODE(C_T., 0, NULL, C_T.) AS ,"]
["HTP.P('<>' || REC. || '</>');",null,"DECODE(C_T., 0, NULL, C_T.) AS ,"]
["HTP.P('<>' || REC. || '</>');",null,"DECODE(C_T., 0, NULL, C_T.) AS ,"]
["HTP.P('<>' || REC. || '</>');",null,"DECODE(C_T., 0, NULL, C_T.) AS ,"]
[{"$f":"\"HTP.P('<\" & I442 & \">' || \" & IF(MID(I442,1,4)=\"STUB\",\"NULL\",\"REC.\" & I442) & \" || '</\" & I442 & \">');\"","v":"HTP.P('<>' || REC. || '</>');"},null,{"$f":"\"DECODE(C_T.\" & I442 & \", 0, NULL, C_T.\" & I442 & \") AS \" & I442 & \",\"","v":"DECODE(C_T., 0, NULL, C_T.) AS ,"}]
["HTP.P('<>' || REC. || '</>');",null,"DECODE(C_T., 0, NULL, C_T.) AS ,"]
["HTP.P('<>' || REC. || '</>');",null,"DECODE(C_T., 0, NULL, C_T.) AS ,"]
["HTP.P('<>' || REC. || '</>');",null,"DECODE(C_T., 0, NULL, C_T.) AS ,"]
["HTP.P('<>' || REC. || '</>');",null,"DECODE(C_T., 0, NULL, C_T.) AS ,"]
["HTP.P('<>' || REC. || '</>');",null,"DECODE(C_T., 0, NULL, C_T.) AS ,"]
["HTP.P('<>' || REC. || '</>');",null,"DECODE(C_T., 0, NULL, C_T.) AS ,"]
["HTP.P('<>' || REC. || '</>');",null,"DECODE(C_T., 0, NULL, C_T.) AS ,"]
["HTP.P('<>' || REC. || '</>');",null,"DECODE(C_T., 0, NULL, C_T.) AS ,"]
["HTP.P('<>' || REC. || '</>');",null,"DECODE(C_T., 0, NULL, C_T.) AS ,"]
["HTP.P('<>' || REC. || '</>');",null,"DECODE(C_T., 0, NULL, C_T.) AS ,"]
["HTP.P('<>' || REC. || '</>');",null,"DECODE(C_T., 0, NULL, C_T.) AS ,"]
["HTP.P('<>' || REC. || '</>');",null,"DECODE(C_T., 0, NULL, C_T.) AS ,"]
["HTP.P('<>' || REC. || '</>');",null,"DECODE(C_T., 0, NULL, C_T.) AS ,"]
["HTP.P('<>' || REC. || '</>');",null,"DECODE(C_T., 0, NULL, C_T.) AS ,"]
["HTP.P('<>' || REC. || '</>');",null,"DECODE(C_T., 0, NULL, C_T.) AS ,"]
["HTP.P('<>' || REC. || '</>');",null,"DECODE(C_T., 0, NULL, C_T.) AS ,"]
["HTP.P('<>' || REC. || '</>');",null,"DECODE(C_T., 0, NULL, C_T.) AS ,"]
["HTP.P('<>' || REC. || '</>');",null,"DECODE(C_T., 0, NULL, C_T.) AS ,"]
["HTP.P('<>' || REC. || '</>');",null,"DECODE(C_T., 0, NULL, C_T.) AS ,"]
["HTP.P('<>' || REC. || '</>');",null,"DECODE(C_T., 0, NULL, C_T.) AS ,"]
["HTP.P('<>' || REC. || '</>');",null,"DECODE(C_T., 0, NULL, C_T.) AS ,"]
["HTP.P('<>' || REC. || '</>');",null,"DECODE(C_T., 0, NULL, C_T.) AS ,"]
["HTP.P('<>' || REC. || '</>');",null,"DECODE(C_T., 0, NULL, C_T.) AS ,"]
["HTP.P('<>' || REC. || '</>');",null,"DECODE(C_T., 0, NULL, C_T.) AS ,"]
["HTP.P('<>' || REC. || '</>');",null,"DECODE(C_T., 0, NULL, C_T.) AS ,"]
["HTP.P('<>' || REC. || '</>');",null,"DECODE(C_T., 0, NULL, C_T.) AS ,"]
["HTP.P('<>' || REC. || '</>');",null,"DECODE(C_T., 0, NULL, C_T.) AS ,"]
["HTP.P('<>' || REC. || '</>');",null,"DECODE(C_T., 0, NULL, C_T.) AS ,"]
["HTP.P('<>' || REC. || '</>');",null,"DECODE(C_T., 0, NULL, C_T.) AS ,"]
["HTP.P('<>' || REC. || '</>');",null,"DECODE(C_T., 0, NULL, C_T.) AS ,"]
["HTP.P('<>' || REC. || '</>');",null,"DECODE(C_T., 0, NULL, C_T.) AS ,"]
["HTP.P('<>' || REC. || '</>');",null,"DECODE(C_T., 0, NULL, C_T.) AS ,"]
["HTP.P('<>' || REC. || '</>');",null,"DECODE(C_T., 0, NULL, C_T.) AS ,"]
["HTP.P('<>' || REC. || '</>');",null,"DECODE(C_T., 0, NULL, C_T.) AS ,"]
["HTP.P('<>' || REC. || '</>');",null,"DECODE(C_T., 0, NULL, C_T.) AS ,"]
["HTP.P('<>' || REC. || '</>');",null,"DECODE(C_T., 0, NULL, C_T.) AS ,"]
["HTP.P('<>' || REC. || '</>');",null,"DECODE(C_T., 0, NULL, C_T.) AS ,"]
["HTP.P('<>' || REC. || '</>');",null,"DECODE(C_T., 0, NULL, C_T.) AS ,"]
["HTP.P('<>' || REC. || '</>');",null,"DECODE(C_T., 0, NULL, C_T.) AS ,"]
["HTP.P('<>' || REC. || '</>');",null,"DECODE(C_T., 0, NULL, C_T.) AS ,"]
["HTP.P('<>' || REC. || '</>');",null,"DECODE(C_T., 0, NULL, C_T.) AS ,"]
["HTP.P('<>' || REC. || '</>');",null,"DECODE(C_T., 0, NULL, C_T.) AS ,"]
["HTP.P('<>' || REC. || '</>');",null,"DECODE(C_T., 0, NULL, C_T.) AS ,"]
["HTP.P('<>' || REC. || '</>');",null,"DECODE(C_T., 0, NULL, C_T.) AS ,"]
["HTP.P('<>' || REC. || '</>');",null,"DECODE(C_T., 0, NULL, C_T.) AS ,"]
["HTP.P('<>' || REC. || '</>');",null,"DECODE(C_T., 0, NULL, C_T.) AS ,"]
["HTP.P('<>' || REC. || '</>');",null,"DECODE(C_T., 0, NULL, C_T.) AS ,"]
["HTP.P('<>' || REC. || '</>');",null,"DECODE(C_T., 0, NULL, C_T.) AS ,"]
["HTP.P('<>' || REC. || '</>');",null,"DECODE(C_T., 0, NULL, C_T.) AS ,"]
["HTP.P('<>' || REC. || '</>');",null,"DECODE(C_T., 0, NULL, C_T.) AS ,"]
["HTP.P('<>' || REC. || '</>');",null,"DECODE(C_T., 0, NULL, C_T.) AS ,"]
["HTP.P('<>' || REC. || '</>');",null,"DECODE(C_T., 0, NULL, C_T.) AS ,"]
["HTP.P('<>' || REC. || '</>');",null,"DECODE(C_T., 0, NULL, C_T.) AS ,"]
["HTP.P('<>' || REC. || '</>');",null,"DECODE(C_T., 0, NULL, C_T.) AS ,"]
["HTP.P('<>' || REC. || '</>');",null,"DECODE(C_T., 0, NULL, C_T.) AS ,"]
["HTP.P('<>' || REC. || '</>');",null,"DECODE(C_T., 0, NULL, C_T.) AS ,"]
["HTP.P('<>' || REC. || '</>');",null,"DECODE(C_T., 0, NULL, C_T.) AS ,"]
["HTP.P('<>' || REC. || '</>');",null,"DECODE(C_T., 0, NULL, C_T.) AS ,"]
["HTP.P('<>' || REC. || '</>');",null,"DECODE(C_T., 0, NULL, C_T.) AS ,"]
["HTP.P('<>' || REC. || '</>');",null,"DECODE(C_T., 0, NULL, C_T.) AS ,"]
[]
[]
[]
[]
[]
[]
[{"$f":"\"HTP.P('<\" & I509 & \">' || \" & IF(MID(I509,1,6)=\"L_STUB\",\"NULL\",\"REC.\" & I509) & \" || '</\" & I509 & \">');\"","v":"HTP.P('<>' || REC. || '</>');"},null,{"$f":"\"DECODE(C_T.\" & I509 & \", 0, NULL, C_T.\" & I509 & \") AS \" & I509 & \",\"","v":"DECODE(C_T., 0, NULL, C_T.) AS ,"}]
[{"$f":"\"HTP.P('<\" & I510 & \">' || \" & IF(MID(I510,1,6)=\"L_STUB\",\"NULL\",\"REC.\" & I510) & \" || '</\" & I510 & \">');\"","v":"HTP.P('<>' || REC. || '</>');"},null,{"$f":"\"DECODE(C_T.\" & I510 & \", 0, NULL, C_T.\" & I510 & \") AS \" & I510 & \",\"","v":"DECODE(C_T., 0, NULL, C_T.) AS ,"}]
["HTP.P('<>' || REC. || '</>');",null,"DECODE(C_T., 0, NULL, C_T.) AS ,"]
["HTP.P('<>' || REC. || '</>');",null,"DECODE(C_T., 0, NULL, C_T.) AS ,"]
["HTP.P('<>' || REC. || '</>');",null,"DECODE(C_T., 0, NULL, C_T.) AS ,"]
["HTP.P('<>' || REC. || '</>');",null,"DECODE(C_T., 0, NULL, C_T.) AS ,"]
["HTP.P('<>' || REC. || '</>');",null,"DECODE(C_T., 0, NULL, C_T.) AS ,"]
["HTP.P('<>' || REC. || '</>');",null,"DECODE(C_T., 0, NULL, C_T.) AS ,"]
["HTP.P('<>' || REC. || '</>');",null,"DECODE(C_T., 0, NULL, C_T.) AS ,"]
["HTP.P('<>' || REC. || '</>');",null,"DECODE(C_T., 0, NULL, C_T.) AS ,"]
["HTP.P('<>' || REC. || '</>');",null,"DECODE(C_T., 0, NULL, C_T.) AS ,"]
["HTP.P('<>' || REC. || '</>');",null,"DECODE(C_T., 0, NULL, C_T.) AS ,"]
["HTP.P('<>' || REC. || '</>');",null,"DECODE(C_T., 0, NULL, C_T.) AS ,"]
["HTP.P('<>' || REC. || '</>');",null,"DECODE(C_T., 0, NULL, C_T.) AS ,"]
["HTP.P('<>' || REC. || '</>');",null,"DECODE(C_T., 0, NULL, C_T.) AS ,"]
["HTP.P('<>' || REC. || '</>');",null,"DECODE(C_T., 0, NULL, C_T.) AS ,"]
["HTP.P('<>' || REC. || '</>');",null,"DECODE(C_T., 0, NULL, C_T.) AS ,"]
["HTP.P('<>' || REC. || '</>');",null,"DECODE(C_T., 0, NULL, C_T.) AS ,"]
["HTP.P('<>' || REC. || '</>');",null,"DECODE(C_T., 0, NULL, C_T.) AS ,"]
["HTP.P('<>' || REC. || '</>');",null,"DECODE(C_T., 0, NULL, C_T.) AS ,"]
["HTP.P('<>' || REC. || '</>');",null,"DECODE(C_T., 0, NULL, C_T.) AS ,"]
["HTP.P('<>' || REC. || '</>');",null,"DECODE(C_T., 0, NULL, C_T.) AS ,"]
["HTP.P('<>' || REC. || '</>');",null,"DECODE(C_T., 0, NULL, C_T.) AS ,"]
["HTP.P('<>' || REC. || '</>');",null,"DECODE(C_T., 0, NULL, C_T.) AS ,"]
["HTP.P('<>' || REC. || '</>');",null,"DECODE(C_T., 0, NULL, C_T.) AS ,"]
["HTP.P('<>' || REC. || '</>');",null,"DECODE(C_T., 0, NULL, C_T.) AS ,"]
["HTP.P('<>' || REC. || '</>');",null,"DECODE(C_T., 0, NULL, C_T.) AS ,"]
["HTP.P('<>' || REC. || '</>');",null,"DECODE(C_T., 0, NULL, C_T.) AS ,"]
["HTP.P('<>' || REC. || '</>');",null,"DECODE(C_T., 0, NULL, C_T.) AS ,"]
["HTP.P('<>' || REC. || '</>');",null,"DECODE(C_T., 0, NULL, C_T.) AS ,"]
["HTP.P('<>' || REC. || '</>');",null,"DECODE(C_T., 0, NULL, C_T.) AS ,"]
["HTP.P('<>' || REC. || '</>');",null,"DECODE(C_T., 0, NULL, C_T.) AS ,"]
["HTP.P('<>' || REC. || '</>');",null,"DECODE(C_T., 0, NULL, C_T.) AS ,"]
["HTP.P('<>' || REC. || '</>');",null,"DECODE(C_T., 0, NULL, C_T.) AS ,"]
["HTP.P('<>' || REC. || '</>');",null,"DECODE(C_T., 0, NULL, C_T.) AS ,"]
["HTP.P('<>' || REC. || '</>');",null,"DECODE(C_T., 0, NULL, C_T.) AS ,"]
["HTP.P('<>' || REC. || '</>');",null,"DECODE(C_T., 0, NULL, C_T.) AS ,"]
["HTP.P('<>' || REC. || '</>');",null,"DECODE(C_T., 0, NULL, C_T.) AS ,"]
["HTP.P('<>' || REC. || '</>');",null,"DECODE(C_T., 0, NULL, C_T.) AS ,"]
["HTP.P('<>' || REC. || '</>');",null,"DECODE(C_T., 0, NULL, C_T.) AS ,"]
["HTP.P('<>' || REC. || '</>');",null,"DECODE(C_T., 0, NULL, C_T.) AS ,"]
["HTP.P('<>' || REC. || '</>');",null,"DECODE(C_T., 0, NULL, C_T.) AS ,"]
["HTP.P('<>' || REC. || '</>');",null,"DECODE(C_T., 0, NULL, C_T.) AS ,"]
["HTP.P('<>' || REC. || '</>');",null,"DECODE(C_T., 0, NULL, C_T.) AS ,"]
["HTP.P('<>' || REC. || '</>');",null,"DECODE(C_T., 0, NULL, C_T.) AS ,"]
["HTP.P('<>' || REC. || '</>');",null,"DECODE(C_T., 0, NULL, C_T.) AS ,"]
["HTP.P('<>' || REC. || '</>');",null,"DECODE(C_T., 0, NULL, C_T.) AS ,"]
["HTP.P('<>' || REC. || '</>');",null,"DECODE(C_T., 0, NULL, C_T.) AS ,"]
["HTP.P('<>' || REC. || '</>');",null,"DECODE(C_T., 0, NULL, C_T.) AS ,"]
["HTP.P('<>' || REC. || '</>');",null,"DECODE(C_T., 0, NULL, C_T.) AS ,"]
["HTP.P('<>' || REC. || '</>');",null,"DECODE(C_T., 0, NULL, C_T.) AS ,"]
["HTP.P('<>' || REC. || '</>');",null,"DECODE(C_T., 0, NULL, C_T.) AS ,"]
["HTP.P('<>' || REC. || '</>');",null,"DECODE(C_T., 0, NULL, C_T.) AS ,"]
["HTP.P('<>' || REC. || '</>');",null,"DECODE(C_T., 0, NULL, C_T.) AS ,"]
["HTP.P('<>' || REC. || '</>');",null,"DECODE(C_T., 0, NULL, C_T.) AS ,"]
["HTP.P('<>' || REC. || '</>');",null,"DECODE(C_T., 0, NULL, C_T.) AS ,"]
["HTP.P('<>' || REC. || '</>');",null,"DECODE(C_T., 0, NULL, C_T.) AS ,"]
["HTP.P('<>' || REC. || '</>');",null,"DECODE(C_T., 0, NULL, C_T.) AS ,"]
["HTP.P('<>' || REC. || '</>');",null,"DECODE(C_T., 0, NULL, C_T.) AS ,"]
["HTP.P('<>' || REC. || '</>');",null,"DECODE(C_T., 0, NULL, C_T.) AS ,"]
["HTP.P('<>' || REC. || '</>');",null,"DECODE(C_T., 0, NULL, C_T.) AS ,"]
["HTP.P('<>' || REC. || '</>');",null,"DECODE(C_T., 0, NULL, C_T.) AS ,"]
["HTP.P('<>' || REC. || '</>');",null,"DECODE(C_T., 0, NULL, C_T.) AS ,"]
["HTP.P('<>' || REC. || '</>');",null,"DECODE(C_T., 0, NULL, C_T.) AS ,"]
["HTP.P('<>' || REC. || '</>');",null,"DECODE(C_T., 0, NULL, C_T.) AS ,"]
[{"$f":"\"HTP.P('<\" & I574 & \">' || \" & IF(MID(I574,1,6)=\"L_STUB\",\"NULL\",\"REC.\" & I574) & \" || '</\" & I574 & \">');\"","v":"HTP.P('<>' || REC. || '</>');"},null,{"$f":"\"DECODE(C_T.\" & I574 & \", 0, NULL, C_T.\" & I574 & \") AS \" & I574 & \",\"","v":"DECODE(C_T., 0, NULL, C_T.) AS ,"}]
["HTP.P('<>' || REC. || '</>');",null,"DECODE(C_T., 0, NULL, C_T.) AS ,"]
["HTP.P('<>' || REC. || '</>');",null,"DECODE(C_T., 0, NULL, C_T.) AS ,"]
["HTP.P('<>' || REC. || '</>');",null,"DECODE(C_T., 0, NULL, C_T.) AS ,"]
["HTP.P('<>' || REC. || '</>');",null,"DECODE(C_T., 0, NULL, C_T.) AS ,"]
["HTP.P('<>' || REC. || '</>');",null,"DECODE(C_T., 0, NULL, C_T.) AS ,"]
["HTP.P('<>' || REC. || '</>');",null,"DECODE(C_T., 0, NULL, C_T.) AS ,"]
["HTP.P('<>' || REC. || '</>');",null,"DECODE(C_T., 0, NULL, C_T.) AS ,"]
["HTP.P('<>' || REC. || '</>');",null,"DECODE(C_T., 0, NULL, C_T.) AS ,"]
["HTP.P('<>' || REC. || '</>');",null,"DECODE(C_T., 0, NULL, C_T.) AS ,"]
["HTP.P('<>' || REC. || '</>');",null,"DECODE(C_T., 0, NULL, C_T.) AS ,"]
["HTP.P('<>' || REC. || '</>');",null,"DECODE(C_T., 0, NULL, C_T.) AS ,"]
["HTP.P('<>' || REC. || '</>');",null,"DECODE(C_T., 0, NULL, C_T.) AS ,"]
["HTP.P('<>' || REC. || '</>');",null,"DECODE(C_T., 0, NULL, C_T.) AS ,"]
["HTP.P('<>' || REC. || '</>');",null,"DECODE(C_T., 0, NULL, C_T.) AS ,"]
["HTP.P('<>' || REC. || '</>');",null,"DECODE(C_T., 0, NULL, C_T.) AS ,"]
["HTP.P('<>' || REC. || '</>');",null,"DECODE(C_T., 0, NULL, C_T.) AS ,"]
["HTP.P('<>' || REC. || '</>');",null,"DECODE(C_T., 0, NULL, C_T.) AS ,"]
["HTP.P('<>' || REC. || '</>');",null,"DECODE(C_T., 0, NULL, C_T.) AS ,"]
["HTP.P('<>' || REC. || '</>');",null,"DECODE(C_T., 0, NULL, C_T.) AS ,"]
["HTP.P('<>' || REC. || '</>');",null,"DECODE(C_T., 0, NULL, C_T.) AS ,"]
["HTP.P('<>' || REC. || '</>');",null,"DECODE(C_T., 0, NULL, C_T.) AS ,"]
["HTP.P('<>' || REC. || '</>');",null,"DECODE(C_T., 0, NULL, C_T.) AS ,"]
["HTP.P('<>' || REC. || '</>');",null,"DECODE(C_T., 0, NULL, C_T.) AS ,"]
["HTP.P('<>' || REC. || '</>');",null,"DECODE(C_T., 0, NULL, C_T.) AS ,"]
["HTP.P('<>' || REC. || '</>');",null,"DECODE(C_T., 0, NULL, C_T.) AS ,"]
["HTP.P('<>' || REC. || '</>');",null,"DECODE(C_T., 0, NULL, C_T.) AS ,"]
["HTP.P('<>' || REC. || '</>');",null,"DECODE(C_T., 0, NULL, C_T.) AS ,"]
["HTP.P('<>' || REC. || '</>');",null,"DECODE(C_T., 0, NULL, C_T.) AS ,"]
["HTP.P('<>' || REC. || '</>');",null,"DECODE(C_T., 0, NULL, C_T.) AS ,"]
["HTP.P('<>' || REC. || '</>');",null,"DECODE(C_T., 0, NULL, C_T.) AS ,"]
["HTP.P('<>' || REC. || '</>');",null,"DECODE(C_T., 0, NULL, C_T.) AS ,"]
["HTP.P('<>' || REC. || '</>');",null,"DECODE(C_T., 0, NULL, C_T.) AS ,"]
["HTP.P('<>' || REC. || '</>');",null,"DECODE(C_T., 0, NULL, C_T.) AS ,"]
["HTP.P('<>' || REC. || '</>');",null,"DECODE(C_T., 0, NULL, C_T.) AS ,"]
["HTP.P('<>' || REC. || '</>');",null,"DECODE(C_T., 0, NULL, C_T.) AS ,"]
["HTP.P('<>' || REC. || '</>');",null,"DECODE(C_T., 0, NULL, C_T.) AS ,"]
["HTP.P('<>' || REC. || '</>');",null,"DECODE(C_T., 0, NULL, C_T.) AS ,"]
["HTP.P('<>' || REC. || '</>');",null,"DECODE(C_T., 0, NULL, C_T.) AS ,"]
["HTP.P('<>' || REC. || '</>');",null,"DECODE(C_T., 0, NULL, C_T.) AS ,"]
["HTP.P('<>' || REC. || '</>');",null,"DECODE(C_T., 0, NULL, C_T.) AS ,"]
["HTP.P('<>' || REC. || '</>');",null,"DECODE(C_T., 0, NULL, C_T.) AS ,"]
["HTP.P('<>' || REC. || '</>');",null,"DECODE(C_T., 0, NULL, C_T.) AS ,"]
["HTP.P('<>' || REC. || '</>');",null,"DECODE(C_T., 0, NULL, C_T.) AS ,"]
["HTP.P('<>' || REC. || '</>');",null,"DECODE(C_T., 0, NULL, C_T.) AS ,"]
["HTP.P('<>' || REC. || '</>');",null,"DECODE(C_T., 0, NULL, C_T.) AS ,"]
[]
[]
[]
[]
[]
[]
[{"$f":"\"HTP.P('<\" & I626 & \">' || \" & IF(MID(I626,1,6)=\"L_STUB\",\"NULL\",\"REC.\" & I626) & \" || '</\" & I626 & \">');\"","v":"HTP.P('<>' || REC. || '</>');"},null,{"$f":"\"DECODE(C_T.\" & I626 & \", 0, NULL, C_T.\" & I626 & \") AS \" & I626 & \",\"","v":"DECODE(C_T., 0, NULL, C_T.) AS ,"}]
[{"$f":"\"HTP.P('<\" & I627 & \">' || \" & IF(MID(I627,1,6)=\"L_STUB\",\"NULL\",\"REC.\" & I627) & \" || '</\" & I627 & \">');\"","v":"HTP.P('<>' || REC. || '</>');"},null,{"$f":"\"DECODE(C_T.\" & I627 & \", 0, NULL, C_T.\" & I627 & \") AS \" & I627 & \",\"","v":"DECODE(C_T., 0, NULL, C_T.) AS ,"}]
["HTP.P('<>' || REC. || '</>');",null,"DECODE(C_T., 0, NULL, C_T.) AS ,"]
["HTP.P('<>' || REC. || '</>');",null,"DECODE(C_T., 0, NULL, C_T.) AS ,"]
["HTP.P('<>' || REC. || '</>');",null,"DECODE(C_T., 0, NULL, C_T.) AS ,"]
["HTP.P('<>' || REC. || '</>');",null,"DECODE(C_T., 0, NULL, C_T.) AS ,"]
["HTP.P('<>' || REC. || '</>');",null,"DECODE(C_T., 0, NULL, C_T.) AS ,"]
["HTP.P('<>' || REC. || '</>');",null,"DECODE(C_T., 0, NULL, C_T.) AS ,"]
["HTP.P('<>' || REC. || '</>');",null,"DECODE(C_T., 0, NULL, C_T.) AS ,"]
["HTP.P('<>' || REC. || '</>');",null,"DECODE(C_T., 0, NULL, C_T.) AS ,"]
["HTP.P('<>' || REC. || '</>');",null,"DECODE(C_T., 0, NULL, C_T.) AS ,"]
["HTP.P('<>' || REC. || '</>');",null,"DECODE(C_T., 0, NULL, C_T.) AS ,"]
["HTP.P('<>' || REC. || '</>');",null,"DECODE(C_T., 0, NULL, C_T.) AS ,"]
["HTP.P('<>' || REC. || '</>');",null,"DECODE(C_T., 0, NULL, C_T.) AS ,"]
["HTP.P('<>' || REC. || '</>');",null,"DECODE(C_T., 0, NULL, C_T.) AS ,"]
["HTP.P('<>' || REC. || '</>');",null,"DECODE(C_T., 0, NULL, C_T.) AS ,"]
["HTP.P('<>' || REC. || '</>');",null,"DECODE(C_T., 0, NULL, C_T.) AS ,"]
["HTP.P('<>' || REC. || '</>');",null,"DECODE(C_T., 0, NULL, C_T.) AS ,"]
["HTP.P('<>' || REC. || '</>');",null,"DECODE(C_T., 0, NULL, C_T.) AS ,"]
["HTP.P('<>' || REC. || '</>');",null,"DECODE(C_T., 0, NULL, C_T.) AS ,"]
["HTP.P('<>' || REC. || '</>');",null,"DECODE(C_T., 0, NULL, C_T.) AS ,"]
["HTP.P('<>' || REC. || '</>');",null,"DECODE(C_T., 0, NULL, C_T.) AS ,"]
["HTP.P('<>' || REC. || '</>');",null,"DECODE(C_T., 0, NULL, C_T.) AS ,"]
["HTP.P('<>' || REC. || '</>');",null,"DECODE(C_T., 0, NULL, C_T.) AS ,"]
["HTP.P('<>' || REC. || '</>');",null,"DECODE(C_T., 0, NULL, C_T.) AS ,"]
["HTP.P('<>' || REC. || '</>');",null,"DECODE(C_T., 0, NULL, C_T.) AS ,"]
["HTP.P('<>' || REC. || '</>');",null,"DECODE(C_T., 0, NULL, C_T.) AS ,"]
["HTP.P('<>' || REC. || '</>');",null,"DECODE(C_T., 0, NULL, C_T.) AS ,"]
["HTP.P('<>' || REC. || '</>');",null,"DECODE(C_T., 0, NULL, C_T.) AS ,"]
["HTP.P('<>' || REC. || '</>');",null,"DECODE(C_T., 0, NULL, C_T.) AS ,"]
["HTP.P('<>' || REC. || '</>');",null,"DECODE(C_T., 0, NULL, C_T.) AS ,"]
["HTP.P('<>' || REC. || '</>');",null,"DECODE(C_T., 0, NULL, C_T.) AS ,"]
["HTP.P('<>' || REC. || '</>');",null,"DECODE(C_T., 0, NULL, C_T.) AS ,"]
["HTP.P('<>' || REC. || '</>');",null,"DECODE(C_T., 0, NULL, C_T.) AS ,"]
["HTP.P('<>' || REC. || '</>');",null,"DECODE(C_T., 0, NULL, C_T.) AS ,"]
["HTP.P('<>' || REC. || '</>');",null,"DECODE(C_T., 0, NULL, C_T.) AS ,"]
["HTP.P('<>' || REC. || '</>');",null,"DECODE(C_T., 0, NULL, C_T.) AS ,"]
["HTP.P('<>' || REC. || '</>');",null,"DECODE(C_T., 0, NULL, C_T.) AS ,"]
["HTP.P('<>' || REC. || '</>');",null,"DECODE(C_T., 0, NULL, C_T.) AS ,"]
["HTP.P('<>' || REC. || '</>');",null,"DECODE(C_T., 0, NULL, C_T.) AS ,"]
["HTP.P('<>' || REC. || '</>');",null,"DECODE(C_T., 0, NULL, C_T.) AS ,"]
["HTP.P('<>' || REC. || '</>');",null,"DECODE(C_T., 0, NULL, C_T.) AS ,"]
["HTP.P('<>' || REC. || '</>');",null,"DECODE(C_T., 0, NULL, C_T.) AS ,"]
["HTP.P('<>' || REC. || '</>');",null,"DECODE(C_T., 0, NULL, C_T.) AS ,"]
["HTP.P('<>' || REC. || '</>');",null,"DECODE(C_T., 0, NULL, C_T.) AS ,"]
["HTP.P('<>' || REC. || '</>');",null,"DECODE(C_T., 0, NULL, C_T.) AS ,"]
["HTP.P('<>' || REC. || '</>');",null,"DECODE(C_T., 0, NULL, C_T.) AS ,"]
["HTP.P('<>' || REC. || '</>');",null,"DECODE(C_T., 0, NULL, C_T.) AS ,"]
["HTP.P('<>' || REC. || '</>');",null,"DECODE(C_T., 0, NULL, C_T.) AS ,"]
["HTP.P('<>' || REC. || '</>');",null,"DECODE(C_T., 0, NULL, C_T.) AS ,"]
["HTP.P('<>' || REC. || '</>');",null,"DECODE(C_T., 0, NULL, C_T.) AS ,"]
["HTP.P('<>' || REC. || '</>');",null,"DECODE(C_T., 0, NULL, C_T.) AS ,"]
["HTP.P('<>' || REC. || '</>');",null,"DECODE(C_T., 0, NULL, C_T.) AS ,"]
["HTP.P('<>' || REC. || '</>');",null,"DECODE(C_T., 0, NULL, C_T.) AS ,"]
["HTP.P('<>' || REC. || '</>');",null,"DECODE(C_T., 0, NULL, C_T.) AS ,"]
["HTP.P('<>' || REC. || '</>');",null,"DECODE(C_T., 0, NULL, C_T.) AS ,"]
["HTP.P('<>' || REC. || '</>');",null,"DECODE(C_T., 0, NULL, C_T.) AS ,"]
["HTP.P('<>' || REC. || '</>');",null,"DECODE(C_T., 0, NULL, C_T.) AS ,"]
["HTP.P('<>' || REC. || '</>');",null,"DECODE(C_T., 0, NULL, C_T.) AS ,"]
["HTP.P('<>' || REC. || '</>');",null,"DECODE(C_T., 0, NULL, C_T.) AS ,"]
["HTP.P('<>' || REC. || '</>');",null,"DECODE(C_T., 0, NULL, C_T.) AS ,"]
["HTP.P('<>' || REC. || '</>');",null,"DECODE(C_T., 0, NULL, C_T.) AS ,"]
["HTP.P('<>' || REC. || '</>');",null,"DECODE(C_T., 0, NULL, C_T.) AS ,"]
["HTP.P('<>' || REC. || '</>');",null,"DECODE(C_T., 0, NULL, C_T.) AS ,"]
["HTP.P('<>' || REC. || '</>');",null,"DECODE(C_T., 0, NULL, C_T.) AS ,"]
[{"$f":"\"HTP.P('<\" & I691 & \">' || \" & IF(MID(I691,1,6)=\"L_STUB\",\"NULL\",\"REC.\" & I691) & \" || '</\" & I691 & \">');\"","v":"HTP.P('<>' || REC. || '</>');"},null,{"$f":"\"DECODE(C_T.\" & I691 & \", 0, NULL, C_T.\" & I691 & \") AS \" & I691 & \",\"","v":"DECODE(C_T., 0, NULL, C_T.) AS ,"}]
[{"$f":"\"HTP.P('<\" & I692 & \">' || \" & IF(MID(I692,1,6)=\"L_STUB\",\"NULL\",\"REC.\" & I692) & \" || '</\" & I692 & \">');\"","v":"HTP.P('<>' || REC. || '</>');"},null,{"$f":"\"DECODE(C_T.\" & I692 & \", 0, NULL, C_T.\" & I692 & \") AS \" & I692 & \",\"","v":"DECODE(C_T., 0, NULL, C_T.) AS ,"}]
[{"$f":"\"HTP.P('<\" & I693 & \">' || \" & IF(MID(I693,1,6)=\"L_STUB\",\"NULL\",\"REC.\" & I693) & \" || '</\" & I693 & \">');\"","v":"HTP.P('<>' || REC. || '</>');"},null,{"$f":"\"DECODE(C_T.\" & I693 & \", 0, NULL, C_T.\" & I693 & \") AS \" & I693 & \",\"","v":"DECODE(C_T., 0, NULL, C_T.) AS ,"}]
[{"$f":"\"HTP.P('<\" & I694 & \">' || \" & IF(MID(I694,1,6)=\"L_STUB\",\"NULL\",\"REC.\" & I694) & \" || '</\" & I694 & \">');\"","v":"HTP.P('<>' || REC. || '</>');"},null,{"$f":"\"DECODE(C_T.\" & I694 & \", 0, NULL, C_T.\" & I694 & \") AS \" & I694 & \",\"","v":"DECODE(C_T., 0, NULL, C_T.) AS ,"}]
[{"$f":"\"HTP.P('<\" & I695 & \">' || \" & IF(MID(I695,1,6)=\"L_STUB\",\"NULL\",\"REC.\" & I695) & \" || '</\" & I695 & \">');\"","v":"HTP.P('<>' || REC. || '</>');"},null,{"$f":"\"DECODE(C_T.\" & I695 & \", 0, NULL, C_T.\" & I695 & \") AS \" & I695 & \",\"","v":"DECODE(C_T., 0, NULL, C_T.) AS ,"}]
[]
[]
[]
[]
[]
[]
[{"$f":"\"HTP.P('<\" & I702 & \">' || \" & IF(MID(I702,1,6)=\"L_STUB\",\"NULL\",\"REC.\" & I702) & \" || '</\" & I702 & \">');\"","v":"HTP.P('<>' || REC. || '</>');"},null,{"$f":"\"DECODE(C_T.\" & I702 & \", 0, NULL, C_T.\" & I702 & \") AS \" & I702 & \",\"","v":"DECODE(C_T., 0, NULL, C_T.) AS ,"}]
[{"$f":"\"HTP.P('<\" & I703 & \">' || \" & IF(MID(I703,1,6)=\"L_STUB\",\"NULL\",\"REC.\" & I703) & \" || '</\" & I703 & \">');\"","v":"HTP.P('<>' || REC. || '</>');"},null,{"$f":"\"DECODE(C_T.\" & I703 & \", 0, NULL, C_T.\" & I703 & \") AS \" & I703 & \",\"","v":"DECODE(C_T., 0, NULL, C_T.) AS ,"}]
["HTP.P('<>' || REC. || '</>');",null,"DECODE(C_T., 0, NULL, C_T.) AS ,"]
["HTP.P('<>' || REC. || '</>');",null,"DECODE(C_T., 0, NULL, C_T.) AS ,"]
["HTP.P('<>' || REC. || '</>');",null,"DECODE(C_T., 0, NULL, C_T.) AS ,"]
["HTP.P('<>' || REC. || '</>');",null,"DECODE(C_T., 0, NULL, C_T.) AS ,"]
["HTP.P('<>' || REC. || '</>');",null,"DECODE(C_T., 0, NULL, C_T.) AS ,"]
["HTP.P('<>' || REC. || '</>');",null,"DECODE(C_T., 0, NULL, C_T.) AS ,"]
["HTP.P('<>' || REC. || '</>');",null,"DECODE(C_T., 0, NULL, C_T.) AS ,"]
["HTP.P('<>' || REC. || '</>');",null,"DECODE(C_T., 0, NULL, C_T.) AS ,"]
["HTP.P('<>' || REC. || '</>');",null,"DECODE(C_T., 0, NULL, C_T.) AS ,"]
["HTP.P('<>' || REC. || '</>');",null,"DECODE(C_T., 0, NULL, C_T.) AS ,"]
["HTP.P('<>' || REC. || '</>');",null,"DECODE(C_T., 0, NULL, C_T.) AS ,"]
["HTP.P('<>' || REC. || '</>');",null,"DECODE(C_T., 0, NULL, C_T.) AS ,"]
["HTP.P('<>' || REC. || '</>');",null,"DECODE(C_T., 0, NULL, C_T.) AS ,"]
["HTP.P('<>' || REC. || '</>');",null,"DECODE(C_T., 0, NULL, C_T.) AS ,"]
["HTP.P('<>' || REC. || '</>');",null,"DECODE(C_T., 0, NULL, C_T.) AS ,"]
["HTP.P('<>' || REC. || '</>');",null,"DECODE(C_T., 0, NULL, C_T.) AS ,"]
["HTP.P('<>' || REC. || '</>');",null,"DECODE(C_T., 0, NULL, C_T.) AS ,"]
["HTP.P('<>' || REC. || '</>');",null,"DECODE(C_T., 0, NULL, C_T.) AS ,"]
["HTP.P('<>' || REC. || '</>');",null,"DECODE(C_T., 0, NULL, C_T.) AS ,"]
["HTP.P('<>' || REC. || '</>');",null,"DECODE(C_T., 0, NULL, C_T.) AS ,"]
["HTP.P('<>' || REC. || '</>');",null,"DECODE(C_T., 0, NULL, C_T.) AS ,"]
["HTP.P('<>' || REC. || '</>');",null,"DECODE(C_T., 0, NULL, C_T.) AS ,"]
["HTP.P('<>' || REC. || '</>');",null,"DECODE(C_T., 0, NULL, C_T.) AS ,"]
["HTP.P('<>' || REC. || '</>');",null,"DECODE(C_T., 0, NULL, C_T.) AS ,"]
["HTP.P('<>' || REC. || '</>');",null,"DECODE(C_T., 0, NULL, C_T.) AS ,"]
["HTP.P('<>' || REC. || '</>');",null,"DECODE(C_T., 0, NULL, C_T.) AS ,"]
["HTP.P('<>' || REC. || '</>');",null,"DECODE(C_T., 0, NULL, C_T.) AS ,"]
["HTP.P('<>' || REC. || '</>');",null,"DECODE(C_T., 0, NULL, C_T.) AS ,"]
["HTP.P('<>' || REC. || '</>');",null,"DECODE(C_T., 0, NULL, C_T.) AS ,"]
["HTP.P('<>' || REC. || '</>');",null,"DECODE(C_T., 0, NULL, C_T.) AS ,"]
["HTP.P('<>' || REC. || '</>');",null,"DECODE(C_T., 0, NULL, C_T.) AS ,"]
["HTP.P('<>' || REC. || '</>');",null,"DECODE(C_T., 0, NULL, C_T.) AS ,"]
["HTP.P('<>' || REC. || '</>');",null,"DECODE(C_T., 0, NULL, C_T.) AS ,"]
["HTP.P('<>' || REC. || '</>');",null,"DECODE(C_T., 0, NULL, C_T.) AS ,"]
[]
[]
[]
[]
[]
[]
[{"$f":"\"HTP.P('<\" & I744 & \">' || \" & IF(MID(I744,1,6)=\"L_STUB\",\"NULL\",\"REC.\" & I744) & \" || '</\" & I744 & \">');\"","v":"HTP.P('<>' || REC. || '</>');"},null,{"$f":"\"DECODE(C_T.\" & I744 & \", 0, NULL, C_T.\" & I744 & \") AS \" & I744 & \",\"","v":"DECODE(C_T., 0, NULL, C_T.) AS ,"}]
[{"$f":"\"HTP.P('<\" & I745 & \">' || \" & IF(MID(I745,1,6)=\"L_STUB\",\"NULL\",\"REC.\" & I745) & \" || '</\" & I745 & \">');\"","v":"HTP.P('<>' || REC. || '</>');"},null,{"$f":"\"DECODE(C_T.\" & I745 & \", 0, NULL, C_T.\" & I745 & \") AS \" & I745 & \",\"","v":"DECODE(C_T., 0, NULL, C_T.) AS ,"}]
["HTP.P('<>' || REC. || '</>');",null,"DECODE(C_T., 0, NULL, C_T.) AS ,"]
["HTP.P('<>' || REC. || '</>');",null,"DECODE(C_T., 0, NULL, C_T.) AS ,"]
["HTP.P('<>' || REC. || '</>');",null,"DECODE(C_T., 0, NULL, C_T.) AS ,"]
["HTP.P('<>' || REC. || '</>');",null,"DECODE(C_T., 0, NULL, C_T.) AS ,"]
["HTP.P('<>' || REC. || '</>');",null,"DECODE(C_T., 0, NULL, C_T.) AS ,"]
["HTP.P('<>' || REC. || '</>');",null,"DECODE(C_T., 0, NULL, C_T.) AS ,"]
["HTP.P('<>' || REC. || '</>');",null,"DECODE(C_T., 0, NULL, C_T.) AS ,"]
["HTP.P('<>' || REC. || '</>');",null,"DECODE(C_T., 0, NULL, C_T.) AS ,"]
["HTP.P('<>' || REC. || '</>');",null,"DECODE(C_T., 0, NULL, C_T.) AS ,"]
["HTP.P('<>' || REC. || '</>');",null,"DECODE(C_T., 0, NULL, C_T.) AS ,"]
["HTP.P('<>' || REC. || '</>');",null,"DECODE(C_T., 0, NULL, C_T.) AS ,"]
["HTP.P('<>' || REC. || '</>');",null,"DECODE(C_T., 0, NULL, C_T.) AS ,"]
["HTP.P('<>' || REC. || '</>');",null,"DECODE(C_T., 0, NULL, C_T.) AS ,"]
["HTP.P('<>' || REC. || '</>');",null,"DECODE(C_T., 0, NULL, C_T.) AS ,"]
["HTP.P('<>' || REC. || '</>');",null,"DECODE(C_T., 0, NULL, C_T.) AS ,"]
["HTP.P('<>' || REC. || '</>');",null,"DECODE(C_T., 0, NULL, C_T.) AS ,"]
["HTP.P('<>' || REC. || '</>');",null,"DECODE(C_T., 0, NULL, C_T.) AS ,"]
["HTP.P('<>' || REC. || '</>');",null,"DECODE(C_T., 0, NULL, C_T.) AS ,"]
["HTP.P('<>' || REC. || '</>');",null,"DECODE(C_T., 0, NULL, C_T.) AS ,"]
["HTP.P('<>' || REC. || '</>');",null,"DECODE(C_T., 0, NULL, C_T.) AS ,"]
["HTP.P('<>' || REC. || '</>');",null,"DECODE(C_T., 0, NULL, C_T.) AS ,"]
["HTP.P('<>' || REC. || '</>');",null,"DECODE(C_T., 0, NULL, C_T.) AS ,"]
["HTP.P('<>' || REC. || '</>');",null,"DECODE(C_T., 0, NULL, C_T.) AS ,"]
["HTP.P('<>' || REC. || '</>');",null,"DECODE(C_T., 0, NULL, C_T.) AS ,"]
["HTP.P('<>' || REC. || '</>');",null,"DECODE(C_T., 0, NULL, C_T.) AS ,"]
["HTP.P('<>' || REC. || '</>');",null,"DECODE(C_T., 0, NULL, C_T.) AS ,"]
["HTP.P('<>' || REC. || '</>');",null,"DECODE(C_T., 0, NULL, C_T.) AS ,"]
["HTP.P('<>' || REC. || '</>');",null,"DECODE(C_T., 0, NULL, C_T.) AS ,"]
["HTP.P('<>' || REC. || '</>');",null,"DECODE(C_T., 0, NULL, C_T.) AS ,"]
["HTP.P('<>' || REC. || '</>');",null,"DECODE(C_T., 0, NULL, C_T.) AS ,"]
["HTP.P('<>' || REC. || '</>');",null,"DECODE(C_T., 0, NULL, C_T.) AS ,"]
["HTP.P('<>' || REC. || '</>');",null,"DECODE(C_T., 0, NULL, C_T.) AS ,"]
["HTP.P('<>' || REC. || '</>');",null,"DECODE(C_T., 0, NULL, C_T.) AS ,"]
["HTP.P('<>' || REC. || '</>');",null,"DECODE(C_T., 0, NULL, C_T.) AS ,"]
[]
[]
[]
[]
[]
[]
[{"$f":"\"HTP.P('<\" & I786 & \">' || \" & IF(MID(I786,1,6)=\"L_STUB\",\"NULL\",\"REC.\" & I786) & \" || '</\" & I786 & \">');\"","v":"HTP.P('<>' || REC. || '</>');"},null,{"$f":"\"DECODE(C_T.\" & I786 & \", 0, NULL, C_T.\" & I786 & \") AS \" & I786 & \",\"","v":"DECODE(C_T., 0, NULL, C_T.) AS ,"}]
[{"$f":"\"HTP.P('<\" & I787 & \">' || \" & IF(MID(I787,1,6)=\"L_STUB\",\"NULL\",\"REC.\" & I787) & \" || '</\" & I787 & \">');\"","v":"HTP.P('<>' || REC. || '</>');"},null,{"$f":"\"DECODE(C_T.\" & I787 & \", 0, NULL, C_T.\" & I787 & \") AS \" & I787 & \",\"","v":"DECODE(C_T., 0, NULL, C_T.) AS ,"}]
["HTP.P('<>' || REC. || '</>');",null,"DECODE(C_T., 0, NULL, C_T.) AS ,"]
["HTP.P('<>' || REC. || '</>');",null,"DECODE(C_T., 0, NULL, C_T.) AS ,"]
["HTP.P('<>' || REC. || '</>');",null,"DECODE(C_T., 0, NULL, C_T.) AS ,"]
["HTP.P('<>' || REC. || '</>');",null,"DECODE(C_T., 0, NULL, C_T.) AS ,"]
["HTP.P('<>' || REC. || '</>');",null,"DECODE(C_T., 0, NULL, C_T.) AS ,"]
["HTP.P('<>' || REC. || '</>');",null,"DECODE(C_T., 0, NULL, C_T.) AS ,"]
["HTP.P('<>' || REC. || '</>');",null,"DECODE(C_T., 0, NULL, C_T.) AS ,"]
["HTP.P('<>' || REC. || '</>');",null,"DECODE(C_T., 0, NULL, C_T.) AS ,"]
["HTP.P('<>' || REC. || '</>');",null,"DECODE(C_T., 0, NULL, C_T.) AS ,"]
["HTP.P('<>' || REC. || '</>');",null,"DECODE(C_T., 0, NULL, C_T.) AS ,"]
["HTP.P('<>' || REC. || '</>');",null,"DECODE(C_T., 0, NULL, C_T.) AS ,"]
["HTP.P('<>' || REC. || '</>');",null,"DECODE(C_T., 0, NULL, C_T.) AS ,"]
["HTP.P('<>' || REC. || '</>');",null,"DECODE(C_T., 0, NULL, C_T.) AS ,"]
["HTP.P('<>' || REC. || '</>');",null,"DECODE(C_T., 0, NULL, C_T.) AS ,"]
["HTP.P('<>' || REC. || '</>');",null,"DECODE(C_T., 0, NULL, C_T.) AS ,"]
["HTP.P('<>' || REC. || '</>');",null,"DECODE(C_T., 0, NULL, C_T.) AS ,"]
["HTP.P('<>' || REC. || '</>');",null,"DECODE(C_T., 0, NULL, C_T.) AS ,"]
["HTP.P('<>' || REC. || '</>');",null,"DECODE(C_T., 0, NULL, C_T.) AS ,"]
["HTP.P('<>' || REC. || '</>');",null,"DECODE(C_T., 0, NULL, C_T.) AS ,"]
["HTP.P('<>' || REC. || '</>');",null,"DECODE(C_T., 0, NULL, C_T.) AS ,"]
["HTP.P('<>' || REC. || '</>');",null,"DECODE(C_T., 0, NULL, C_T.) AS ,"]
["HTP.P('<>' || REC. || '</>');",null,"DECODE(C_T., 0, NULL, C_T.) AS ,"]
["HTP.P('<>' || REC. || '</>');",null,"DECODE(C_T., 0, NULL, C_T.) AS ,"]
["HTP.P('<>' || REC. || '</>');",null,"DECODE(C_T., 0, NULL, C_T.) AS ,"]
["HTP.P('<>' || REC. || '</>');",null,"DECODE(C_T., 0, NULL, C_T.) AS ,"]
["HTP.P('<>' || REC. || '</>');",null,"DECODE(C_T., 0, NULL, C_T.) AS ,"]
["HTP.P('<>' || REC. || '</>');",null,"DECODE(C_T., 0, NULL, C_T.) AS ,"]
["HTP.P('<>' || REC. || '</>');",null,"DECODE(C_T., 0, NULL, C_T.) AS ,"]
["HTP.P('<>' || REC. || '</>');",null,"DECODE(C_T., 0, NULL, C_T.) AS ,"]
["HTP.P('<>' || REC. || '</>');",null,"DECODE(C_T., 0, NULL, C_T.) AS ,"]
["HTP.P('<>' || REC. || '</>');",null,"DECODE(C_T., 0, NULL, C_T.) AS ,"]
["HTP.P('<>' || REC. || '</>');",null,"DECODE(C_T., 0, NULL, C_T.) AS ,"]
["HTP.P('<>' || REC. || '</>');",null,"DECODE(C_T., 0, NULL, C_T.) AS ,"]
["HTP.P('<>' || REC. || '</>');",null,"DECODE(C_T., 0, NULL, C_T.) AS ,"]
[]
[]
[]
[]
[]
[]
[{"$f":"\"HTP.P('<\" & I828 & \">' || \" & IF(MID(I828,1,6)=\"L_STUB\",\"NULL\",\"REC.\" & I828) & \" || '</\" & I828 & \">');\"","v":"HTP.P('<>' || REC. || '</>');"},null,{"$f":"\"DECODE(C_T.\" & I828 & \", 0, NULL, C_T.\" & I828 & \") AS \" & I828 & \",\"","v":"DECODE(C_T., 0, NULL, C_T.) AS ,"}]
[{"$f":"\"HTP.P('<\" & I829 & \">' || \" & IF(MID(I829,1,6)=\"L_STUB\",\"NULL\",\"REC.\" & I829) & \" || '</\" & I829 & \">');\"","v":"HTP.P('<>' || REC. || '</>');"},null,{"$f":"\"DECODE(C_T.\" & I829 & \", 0, NULL, C_T.\" & I829 & \") AS \" & I829 & \",\"","v":"DECODE(C_T., 0, NULL, C_T.) AS ,"}]
["HTP.P('<>' || REC. || '</>');",null,"DECODE(C_T., 0, NULL, C_T.) AS ,"]
["HTP.P('<>' || REC. || '</>');",null,"DECODE(C_T., 0, NULL, C_T.) AS ,"]
["HTP.P('<>' || REC. || '</>');",null,"DECODE(C_T., 0, NULL, C_T.) AS ,"]
["HTP.P('<>' || REC. || '</>');",null,"DECODE(C_T., 0, NULL, C_T.) AS ,"]
["HTP.P('<>' || REC. || '</>');",null,"DECODE(C_T., 0, NULL, C_T.) AS ,"]
["HTP.P('<>' || REC. || '</>');",null,"DECODE(C_T., 0, NULL, C_T.) AS ,"]
["HTP.P('<>' || REC. || '</>');",null,"DECODE(C_T., 0, NULL, C_T.) AS ,"]
["HTP.P('<>' || REC. || '</>');",null,"DECODE(C_T., 0, NULL, C_T.) AS ,"]
["HTP.P('<>' || REC. || '</>');",null,"DECODE(C_T., 0, NULL, C_T.) AS ,"]
["HTP.P('<>' || REC. || '</>');",null,"DECODE(C_T., 0, NULL, C_T.) AS ,"]
["HTP.P('<>' || REC. || '</>');",null,"DECODE(C_T., 0, NULL, C_T.) AS ,"]
["HTP.P('<>' || REC. || '</>');",null,"DECODE(C_T., 0, NULL, C_T.) AS ,"]
["HTP.P('<>' || REC. || '</>');",null,"DECODE(C_T., 0, NULL, C_T.) AS ,"]
["HTP.P('<>' || REC. || '</>');",null,"DECODE(C_T., 0, NULL, C_T.) AS ,"]
["HTP.P('<>' || REC. || '</>');",null,"DECODE(C_T., 0, NULL, C_T.) AS ,"]
["HTP.P('<>' || REC. || '</>');",null,"DECODE(C_T., 0, NULL, C_T.) AS ,"]
["HTP.P('<>' || REC. || '</>');",null,"DECODE(C_T., 0, NULL, C_T.) AS ,"]
["HTP.P('<>' || REC. || '</>');",null,"DECODE(C_T., 0, NULL, C_T.) AS ,"]
["HTP.P('<>' || REC. || '</>');",null,"DECODE(C_T., 0, NULL, C_T.) AS ,"]
["HTP.P('<>' || REC. || '</>');",null,"DECODE(C_T., 0, NULL, C_T.) AS ,"]
["HTP.P('<>' || REC. || '</>');",null,"DECODE(C_T., 0, NULL, C_T.) AS ,"]
["HTP.P('<>' || REC. || '</>');",null,"DECODE(C_T., 0, NULL, C_T.) AS ,"]
["HTP.P('<>' || REC. || '</>');",null,"DECODE(C_T., 0, NULL, C_T.) AS ,"]
["HTP.P('<>' || REC. || '</>');",null,"DECODE(C_T., 0, NULL, C_T.) AS ,"]

{"sheet":"TECH_HORISONTAL","index":14,"n_rows":169,"n_cols":193,"rows_kept":169,"cut":false,"hidden":true,"merged":[[103,6,103,9],[104,6,104,9],[105,6,105,9],[106,6,107,8],[121,8,122,8],[123,8,123,9],[124,8,125,8],[110,8,110,9],[108,6,110,7],[138,0,138,1],[144,0,144,1],[139,12,140,12],[139,5,140,5],[139,6,140,6],[139,7,140,7],[139,8,140,8],[139,10,140,10],[139,11,140,11],[7,16,8,16],[2,0,2,1],[7,10,8,10],[7,11,8,11],[7,12,8,12],[7,14,8,14],[7,13,8,13],[6,0,6,1],[7,5,8,5],[11,0,11,1],[7,9,8,9],[38,8,39,8],[7,6,8,6],[7,7,8,7],[7,8,8,8],[28,6,28,9],[29,6,29,9],[30,6,31,8],[32,8,33,8],[61,6,61,8],[62,6,62,8],[63,6,63,8],[19,1,54,1],[19,6,19,9],[21,6,22,8],[23,6,24,8],[52,7,52,9],[53,7,54,8],[32,6,34,7],[25,6,26,8],[27,6,27,9],[35,7,39,7],[35,6,49,6],[35,8,36,8],[37,8,37,9],[40,7,44,7],[40,8,41,8],[42,8,42,9],[58,6,58,8],[59,6,59,8],[60,6,60,8],[7,19,8,19],[95,1,130,1],[95,6,95,9],[97,6,98,8],[99,6,100,8],[101,6,102,8],[50,6,54,6],[50,7,51,8],[113,8,113,9],[114,8,115,8],[57,6,57,8],[118,8,118,9],[119,8,120,8],[111,7,115,7],[18,0,18,1],[43,8,44,8],[45,7,49,7],[45,8,46,8],[47,8,47,9],[111,8,112,8],[64,6,64,8],[65,6,65,8],[48,8,49,8],[34,8,34,9],[145,9,148,9],[145,13,148,13],[145,14,148,14],[145,15,148,15],[145,16,148,16],[145,17,148,17],[108,8,109,8],[111,6,125,6],[121,7,125,7],[126,6,130,6],[126,7,127,8],[128,7,128,9],[129,7,130,8],[116,7,120,7],[116,8,117,8],[165,25,168,25],[165,26,168,26],[145,25,148,25],[145,26,148,26],[145,18,148,18],[145,20,148,20],[145,21,148,21],[145,22,148,22],[145,23,148,23],[145,24,148,24],[155,20,155,26],[150,20,150,26],[161,20,161,26],[162,20,162,26],[163,20,163,26],[151,20,151,26],[152,20,152,26],[153,20,153,26],[156,20,156,26],[157,20,157,26],[158,20,158,26],[160,20,160,26]]}
[]
[]
["ADD_LIST_ORG_RANGE"]
[null,null,null,"Изменить","О",null,null,null,null,null,null,null,null,null,null,{"$f":"IF(LEN(BZ4)=0,\"ACTI\",\"DELD\")","v":"ACTI"},null,null,null,null,{"$f":"IF(LEN(T4)=0,\"\",VLOOKUP(T4,OKTMO_VS_TYPE_LIST,2,FALSE))","v":""}]
[]
[]
["LIST_SRC_ADD_RANGE"]
[null,null,null,"Изменить","О",null,null,null,null,null,null,null,null,null,null,null,{"$f":"ROW(P9)-ROW(P8)-1","v":0},{"$f":"F8 & \".0\"","v":".0"},null,null,null,null,null,null,null,null,null,"0"]
[null,null,null,null,null,null,null,null,null,null,null,null,null,null,null,null,null,null,null,null,null,null,null,null,null,null,null,null,"Добавить объект"]
[]
[]
["LIST_SRC_ADD_OBJECT_RANGE"]
[null,null,null,null,null,null,null,null,null,null,null,null,null,null,null,null,null,null,null,null,null,null,null,null,null,"Изменить","О"]
[]
[]
[]
[]
[]
["FUEL_DATA_ADD_RANGE"]
[null,null,null,"TBD",null,{"$f":"B20","v":0},"МО / Организация / Филиал / Кол-во объектов",null,null,null,null,null,{"$f":"SUM($P31:$GE31)+SUM($P51:$GE51)","v":0},null,null,null,null,null,null,"Включить в расчёт","Включить в расчёт","Включить в расчёт","Включить в расчёт","Включить в расчёт","Включить в расчёт","Включить в расчёт","Включить в расчёт","Включить в расчёт","Включить в расчёт","Включить в расчёт","Включить в расчёт","Включить в расчёт","Включить в расчёт","Включить в расчёт","Включить в расчёт","Включить в расчёт","Включить в расчёт","Включить в расчёт","Включить в расчёт","Включить в расчёт","Включить в расчёт","Включить в расчёт","Включить в расчёт","Включить в расчёт","Включить в расчёт","Включить в расчёт","Включить в расчёт","Включить в расчёт","Включить в расчёт","Включить в расчёт","Включить в расчёт","Включить в расчёт","Включить в расчёт","Включить в расчёт","Включить в расчёт",null,null,null,null,"Включить в расчёт","Включить в расчёт","Включить в расчёт","Включить в расчёт","Включить в расчёт","Включить в расчёт","Включить в расчёт","Включить в расчёт","Включить в расчёт","Включить в расчёт","Включить в расчёт","Включить в расчёт","Включить в расчёт","Включить в расчёт","Включить в расчёт","Включить в расчёт",null,null,null,null,"Включить в расчёт","Включить в расчёт","Включить в расчёт","Включить в расчёт","Включить в расчёт","Включить в расчёт","Включить в расчёт","Включить в расчёт","Включить в расчёт","Включить в расчёт","Включить в расчёт","Включить в расчёт","Включить в расчёт","Включить в расчёт","Включить в расчёт","Включить в расчёт","Включить в расчёт","Включить в расчёт","Включить в расчёт","Включить в расчёт","Включить в расчёт","Включить в расчёт","Включить в расчёт","Включить в расчёт","Включить в расчёт","Включить в расчёт","Включить в расчёт","Включить в расчёт",null,null,null,null,"Включить в расчёт","Включить в расчёт","Включить в расчёт","Включить в расчёт","Включить в расчёт","Включить в расчёт","Включить в расчёт","Включить в расчёт","Включить в расчёт","Включить в расчёт","Включить в расчёт","Включить в расчёт","Включить в расчёт","Включить в расчёт","Включить в расчёт","Включить в расчёт","Включить в расчёт","Включить в расчёт","Включить в расчёт","Включить в расчёт","Включить в расчёт","Включить в расчёт","Включить в расчёт","Включить в расчёт","Включить в расчёт","Включить в расчёт","Включить в расчёт","Включить в расчёт","Включить в расчёт","Включить в расчёт","Включить в расчёт","Включить в расчёт","Включить в расчёт","Включить в расчёт","Включить в расчёт","Включить в расчёт","Включить в расчёт","Включить в расчёт","Включить в расчёт","Включить в расчёт","Включить в расчёт","Включить в расчёт","Включить в расчёт","Включить в расчёт","Включить в расчёт","Включить в расчёт","Включить в расчёт","Включить в расчёт","Включить в расчёт","Включить в расчёт","Включить в расчёт","Включить в расчёт","Включить в расчёт","Включить в расчёт","Включить в расчёт","Включить в расчёт","Включить в расчёт","Включить в расчёт","Включить в расчёт","Включить в расчёт","Включить в расчёт","Включить в расчёт","Включить в расчёт","Включить в расчёт","Включить в расчёт","Включить в расчёт","Включить в расчёт","Включить в расчёт","Включить в расчёт","Включить в расчёт","Включить в расчёт","Включить в расчёт","Включить в расчёт","Включить в расчёт","Включить в расчёт","Включить в расчёт",null,null,{"$f":"SUMIF($P$53:$GE$53,\"12 месяцев\",$P31:$GE31)+SUMIF($P$53:$GE$53,\"12 месяцев\",$P51:$GE51)","v":0},{"$f":"SUMIF($P$53:$GE$53,\"9 месяцев\",$P31:$GE31)+SUMIF($P$53:$GE$53,\"9 месяцев\",$P51:$GE51)","v":0},{"$f":"SUMIF($P$53:$GE$53,\"I полугодие\",$P31:$GE31)+SUMIF($P$53:$GE$53,\"I полугодие\",$P51:$GE51)","v":0},{"$f":"SUMIF($P$53:$GE$53,\"I квартал\",$P31:$GE31)+SUMIF($P$53:$GE$53,\"I квартал\",$P51:$GE51)","v":0}]
[null,null,null,null,null,null,null,null,null,null,null,null,null,null,null,null,{"$f":"$D20","v":"TBD"},{"$f":"$D20","v":"TBD"},{"$f":"$D20","v":"TBD"},null,null,null,null,null,null,null,null,null,null,null,null,null,null,null,null,null,null,null,null,null,null,null,null,null,null,null,null,null,null,null,null,null,null,null,null,null,{"$f":"$D20","v":"TBD"},{"$f":"$D20","v":"TBD"},{"$f":"$D20","v":"TBD"},null,null,null,null,null,null,null,null,null,null,null,null,null,null,null,null,null,{"$f":"$D20","v":"TBD"},{"$f":"$D20","v":"TBD"},{"$f":"$D20","v":"TBD"},null,null,null,null,null,null,null,null,null,null,null,null,null,null,null,null,null,null,null,null,null,null,null,null,null,null,null,null,null,{"$f":"$D20","v":"TBD"},{"$f":"$D20","v":"TBD"},{"$f":"$D20","v":"TBD"}]
[null,null,null,null,null,"1.1.1","Цена натурального топлива без учёта транспортировки (руб./ед.изм.)",null,null,"без НДС",null,null,null,{"$f":"F22 & \"::\" & L20","v":"1.1.1::"},null,null,null,null,null,null,null,null,null,null,null,null,null,null,null,null,null,null,null,null,null,null,null,null,null,null,null,null,null,null,null,null,null,null,null,null,null,null,null,null,null,{"$f":"IF(BD28=0,0,(BD31-BD39-BD44-BD49)*1000/BD28)","v":0},{"$f":"IF(BE28=0,0,(BE31-BE39-BE44-BE49)*1000/BE28)","v":0},{"$f":"IF(BF28=0,0,(BF31-BF39-BF44-BF49)*1000/BF28)","v":0},{"$f":"IF(BG28=0,0,(BG31-BG39-BG44-BG49)*1000/BG28)","v":0},null,null,null,null,null,null,null,null,null,null,null,null,null,null,null,null,{"$f":"IF(BX28=0,0,(BX31-BX39-BX44-BX49)*1000/BX28)","v":0},{"$f":"IF(BY28=0,0,(BY31-BY39-BY44-BY49)*1000/BY28)","v":0},{"$f":"IF(BZ28=0,0,(BZ31-BZ39-BZ44-BZ49)*1000/BZ28)","v":0},{"$f":"IF(CA28=0,0,(CA31-CA39-CA44-CA49)*1000/CA28)","v":0},null,null,null,null,null,null,null,null,null,null,null,null,null,null,null,null,null,null,null,null,null,null,null,null,null,null,null,null,{"$f":"IF(DD28=0,0,(DD31-DD39-DD44-DD49)*1000/DD28)","v":0},{"$f":"IF(DE28=0,0,(DE31-DE39-DE44-DE49)*1000/DE28)","v":0},{"$f":"IF(DF28=0,0,(DF31-DF39-DF44-DF49)*1000/DF28)","v":0},{"$f":"IF(DG28=0,0,(DG31-DG39-DG44-DG49)*1000/DG28)","v":0}]
[null,null,null,null,null,"1.1.2",null,null,null,"с НДС",null,null,null,{"$f":"F23 & \"::\" & L20","v":"1.1.2::"},null,null,null,null,null,null,null,null,null,null,null,null,null,null,null,null,null,null,null,null,null,null,null,null,null,null,null,null,null,null,null,null,null,null,null,null,null,null,null,null,null,{"$f":"IF(BD28=0,0,(BD32-BD40-BD45-BD50)*1000/BD28)","v":0},{"$f":"IF(BE28=0,0,(BE32-BE40-BE45-BE50)*1000/BE28)","v":0},{"$f":"IF(BF28=0,0,(BF32-BF40-BF45-BF50)*1000/BF28)","v":0},{"$f":"IF(BG28=0,0,(BG32-BG40-BG45-BG50)*1000/BG28)","v":0},null,null,null,null,null,null,null,null,null,null,null,null,null,null,null,null,{"$f":"IF(BX28=0,0,(BX32-BX40-BX45-BX50)*1000/BX28)","v":0},{"$f":"IF(BY28=0,0,(BY32-BY40-BY45-BY50)*1000/BY28)","v":0},{"$f":"IF(BZ28=0,0,(BZ32-BZ40-BZ45-BZ50)*1000/BZ28)","v":0},{"$f":"IF(CA28=0,0,(CA32-CA40-CA45-CA50)*1000/CA28)","v":0},null,null,null,null,null,null,null,null,null,null,null,null,null,null,null,null,null,null,null,null,null,null,null,null,null,null,null,null,{"$f":"IF(DD28=0,0,(DD32-DD40-DD45-DD50)*1000/DD28)","v":0},{"$f":"IF(DE28=0,0,(DE32-DE40-DE45-DE50)*1000/DE28)","v":0},{"$f":"IF(DF28=0,0,(DF32-DF40-DF45-DF50)*1000/DF28)","v":0},{"$f":"IF(DG28=0,0,(DG32-DG40-DG45-DG50)*1000/DG28)","v":0}]
[null,null,null,null,null,"1.2.1","Цена натурального топлива с учётом транспортировки (руб./ед.изм.)",null,null,"без НДС",null,null,null,{"$f":"F24 & \"::\" & L20","v":"1.2.1::"},null,{"$f":"IF(P28=0,0,P31*1000/P28)","v":0},{"$f":"IF(Q28=0,0,Q31*1000/Q28)","v":0},{"$f":"IF(R28=0,0,R31*1000/R28)","v":0},{"$f":"IF(S28=0,0,S31*1000/S28)","v":0},null,null,null,null,null,null,null,null,null,null,null,null,null,null,null,null,null,null,null,null,null,null,null,null,null,null,null,null,null,null,null,null,null,null,null,null,{"$f":"IF(BD28=0,0,BD31*1000/BD28)","v":0},{"$f":"IF(BE28=0,0,BE31*1000/BE28)","v":0},{"$f":"IF(BF28=0,0,BF31*1000/BF28)","v":0},{"$f":"IF(BG28=0,0,BG31*1000/BG28)","v":0},null,null,null,null,null,null,null,null,null,null,null,null,null,null,null,null,{"$f":"IF(BX28=0,0,BX31*1000/BX28)","v":0},{"$f":"IF(BY28=0,0,BY31*1000/BY28)","v":0},{"$f":"IF(BZ28=0,0,BZ31*1000/BZ28)","v":0},{"$f":"IF(CA28=0,0,CA31*1000/CA28)","v":0},null,null,null,null,null,null,null,null,null,null,null,null,null,null,null,null,null,null,null,null,null,null,null,null,null,null,null,null,{"$f":"IF(DD28=0,0,DD31*1000/DD28)","v":0},{"$f":"IF(DE28=0,0,DE31*1000/DE28)","v":0},{"$f":"IF(DF28=0,0,DF31*1000/DF28)","v":0},{"$f":"IF(DG28=0,0,DG31*1000/DG28)","v":0}]
[null,null,null,null,null,"1.2.2",null,null,null,"с НДС",null,null,null,{"$f":"F25 & \"::\" & L20","v":"1.2.2::"},null,{"$f":"IF(P28=0,0,P32*1000/P28)","v":0},{"$f":"IF(Q28=0,0,Q32*1000/Q28)","v":0},{"$f":"IF(R28=0,0,R32*1000/R28)","v":0},{"$f":"IF(S28=0,0,S32*1000/S28)","v":0},null,null,null,null,null,null,null,null,null,null,null,null,null,null,null,null,null,null,null,null,null,null,null,null,null,null,null,null,null,null,null,null,null,null,null,null,{"$f":"IF(BD28=0,0,BD32*1000/BD28)","v":0},{"$f":"IF(BE28=0,0,BE32*1000/BE28)","v":0},{"$f":"IF(BF28=0,0,BF32*1000/BF28)","v":0},{"$f":"IF(BG28=0,0,BG32*1000/BG28)","v":0},null,null,null,null,null,null,null,null,null,null,null,null,null,null,null,null,{"$f":"IF(BX28=0,0,BX32*1000/BX28)","v":0},{"$f":"IF(BY28=0,0,BY32*1000/BY28)","v":0},{"$f":"IF(BZ28=0,0,BZ32*1000/BZ28)","v":0},{"$f":"IF(CA28=0,0,CA32*1000/CA28)","v":0},null,null,null,null,null,null,null,null,null,null,null,null,null,null,null,null,null,null,null,null,null,null,null,null,null,null,null,null,{"$f":"IF(DD28=0,0,DD32*1000/DD28)","v":0},{"$f":"IF(DE28=0,0,DE32*1000/DE28)","v":0},{"$f":"IF(DF28=0,0,DF32*1000/DF28)","v":0},{"$f":"IF(DG28=0,0,DG32*1000/DG28)","v":0}]
[null,null,null,null,null,"1.3.1","Цена условного топлива с учётом транспортировки (руб./тут)",null,null,"без НДС",null,null,null,{"$f":"F26 & \"::\" & L20","v":"1.3.1::"},null,{"$f":"IF(P30=0,0,P31*1000/P30)","v":0},{"$f":"IF(Q30=0,0,Q31*1000/Q30)","v":0},{"$f":"IF(R30=0,0,R31*1000/R30)","v":0},{"$f":"IF(S30=0,0,S31*1000/S30)","v":0},null,null,null,null,null,null,null,null,null,null,null,null,null,null,null,null,null,null,null,null,null,null,null,null,null,null,null,null,null,null,null,null,null,null,null,null,{"$f":"IF(BD30=0,0,BD31*1000/BD30)","v":0},{"$f":"IF(BE30=0,0,BE31*1000/BE30)","v":0},{"$f":"IF(BF30=0,0,BF31*1000/BF30)","v":0},{"$f":"IF(BG30=0,0,BG31*1000/BG30)","v":0},null,null,null,null,null,null,null,null,null,null,null,null,null,null,null,null,{"$f":"IF(BX30=0,0,BX31*1000/BX30)","v":0},{"$f":"IF(BY30=0,0,BY31*1000/BY30)","v":0},{"$f":"IF(BZ30=0,0,BZ31*1000/BZ30)","v":0},{"$f":"IF(CA30=0,0,CA31*1000/CA30)","v":0},null,null,null,null,null,null,null,null,null,null,null,null,null,null,null,null,null,null,null,null,null,null,null,null,null,null,null,null,{"$f":"IF(DD30=0,0,DD31*1000/DD30)","v":0},{"$f":"IF(DE30=0,0,DE31*1000/DE30)","v":0},{"$f":"IF(DF30=0,0,DF31*1000/DF30)","v":0},{"$f":"IF(DG30=0,0,DG31*1000/DG30)","v":0}]
[null,null,null,null,null,"1.3.2",null,null,null,"с НДС",null,null,null,{"$f":"F27 & \"::\" & L20","v":"1.3.2::"},null,{"$f":"IF(P30=0,0,P32*1000/P30)","v":0},{"$f":"IF(Q30=0,0,Q32*1000/Q30)","v":0},{"$f":"IF(R30=0,0,R32*1000/R30)","v":0},{"$f":"IF(S30=0,0,S32*1000/S30)","v":0},null,null,null,null,null,null,null,null,null,null,null,null,null,null,null,null,null,null,null,null,null,null,null,null,null,null,null,null,null,null,null,null,null,null,null,null,{"$f":"IF(BD30=0,0,BD32*1000/BD30)","v":0},{"$f":"IF(BE30=0,0,BE32*1000/BE30)","v":0},{"$f":"IF(BF30=0,0,BF32*1000/BF30)","v":0},{"$f":"IF(BG30=0,0,BG32*1000/BG30)","v":0},null,null,null,null,null,null,null,null,null,null,null,null,null,null,null,null,{"$f":"IF(BX30=0,0,BX32*1000/BX30)","v":0},{"$f":"IF(BY30=0,0,BY32*1000/BY30)","v":0},{"$f":"IF(BZ30=0,0,BZ32*1000/BZ30)","v":0},{"$f":"IF(CA30=0,0,CA32*1000/CA30)","v":0},null,null,null,null,null,null,null,null,null,null,null,null,null,null,null,null,null,null,null,null,null,null,null,null,null,null,null,null,{"$f":"IF(DD30=0,0,DD32*1000/DD30)","v":0},{"$f":"IF(DE30=0,0,DE32*1000/DE30)","v":0},{"$f":"IF(DF30=0,0,DF32*1000/DF30)","v":0},{"$f":"IF(DG30=0,0,DG32*1000/DG30)","v":0}]
[null,null,null,null,null,"2.1","Объём натурального топлива, всего",null,null,null,null,null,null,{"$f":"F28 & \"::\" & L20","v":"2.1::"},null,{"$f":"SUM(T28,X28,AB28)","v":0},{"$f":"SUM(U28,Y28,AC28)","v":0},{"$f":"SUM(V28,Z28,AD28)","v":0},{"$f":"SUM(W28,AA28,AE28)","v":0},null,null,null,null,null,null,null,null,null,null,null,null,null,null,null,null,null,null,null,null,null,null,null,null,null,null,null,null,null,null,null,null,null,null,null,null,{"$f":"SUM(BH28,BL28,BP28,BT28)","v":0},{"$f":"SUM(BI28,BM28,BQ28,BU28)","v":0},{"$f":"SUM(BJ28,BN28,BR28,BV28)","v":0},{"$f":"SUM(BK28,BO28,BS28,BW28)","v":0},null,null,null,null,null,null,null,null,null,null,null,null,null,null,null,null,{"$f":"SUM(CB28,CF28,CJ28,CN28,CR28,CV28)","v":0},{"$f":"SUM(CC28,CG28,CK28,CO28,CS28,CW28)","v":0},{"$f":"SUM(CD28,CH28,CL28,CP28,CT28,CX28)","v":0},{"$f":"SUM(CE28,CI28,CM28,CQ28,CU28,CY28)","v":0},null,null,null,null,null,null,null,null,null,null,null,null,null,null,null,null,null,null,null,null,null,null,null,null,null,null,null,null,{"$f":"SUM(DH28,DL28,DP28,DT28,DX28,EB28,EF28,EJ28,EN28)","v":0},{"$f":"SUM(DI28,DM28,DQ28,DU28,DY28,EC28,EG28,EK28,EO28)","v":0},{"$f":"SUM(DJ28,DN28,DR28,DV28,DZ28,ED28,EH28,EL28,EP28)","v":0},{"$f":"SUM(DK28,DO28,DS28,DW28,EA28,EE28,EI28,EM28,EQ28)","v":0}]
[null,null,null,null,null,"2.2","Переводной коэффициент",null,null,null,null,null,null,{"$f":"F29 & \"::\" & L20","v":"2.2::"}]
[null,null,null,null,null,"2.3","Объём условного топлива, всего (тут)",null,null,null,null,null,null,{"$f":"F30 & \"::\" & L20","v":"2.3::"},null,{"$f":"SUM(T30,X30,AB30)","v":0},0,0,0,null,null,null,null,null,null,null,null,null,null,null,null,null,null,null,null,null,null,null,null,null,null,null,null,null,null,null,null,null,null,null,null,null,null,null,null,{"$f":"SUM(BH30,BL30,BP30,BT30)","v":0},0,0,{"$f":"SUM(BK30,BO30,BS30,BW30)","v":0},null,null,null,null,null,null,null,null,null,null,null,null,null,null,null,null,{"$f":"SUM(CB30,CF30,CJ30,CN30,CR30,CV30)","v":0},0,0,0,null,null,null,null,null,null,null,null,null,null,null,null,null,null,null,null,null,null,null,null,null,null,null,null,null,null,null,null,{"$f":"SUM(DH30,DL30,DP30,DT30,DX30,EB30,EF30,EJ30,EN30)","v":0},0,0,0]
[null,null,null,null,null,"3.1","Затраты на топливо, всего (тыс.руб.)",null,null,"без НДС",null,null,null,{"$f":"F31 & \"::\" & L20","v":"3.1::"},null,0,0,0,0,null,null,null,null,null,null,null,null,null,null,null,null,null,null,null,null,null,null,null,null,null,null,null,null,null,null,null,null,null,null,null,null,null,null,null,null,0,0,0,{"$f":"SUM(BK31,BO31,BS31,BW31)","v":0},null,null,null,null,null,null,null,null,null,null,null,null,null,null,null,null,0,0,0,0,null,null,null,null,null,null,null,null,null,null,null,null,null,null,null,null,null,null,null,null,null,null,null,null,null,null,null,null,0,0,0,0]
[null,null,null,null,null,"3.2",null,null,null,"с НДС",null,null,null,{"$f":"F32 & \"::\" & L20","v":"3.2::"},null,0,0,0,0,null,null,null,null,null,null,null,null,null,null,null,null,null,null,null,null,null,null,null,null,null,null,null,null,null,null,null,null,null,null,null,null,null,null,null,null,0,0,0,{"$f":"SUM(BK32,BO32,BS32,BW32)","v":0},null,null,null,null,null,null,null,null,null,null,null,null,null,null,null,null,0,0,0,0,null,null,null,null,null,null,null,null,null,null,null,null,null,null,null,null,null,null,null,null,null,null,null,null,null,null,null,null,0,0,0,0]
[null,null,null,null,null,"4.1.1","Топливо, транспортируемое по сетям, магистралям (трубопроводам)",null,"Средний тариф транзитной транспортировки (руб./тыс.куб.м)","без НДС",null,null,null,{"$f":"F33 & \"::\" & L20","v":"4.1.1::"}]
[null,null,null,null,null,"4.1.2",null,null,null,"с НДС",null,null,null,{"$f":"F34 & \"::\" & L20","v":"4.1.2::"}]
[null,null,null,null,null,"4.2",null,null,"Объём топлива, транспортируемого в транзитном потоке",null,null,null,null,{"$f":"F35 & \"::\" & L20","v":"4.2::"},null,{"$f":"SUM(T35,X35,AB35)","v":0},{"$f":"SUM(U35,Y35,AC35)","v":0},{"$f":"SUM(V35,Z35,AD35)","v":0},{"$f":"SUM(W35,AA35,AE35)","v":0}]
[null,null,null,null,null,"5.1.1","Топливо, транспортируемое по дорогам (авто, ж/д), а также прочие виды транспортировки","Транспортировка топлива автоперевозками","Тариф (цена за единицу) (руб./ед.изм.)","без НДС",null,null,null,{"$f":"F36 & \"::\" & L20","v":"5.1.1::"},null,null,null,null,null,null,null,null,null,null,null,null,null,null,null,null,null,null,null,null,null,null,null,null,null,null,null,null,null,null,null,null,null,null,null,null,null,null,null,null,null,{"$f":"IF(BD38=0,0,BD39*1000/BD38)","v":0},{"$f":"IF(BE38=0,0,BE39*1000/BE38)","v":0},{"$f":"IF(BF38=0,0,BF39*1000/BF38)","v":0},{"$f":"IF(BG38=0,0,BG39*1000/BG38)","v":0},null,null,null,null,null,null,null,null,null,null,null,null,null,null,null,null,{"$f":"IF(BX38=0,0,BX39*1000/BX38)","v":0},{"$f":"IF(BY38=0,0,BY39*1000/BY38)","v":0},{"$f":"IF(BZ38=0,0,BZ39*1000/BZ38)","v":0},{"$f":"IF(CA38=0,0,CA39*1000/CA38)","v":0},null,null,null,null,null,null,null,null,null,null,null,null,null,null,null,null,null,null,null,null,null,null,null,null,null,null,null,null,{"$f":"IF(DD38=0,0,DD39*1000/DD38)","v":0},{"$f":"IF(DE38=0,0,DE39*1000/DE38)","v":0},{"$f":"IF(DF38=0,0,DF39*1000/DF38)","v":0},{"$f":"IF(DG38=0,0,DG39*1000/DG38)","v":0}]
[null,null,null,null,null,"5.1.2",null,null,null,"с НДС",null,null,null,{"$f":"F37 & \"::\" & L20","v":"5.1.2::"},null,null,null,null,null,null,null,null,null,null,null,null,null,null,null,null,null,null,null,null,null,null,null,null,null,null,null,null,null,null,null,null,null,null,null,null,null,null,null,null,null,{"$f":"IF(BD38=0,0,BD40*1000/BD38)","v":0},{"$f":"IF(BE38=0,0,BE40*1000/BE38)","v":0},{"$f":"IF(BF38=0,0,BF40*1000/BF38)","v":0},{"$f":"IF(BG38=0,0,BG40*1000/BG38)","v":0},null,null,null,null,null,null,null,null,null,null,null,null,null,null,null,null,{"$f":"IF(BX38=0,0,BX40*1000/BX38)","v":0},{"$f":"IF(BY38=0,0,BY40*1000/BY38)","v":0},{"$f":"IF(BZ38=0,0,BZ40*1000/BZ38)","v":0},{"$f":"IF(CA38=0,0,CA40*1000/CA38)","v":0},null,null,null,null,null,null,null,null,null,null,null,null,null,null,null,null,null,null,null,null,null,null,null,null,null,null,null,null,{"$f":"IF(DD38=0,0,DD40*1000/DD38)","v":0},{"$f":"IF(DE38=0,0,DE40*1000/DE38)","v":0},{"$f":"IF(DF38=0,0,DF40*1000/DF38)","v":0},{"$f":"IF(DG38=0,0,DG40*1000/DG38)","v":0}]
[null,null,null,null,null,"5.2",null,null,"Объём топлива",null,null,null,null,{"$f":"F38 & \"::\" & L20","v":"5.2::"},null,null,null,null,null,null,null,null,null,null,null,null,null,null,null,null,null,null,null,null,null,null,null,null,null,null,null,null,null,null,null,null,null,null,null,null,null,null,null,null,null,{"$f":"SUM(BH38,BL38,BP38,BT38)","v":0},0,0,{"$f":"SUM(BK38,BO38,BS38,BW38)","v":0},null,null,null,null,null,null,null,null,null,null,null,null,null,null,null,null,{"$f":"SUM(CB38,CF38,CJ38,CN38,CR38,CV38)","v":0},0,0,0,null,null,null,null,null,null,null,null,null,null,null,null,null,null,null,null,null,null,null,null,null,null,null,null,null,null,null,null,{"$f":"SUM(DH38,DL38,DP38,DT38,DX38,EB38,EF38,EJ38,EN38)","v":0},0,0,0]
[null,null,null,null,null,"5.3.1",null,null,"Затраты (тыс.руб.)","без НДС",null,null,null,{"$f":"F39 & \"::\" & L20","v":"5.3.1::"},null,null,null,null,null,null,null,null,null,null,null,null,null,null,null,null,null,null,null,null,null,null,null,null,null,null,null,null,null,null,null,null,null,null,null,null,null,null,null,null,null,0,0,0,{"$f":"SUM(BK39,BO39,BS39,BW39)","v":0},null,null,null,null,null,null,null,null,null,null,null,null,null,null,null,null,0,0,0,0,null,null,null,null,null,null,null,null,null,null,null,null,null,null,null,null,null,null,null,null,null,null,null,null,null,null,null,null,0,0,0,0]
[null,null,null,null,null,"5.3.2",null,null,null,"с НДС",null,null,null,{"$f":"F40 & \"::\" & L20","v":"5.3.2::"},null,null,null,null,null,null,null,null,null,null,null,null,null,null,null,null,null,null,null,null,null,null,null,null,null,null,null,null,null,null,null,null,null,null,null,null,null,null,null,null,null,0,0,0,{"$f":"SUM(BK40,BO40,BS40,BW40)","v":0},null,null,null,null,null,null,null,null,null,null,null,null,null,null,null,null,0,0,0,0,null,null,null,null,null,null,null,null,null,null,null,null,null,null,null,null,null,null,null,null,null,null,null,null,null,null,null,null,0,0,0,0]
[null,null,null,null,null,"6.1.1",null,"Транспортировка топлива ж/д перевозками","Тариф (цена за единицу) (руб./ед.изм.)","без НДС",null,null,null,{"$f":"F41 & \"::\" & L20","v":"6.1.1::"},null,null,null,null,null,null,null,null,null,null,null,null,null,null,null,null,null,null,null,null,null,null,null,null,null,null,null,null,null,null,null,null,null,null,null,null,null,null,null,null,null,{"$f":"IF(BD43=0,0,BD44*1000/BD43)","v":0},{"$f":"IF(BE43=0,0,BE44*1000/BE43)","v":0},{"$f":"IF(BF43=0,0,BF44*1000/BF43)","v":0},{"$f":"IF(BG43=0,0,BG44*1000/BG43)","v":0},null,null,null,null,null,null,null,null,null,null,null,null,null,null,null,null,{"$f":"IF(BX43=0,0,BX44*1000/BX43)","v":0},{"$f":"IF(BY43=0,0,BY44*1000/BY43)","v":0},{"$f":"IF(BZ43=0,0,BZ44*1000/BZ43)","v":0},{"$f":"IF(CA43=0,0,CA44*1000/CA43)","v":0},null,null,null,null,null,null,null,null,null,null,null,null,null,null,null,null,null,null,null,null,null,null,null,null,null,null,null,null,{"$f":"IF(DD43=0,0,DD44*1000/DD43)","v":0},{"$f":"IF(DE43=0,0,DE44*1000/DE43)","v":0},{"$f":"IF(DF43=0,0,DF44*1000/DF43)","v":0},{"$f":"IF(DG43=0,0,DG44*1000/DG43)","v":0}]
[null,null,null,null,null,"6.1.2",null,null,null,"с НДС",null,null,null,{"$f":"F42 & \"::\" & L20","v":"6.1.2::"},null,null,null,null,null,null,null,null,null,null,null,null,null,null,null,null,null,null,null,null,null,null,null,null,null,null,null,null,null,null,null,null,null,null,null,null,null,null,null,null,null,{"$f":"IF(BD43=0,0,BD45*1000/BD43)","v":0},{"$f":"IF(BE43=0,0,BE45*1000/BE43)","v":0},{"$f":"IF(BF43=0,0,BF45*1000/BF43)","v":0},{"$f":"IF(BG43=0,0,BG45*1000/BG43)","v":0},null,null,null,null,null,null,null,null,null,null,null,null,null,null,null,null,{"$f":"IF(BX43=0,0,BX45*1000/BX43)","v":0},{"$f":"IF(BY43=0,0,BY45*1000/BY43)","v":0},{"$f":"IF(BZ43=0,0,BZ45*1000/BZ43)","v":0},{"$f":"IF(CA43=0,0,CA45*1000/CA43)","v":0},null,null,null,null,null,null,null,null,null,null,null,null,null,null,null,null,null,null,null,null,null,null,null,null,null,null,null,null,{"$f":"IF(DD43=0,0,DD45*1000/DD43)","v":0},{"$f":"IF(DE43=0,0,DE45*1000/DE43)","v":0},{"$f":"IF(DF43=0,0,DF45*1000/DF43)","v":0},{"$f":"IF(DG43=0,0,DG45*1000/DG43)","v":0}]
[null,null,null,null,null,"6.2",null,null,"Объём топлива",null,null,null,null,{"$f":"F43 & \"::\" & L20","v":"6.2::"},null,null,null,null,null,null,null,null,null,null,null,null,null,null,null,null,null,null,null,null,null,null,null,null,null,null,null,null,null,null,null,null,null,null,null,null,null,null,null,null,null,{"$f":"SUM(BH43,BL43,BP43,BT43)","v":0},0,0,{"$f":"SUM(BK43,BO43,BS43,BW43)","v":0},null,null,null,null,null,null,null,null,null,null,null,null,null,null,null,null,{"$f":"SUM(CB43,CF43,CJ43,CN43,CR43,CV43)","v":0},0,0,0,null,null,null,null,null,null,null,null,null,null,null,null,null,null,null,null,null,null,null,null,null,null,null,null,null,null,null,null,{"$f":"SUM(DH43,DL43,DP43,DT43,DX43,EB43,EF43,EJ43,EN43)","v":0},0,0,0]
[null,null,null,null,null,"6.3.1",null,null,"Затраты (тыс.руб.)","без НДС",null,null,null,{"$f":"F44 & \"::\" & L20","v":"6.3.1::"},null,null,null,null,null,null,null,null,null,null,null,null,null,null,null,null,null,null,null,null,null,null,null,null,null,null,null,null,null,null,null,null,null,null,null,null,null,null,null,null,null,0,0,0,{"$f":"SUM(BK44,BO44,BS44,BW44)","v":0},null,null,null,null,null,null,null,null,null,null,null,null,null,null,null,null,0,0,0,0,null,null,null,null,null,null,null,null,null,null,null,null,null,null,null,null,null,null,null,null,null,null,null,null,null,null,null,null,0,0,0,0]
[null,null,null,null,null,"6.3.2",null,null,null,"с НДС",null,null,null,{"$f":"F45 & \"::\" & L20","v":"6.3.2::"},null,null,null,null,null,null,null,null,null,null,null,null,null,null,null,null,null,null,null,null,null,null,null,null,null,null,null,null,null,null,null,null,null,null,null,null,null,null,null,null,null,0,0,0,{"$f":"SUM(BK45,BO45,BS45,BW45)","v":0},null,null,null,null,null,null,null,null,null,null,null,null,null,null,null,null,0,0,0,0,null,null,null,null,null,null,null,null,null,null,null,null,null,null,null,null,null,null,null,null,null,null,null,null,null,null,null,null,0,0,0,0]
[null,null,null,null,null,"7.1.1",null,"Транспортировка топлива иными видами перевозок","Тариф (цена за единицу) (руб./ед.изм.)","без НДС",null,null,null,{"$f":"F46 & \"::\" & L20","v":"7.1.1::"},null,null,null,null,null,null,null,null,null,null,null,null,null,null,null,null,null,null,null,null,null,null,null,null,null,null,null,null,null,null,null,null,null,null,null,null,null,null,null,null,null,{"$f":"IF(BD48=0,0,BD49*1000/BD48)","v":0},{"$f":"IF(BE48=0,0,BE49*1000/BE48)","v":0},{"$f":"IF(BF48=0,0,BF49*1000/BF48)","v":0},{"$f":"IF(BG48=0,0,BG49*1000/BG48)","v":0},null,null,null,null,null,null,null,null,null,null,null,null,null,null,null,null,{"$f":"IF(BX48=0,0,BX49*1000/BX48)","v":0},{"$f":"IF(BY48=0,0,BY49*1000/BY48)","v":0},{"$f":"IF(BZ48=0,0,BZ49*1000/BZ48)","v":0},{"$f":"IF(CA48=0,0,CA49*1000/CA48)","v":0},null,null,null,null,null,null,null,null,null,null,null,null,null,null,null,null,null,null,null,null,null,null,null,null,null,null,null,null,{"$f":"IF(DD48=0,0,DD49*1000/DD48)","v":0},{"$f":"IF(DE48=0,0,DE49*1000/DE48)","v":0},{"$f":"IF(DF48=0,0,DF49*1000/DF48)","v":0},{"$f":"IF(DG48=0,0,DG49*1000/DG48)","v":0}]
[null,null,null,null,null,"7.1.2",null,null,null,"с НДС",null,null,null,{"$f":"F47 & \"::\" & L20","v":"7.1.2::"},null,null,null,null,null,null,null,null,null,null,null,null,null,null,null,null,null,null,null,null,null,null,null,null,null,null,null,null,null,null,null,null,null,null,null,null,null,null,null,null,null,{"$f":"IF(BD48=0,0,BD50*1000/BD48)","v":0},{"$f":"IF(BE48=0,0,BE50*1000/BE48)","v":0},{"$f":"IF(BF48=0,0,BF50*1000/BF48)","v":0},{"$f":"IF(BG48=0,0,BG50*1000/BG48)","v":0},null,null,null,null,null,null,null,null,null,null,null,null,null,null,null,null,{"$f":"IF(BX48=0,0,BX50*1000/BX48)","v":0},{"$f":"IF(BY48=0,0,BY50*1000/BY48)","v":0},{"$f":"IF(BZ48=0,0,BZ50*1000/BZ48)","v":0},{"$f":"IF(CA48=0,0,CA50*1000/CA48)","v":0},null,null,null,null,null,null,null,null,null,null,null,null,null,null,null,null,null,null,null,null,null,null,null,null,null,null,null,null,{"$f":"IF(DD48=0,0,DD50*1000/DD48)","v":0},{"$f":"IF(DE48=0,0,DE50*1000/DE48)","v":0},{"$f":"IF(DF48=0,0,DF50*1000/DF48)","v":0},{"$f":"IF(DG48=0,0,DG50*1000/DG48)","v":0}]
[null,null,null,null,null,"7.2",null,null,"Объём топлива",null,null,null,null,{"$f":"F48 & \"::\" & L20","v":"7.2::"},null,null,null,null,null,null,null,null,null,null,null,null,null,null,null,null,null,null,null,null,null,null,null,null,null,null,null,null,null,null,null,null,null,null,null,null,null,null,null,null,null,{"$f":"SUM(BH48,BL48,BP48,BT48)","v":0},0,0,{"$f":"SUM(BK48,BO48,BS48,BW48)","v":0},null,null,null,null,null,null,null,null,null,null,null,null,null,null,null,null,{"$f":"SUM(CB48,CF48,CJ48,CN48,CR48,CV48)","v":0},0,0,0,null,null,null,null,null,null,null,null,null,null,null,null,null,null,null,null,null,null,null,null,null,null,null,null,null,null,null,null,{"$f":"SUM(DH48,DL48,DP48,DT48,DX48,EB48,EF48,EJ48,EN48)","v":0},0,0,0]
[null,null,null,null,null,"7.3.1",null,null,"Затраты (тыс.руб.)","без НДС",null,null,null,{"$f":"F49 & \"::\" & L20","v":"7.3.1::"},null,null,null,null,null,null,null,null,null,null,null,null,null,null,null,null,null,null,null,null,null,null,null,null,null,null,null,null,null,null,null,null,null,null,null,null,null,null,null,null,null,0,0,0,{"$f":"SUM(BK49,BO49,BS49,BW49)","v":0},null,null,null,null,null,null,null,null,null,null,null,null,null,null,null,null,0,0,0,0,null,null,null,null,null,null,null,null,null,null,null,null,null,null,null,null,null,null,null,null,null,null,null,null,null,null,null,null,0,0,0,0]
[null,null,null,null,null,"7.3.2",null,null,null,"с НДС",null,null,null,{"$f":"F50 & \"::\" & L20","v":"7.3.2::"},null,null,null,null,null,null,null,null,null,null,null,null,null,null,null,null,null,null,null,null,null,null,null,null,null,null,null,null,null,null,null,null,null,null,null,null,null,null,null,null,null,0,0,0,{"$f":"SUM(BK50,BO50,BS50,BW50)","v":0},null,null,null,null,null,null,null,null,null,null,null,null,null,null,null,null,0,0,0,0,null,null,null,null,null,null,null,null,null,null,null,null,null,null,null,null,null,null,null,null,null,null,null,null,null,null,null,null,0,0,0,0]
[null,null,null,null,null,"8.1","Электроэнергия","Затраты, всего (тыс.руб.)",null,"без НДС",null,null,null,{"$f":"F51 & \"::\" & L20","v":"8.1::"}]
[null,null,null,null,null,"8.2",null,null,null,"с НДС",null,null,null,{"$f":"F52 & \"::\" & L20","v":"8.2::"}]
[null,null,null,null,null,"9",null,"Объём энергии / заявленной мощности",null,null,null,null,null,{"$f":"F53 & \"::\" & L20","v":"9::"}]
[null,null,null,null,null,"10.1",null,"Тариф на энергию / заявленную мощность (руб./кВт*ч / руб./кВт*мес)",null,"без НДС",null,null,null,{"$f":"F54 & \"::\" & L20","v":"10.1::"}]
[null,null,null,null,null,"10.2",null,null,null,"с НДС",null,null,null,{"$f":"F55 & \"::\" & L20","v":"10.2::"}]
[]
[]
[null,null,null,null,null,null,"FUEL_DATA_NATURAL_GAS_RANGE",null,null,null,{"$f":"$D57","v":0},{"$f":"$D57","v":0},{"$f":"$D57","v":0},{"$f":"$D57","v":0},null,{"$f":"$D57","v":0},{"$f":"$D57","v":0},{"$f":"$D57","v":0},{"$f":"$D57","v":0}]
[null,null,null,null,null,null,"FUEL_DATA_GAS_RANGE"]
[null,null,null,null,null,null,"FUEL_DATA_GENERIC_RANGE",null,null,null,{"$f":"K59*K58","v":0},{"$f":"L59*L58","v":0},{"$f":"M59*M58","v":0},null,null,{"$f":"P59*P58","v":0},{"$f":"Q59*Q58","v":0},{"$f":"R59*R58","v":0}]
[null,null,null,null,null,null,"FUEL_DATA_EE_RANGE",null,null,null,null,null,{"$f":"IF(M65=0,0,M68*1000/M65)","v":0},null,null,null,null,{"$f":"IF(R65=0,0,R68*1000/R65)","v":0}]
[null,null,null,null,null,null,"FUEL_DATA_EMPTY_RANGE",null,null,null,{"$f":"K61*K58","v":0},{"$f":"L61*L58","v":0},{"$f":"IF(M65=0,0,M69*1000/M65)","v":0},null,null,{"$f":"P61*P58","v":0},{"$f":"Q61*Q58","v":0},{"$f":"IF(R65=0,0,R69*1000/R65)","v":0}]
[null,null,null,null,null,null,"FUEL_DATA_NATURAL_GAS_PREVIOUS_RANGE",null,null,null,{"$f":"IF(K67=0,0,K68*1000/K67)","v":0},{"$f":"IF(L67=0,0,L68*1000/L67)","v":0},{"$f":"IF(M67=0,0,M68*1000/M67)","v":0},null,null,{"$f":"IF(P67=0,0,P68*1000/P67)","v":0},{"$f":"IF(Q67=0,0,Q68*1000/Q67)","v":0},{"$f":"IF(R67=0,0,R68*1000/R67)","v":0}]
[null,null,null,null,null,null,"FUEL_DATA_GAS_PREVIOUS_RANGE",null,null,null,{"$f":"IF(K67=0,0,K69*1000/K67)","v":0},{"$f":"IF(L67=0,0,L69*1000/L67)","v":0},{"$f":"IF(M67=0,0,M69*1000/M67)","v":0},null,null,{"$f":"IF(P67=0,0,P69*1000/P67)","v":0},{"$f":"IF(Q67=0,0,Q69*1000/Q67)","v":0},{"$f":"IF(R67=0,0,R69*1000/R67)","v":0}]
[null,null,null,null,null,null,"FUEL_DATA_GENERIC_PREVIOUS_RANGE"]
[null,null,null,null,null,null,"FUEL_DATA_EE_PREVIOUS_RANGE"]
[null,null,null,null,null,null,null,null,null,null,{"$f":"K65*K66","v":0},{"$f":"L65*L66","v":0},{"$f":"M65*M66","v":0},null,null,{"$f":"P65*P66","v":0},{"$f":"Q65*Q66","v":0},{"$f":"R65*R66","v":0}]
[null,null,null,null,null,null,null,null,null,null,{"$f":"K61*K65/1000","v":0},{"$f":"L61*L65/1000","v":0},{"$f":"M59*M65/1000+M76+M81+M86","v":0},null,null,{"$f":"P61*P65/1000","v":0},{"$f":"Q61*Q65/1000","v":0},{"$f":"R59*R65/1000+R76+R81+R86","v":0}]
[null,null,null,null,null,null,null,null,null,null,{"$f":"K62*K65/1000","v":0},{"$f":"L62*L65/1000","v":0},{"$f":"M60*M65/1000+M77+M82+M87","v":0},null,null,{"$f":"P62*P65/1000","v":0},{"$f":"Q62*Q65/1000","v":0},{"$f":"R60*R65/1000+R77+R82+R87","v":0}]
[]
[null,null,null,null,null,null,null,null,null,null,{"$f":"K70*K58","v":0},null,null,null,null,{"$f":"P70*P58","v":0}]
[]
[]
[null,null,null,null,null,null,null,null,null,null,null,null,{"$f":"M73*M58","v":0},null,null,null,null,{"$f":"R73*R58","v":0}]
[]
[null,null,null,null,null,null,null,null,null,null,null,null,{"$f":"M73*M75/1000","v":0},null,null,null,null,{"$f":"R73*R75/1000","v":0}]
[null,null,null,null,null,null,null,null,null,null,null,null,{"$f":"M74*M75/1000","v":0},null,null,null,null,{"$f":"R74*R75/1000","v":0}]
[]
[null,null,null,null,null,null,null,null,null,null,null,null,{"$f":"M78*M58","v":0},null,null,null,null,{"$f":"R78*R58","v":0}]
[]
[null,null,null,null,null,null,null,null,null,null,null,null,{"$f":"M78*M80/1000","v":0},null,null,null,null,{"$f":"R78*R80/1000","v":0}]
[null,null,null,null,null,null,null,null,null,null,null,null,{"$f":"M79*M80/1000","v":0},null,null,null,null,{"$f":"R79*R80/1000","v":0}]
[]
[null,null,null,null,null,null,null,null,null,null,null,null,{"$f":"M83*M58","v":0},null,null,null,null,{"$f":"R83*R58","v":0}]
[]
[null,null,null,null,null,null,null,null,null,null,null,null,{"$f":"M83*M85/1000","v":0},null,null,null,null,{"$f":"R83*R85/1000","v":0}]
[null,null,null,null,null,null,null,null,null,null,null,null,{"$f":"M84*M85/1000","v":0},null,null,null,null,{"$f":"R84*R85/1000","v":0}]
[null,null,null,null,null,null,null,null,null,null,null,null,null,{"$f":"N91*N90","v":0},null,null,null,null,{"$f":"S91*S90","v":0}]
[null,null,null,null,null,null,null,null,null,null,null,null,null,{"$f":"N92*N90","v":0},null,null,null,null,{"$f":"S92*S90","v":0}]
[]
[]
[null,null,null,null,null,null,null,null,null,null,null,null,null,{"$f":"N91*N58","v":0},null,null,null,null,{"$f":"S91*S58","v":0}]
[]
[]
[]
[null,null,null,{"$f":"NDS","v":1.2},null,{"$f":"B96","v":0},"МО / Организация / Филиал / Кол-во объектов",null,null,null,null,null,{"$f":"SUM(P107:GM107)+SUM(P127:GM127)","v":0},null,null,null,null,null,null,null,null,null,"Включить в расчёт",null,null,null,"Включить в расчёт",null,null,null,"Включить в расчёт",null,null,null,"Включить в расчёт",null,null,null,"Включить в расчёт",null,null,null,"Включить в расчёт",null,null,null,"Включить в расчёт",null,null,null,"Включить в расчёт",null,null,null,"Включить в расчёт",null,null,null,null,null,null,null,"Включить в расчёт",null,null,null,"Включить в расчёт",null,null,null,"Включить в расчёт",null,null,null,"Включить в расчёт",null,null,null,null,null,null,null,"Включить в расчёт",null,null,null,"Включить в расчёт",null,null,null,"Включить в расчёт",null,null,null,"Включить в расчёт",null,null,null,"Включить в расчёт",null,null,null,"Включить в расчёт",null,null,null,"Включить в расчёт",null,null,null,null,null,null,null,"Включить в расчёт",null,null,null,"Включить в расчёт",null,null,null,"Включить в расчёт",null,null,null,"Включить в расчёт",null,null,null,"Включить в расчёт",null,null,null,"Включить в расчёт",null,null,null,"Включить в расчёт",null,null,null,"Включить в расчёт",null,null,null,"Включить в расчёт",null,null,null,"Включить в расчёт",null,null,null,"Включить в расчёт",null,null,null,"Включить в расчёт",null,null,null,"Включить в расчёт",null,null,null,"Включить в расчёт",null,null,null,"Включить в расчёт",null,null,null,"Включить в расчёт",null,null,null,"Включить в расчёт",null,null,null,"Включить в расчёт",null,null,null,"Включить в расчёт",null,null,{"$f":"SUMIF($P$53:$GE$53,\"12 месяцев\",$P107:$GE107)+SUMIF($P$53:$GE$53,\"12 месяцев\",$P127:$GE127)","v":0},{"$f":"SUMIF($P$53:$GE$53,\"9 месяцев\",$P107:$GE107)+SUMIF($P$53:$GE$53,\"9 месяцев\",$P127:$GE127)","v":0},{"$f":"SUMIF($P$53:$GE$53,\"I полугодие\",$P107:$GE107)+SUMIF($P$53:$GE$53,\"I полугодие\",$P127:$GE127)","v":0},{"$f":"SUMIF($P$53:$GE$53,\"I квартал\",$P107:$GE107)+SUMIF($P$53:$GE$53,\"I квартал\",$P127:$GE127)","v":0}]
[null,null,null,null,null,null,null,null,null,null,null,null,null,null,null,null,null,null,{"$f":"$D96","v":1.2},null,null,null,{"$f":"$D96","v":1.2},null,null,null,{"$f":"$D96","v":1.2},null,null,null,{"$f":"$D96","v":1.2},null,null,null,{"$f":"$D96","v":1.2},null,null,null,{"$f":"$D96","v":1.2},null,null,null,{"$f":"$D96","v":1.2},null,null,null,{"$f":"$D96","v":1.2},null,null,null,{"$f":"$D96","v":1.2},null,null,null,{"$f":"$D96","v":1.2},null,null,null,{"$f":"$D96","v":1.2},null,null,null,{"$f":"$D96","v":1.2},null,null,null,{"$f":"$D96","v":1.2},null,null,null,{"$f":"$D96","v":1.2},null,null,null,{"$f":"$D96","v":1.2},null,null,null,{"$f":"$D96","v":1.2},null,null,null,{"$f":"$D96","v":1.2},null,null,null,{"$f":"$D96","v":1.2},null,null,null,{"$f":"$D96","v":1.2},null,null,null,{"$f":"$D96","v":1.2},null,null,null,{"$f":"$D96","v":1.2},null,null,null,{"$f":"$D96","v":1.2},null,null,null,{"$f":"$D96","v":1.2},null,null,null,{"$f":"$D96","v":1.2},null,null,null,{"$f":"$D96","v":1.2},null,null,null,{"$f":"$D96","v":1.2},null,null,null,{"$f":"$D96","v":1.2},null,null,null,{"$f":"$D96","v":1.2},null,null,null,{"$f":"$D96","v":1.2},null,null,null,{"$f":"$D96","v":1.2},null,null,null,{"$f":"$D96","v":1.2},null,null,null,{"$f":"$D96","v":1.2},null,null,null,{"$f":"$D96","v":1.2},null,null,null,{"$f":"$D96","v":1.2},null,null,null,{"$f":"$D96","v":1.2},null,null,null,{"$f":"$D96","v":1.2},null,null,null,{"$f":"$D96","v":1.2},null,null,null,{"$f":"$D96","v":1.2},null,null,null,{"$f":"$D96","v":1.2},null,null,null,{"$f":"$D96","v":1.2},null,null,null,{"$f":"$D96","v":1.2},null,null,null,{"$f":"$D96","v":1.2},null,null,null,{"$f":"$D96","v":1.2}]
[null,null,null,null,null,"1.1.1","Цена натурального топлива без учёта транспортировки (руб./ед.изм.)",null,null,"без НДС",null,null,null,{"$f":"F98 & \"::\" & L96","v":"1.1.1::"},null,null,null,null,null,null,null,null,null,null,null,null,null,null,null,null,null,null,null,null,null,null,null,null,null,null,null,null,null,null,null,null,null,null,null,null,null,null,null,null,null,null,null,null,{"$f":"IF(BG104=0,0,(BG107-BG115-BG120-BG125)*1000/BG104)","v":0},null,null,null,null,null,null,null,null,null,null,null,null,null,null,null,null,null,null,null,{"$f":"IF(CA104=0,0,(CA107-CA115-CA120-CA125)*1000/CA104)","v":0},null,null,null,null,null,null,null,null,null,null,null,null,null,null,null,null,null,null,null,null,null,null,null,null,null,null,null,null,null,null,null,{"$f":"IF(DG104=0,0,(DG107-DG115-DG120-DG125)*1000/DG104)","v":0}]
[null,null,null,null,null,"1.1.2",null,null,null,"с НДС",null,null,null,{"$f":"F99 & \"::\" & L96","v":"1.1.2::"},null,null,null,null,null,null,null,null,{"$f":"W98*W97","v":0},null,null,null,{"$f":"AA98*AA97","v":0},null,null,null,{"$f":"AE98*AE97","v":0},null,null,null,{"$f":"AI98*AI97","v":0},null,null,null,{"$f":"AM98*AM97","v":0},null,null,null,{"$f":"AQ98*AQ97","v":0},null,null,null,{"$f":"AU98*AU97","v":0},null,null,null,{"$f":"AY98*AY97","v":0},null,null,null,{"$f":"BC98*BC97","v":0},null,null,null,{"$f":"IF(BG104=0,0,(BG108-BG116-BG121-BG126)*1000/BG104)","v":0},null,null,null,{"$f":"BK98*BK97","v":0},null,null,null,{"$f":"BO98*BO97","v":0},null,null,null,{"$f":"BS98*BS97","v":0},null,null,null,{"$f":"BW98*BW97","v":0},null,null,null,{"$f":"IF(CA104=0,0,(CA108-CA116-CA121-CA126)*1000/CA104)","v":0},null,null,null,{"$f":"CE98*CE97","v":0},null,null,null,{"$f":"CI98*CI97","v":0},null,null,null,{"$f":"CM98*CM97","v":0},null,null,null,{"$f":"CQ98*CQ97","v":0},null,null,null,{"$f":"CU98*CU97","v":0},null,null,null,{"$f":"CY98*CY97","v":0},null,null,null,{"$f":"DC98*DC97","v":0},null,null,null,{"$f":"IF(DG104=0,0,(DG108-DG116-DG121-DG126)*1000/DG104)","v":0},null,null,null,{"$f":"DK98*DK97","v":0},null,null,null,{"$f":"DO98*DO97","v":0},null,null,null,{"$f":"DS98*DS97","v":0},null,null,null,{"$f":"DW98*DW97","v":0},null,null,null,{"$f":"EA98*EA97","v":0},null,null,null,{"$f":"EE98*EE97","v":0},null,null,null,{"$f":"EI98*EI97","v":0},null,null,null,{"$f":"EM98*EM97","v":0},null,null,null,{"$f":"EQ98*EQ97","v":0},null,null,null,null,null,null,null,null,null,null,null,{"$f":"FC98*FC97","v":0},null,null,null,{"$f":"FG98*FG97","v":0},null,null,null,{"$f":"FK98*FK97","v":0},null,null,null,{"$f":"FO98*FO97","v":0},null,null,null,{"$f":"FS98*FS97","v":0},null,null,null,{"$f":"FW98*FW97","v":0},null,null,null,{"$f":"GA98*GA97","v":0},null,null,null,{"$f":"GE98*GE97","v":0}]
[null,null,null,null,null,"1.2.1","Цена натурального топлива с учётом транспортировки (руб./ед.изм.)",null,null,"без НДС",null,null,null,{"$f":"F100 & \"::\" & L96","v":"1.2.1::"},null,null,null,null,{"$f":"IF(S104=0,0,S107*1000/S104)","v":0},null,null,null,null,null,null,null,null,null,null,null,null,null,null,null,null,null,null,null,null,null,null,null,null,null,null,null,null,null,null,null,{"$f":"IF(AY104=0,0,AY107*1000/AY104)","v":0},null,null,null,{"$f":"IF(BC104=0,0,BC107*1000/BC104)","v":0},null,null,null,{"$f":"IF(BG104=0,0,BG107*1000/BG104)","v":0},null,null,null,{"$f":"IF(BK104=0,0,BK107*1000/BK104)","v":0},null,null,null,{"$f":"IF(BO104=0,0,BO107*1000/BO104)","v":0},null,null,null,{"$f":"IF(BS104=0,0,BS107*1000/BS104)","v":0},null,null,null,{"$f":"IF(BW104=0,0,BW107*1000/BW104)","v":0},null,null,null,{"$f":"IF(CA104=0,0,CA107*1000/CA104)","v":0},null,null,null,{"$f":"IF(CE104=0,0,CE107*1000/CE104)","v":0},null,null,null,{"$f":"IF(CI104=0,0,CI107*1000/CI104)","v":0},null,null,null,{"$f":"IF(CM104=0,0,CM107*1000/CM104)","v":0},null,null,null,{"$f":"IF(CQ104=0,0,CQ107*1000/CQ104)","v":0},null,null,null,{"$f":"IF(CU104=0,0,CU107*1000/CU104)","v":0},null,null,null,{"$f":"IF(CY104=0,0,CY107*1000/CY104)","v":0},null,null,null,{"$f":"IF(DC104=0,0,DC107*1000/DC104)","v":0},null,null,null,{"$f":"IF(DG104=0,0,DG107*1000/DG104)","v":0},null,null,null,{"$f":"IF(DK104=0,0,DK107*1000/DK104)","v":0},null,null,null,{"$f":"IF(DO104=0,0,DO107*1000/DO104)","v":0},null,null,null,{"$f":"IF(DS104=0,0,DS107*1000/DS104)","v":0},null,null,null,{"$f":"IF(DW104=0,0,DW107*1000/DW104)","v":0},null,null,null,{"$f":"IF(EA104=0,0,EA107*1000/EA104)","v":0},null,null,null,{"$f":"IF(EE104=0,0,EE107*1000/EE104)","v":0},null,null,null,{"$f":"IF(EI104=0,0,EI107*1000/EI104)","v":0},null,null,null,{"$f":"IF(EM104=0,0,EM107*1000/EM104)","v":0},null,null,null,{"$f":"IF(EQ104=0,0,EQ107*1000/EQ104)","v":0},null,null,null,null,null,null,null,null,null,null,null,{"$f":"IF(FC104=0,0,FC107*1000/FC104)","v":0},null,null,null,{"$f":"IF(FG104=0,0,FG107*1000/FG104)","v":0},null,null,null,{"$f":"IF(FK104=0,0,FK107*1000/FK104)","v":0},null,null,null,{"$f":"IF(FO104=0,0,FO107*1000/FO104)","v":0},null,null,null,{"$f":"IF(FS104=0,0,FS107*1000/FS104)","v":0},null,null,null,{"$f":"IF(FW104=0,0,FW107*1000/FW104)","v":0},null,null,null,{"$f":"IF(GA104=0,0,GA107*1000/GA104)","v":0},null,null,null,{"$f":"IF(GE104=0,0,GE107*1000/GE104)","v":0}]
[null,null,null,null,null,"1.2.2",null,null,null,"с НДС",null,null,null,{"$f":"F101 & \"::\" & L96","v":"1.2.2::"},null,null,null,null,{"$f":"IF(S104=0,0,S108*1000/S104)","v":0},null,null,null,{"$f":"W100*W97","v":0},null,null,null,{"$f":"AA100*AA97","v":0},null,null,null,{"$f":"AE100*AE97","v":0},null,null,null,{"$f":"AI100*AI97","v":0},null,null,null,{"$f":"AM100*AM97","v":0},null,null,null,{"$f":"AQ100*AQ97","v":0},null,null,null,{"$f":"AU100*AU97","v":0},null,null,null,{"$f":"IF(AY104=0,0,AY108*1000/AY104)","v":0},null,null,null,{"$f":"IF(BC104=0,0,BC108*1000/BC104)","v":0},null,null,null,{"$f":"IF(BG104=0,0,BG108*1000/BG104)","v":0},null,null,null,{"$f":"IF(BK104=0,0,BK108*1000/BK104)","v":0},null,null,null,{"$f":"IF(BO104=0,0,BO108*1000/BO104)","v":0},null,null,null,{"$f":"IF(BS104=0,0,BS108*1000/BS104)","v":0},null,null,null,{"$f":"IF(BW104=0,0,BW108*1000/BW104)","v":0},null,null,null,{"$f":"IF(CA104=0,0,CA108*1000/CA104)","v":0},null,null,null,{"$f":"IF(CE104=0,0,CE108*1000/CE104)","v":0},null,null,null,{"$f":"IF(CI104=0,0,CI108*1000/CI104)","v":0},null,null,null,{"$f":"IF(CM104=0,0,CM108*1000/CM104)","v":0},null,null,null,{"$f":"IF(CQ104=0,0,CQ108*1000/CQ104)","v":0},null,null,null,{"$f":"IF(CU104=0,0,CU108*1000/CU104)","v":0},null,null,null,{"$f":"IF(CY104=0,0,CY108*1000/CY104)","v":0},null,null,null,{"$f":"IF(DC104=0,0,DC108*1000/DC104)","v":0},null,null,null,{"$f":"IF(DG104=0,0,DG108*1000/DG104)","v":0},null,null,null,{"$f":"IF(DK104=0,0,DK108*1000/DK104)","v":0},null,null,null,{"$f":"IF(DO104=0,0,DO108*1000/DO104)","v":0},null,null,null,{"$f":"IF(DS104=0,0,DS108*1000/DS104)","v":0},null,null,null,{"$f":"IF(DW104=0,0,DW108*1000/DW104)","v":0},null,null,null,{"$f":"IF(EA104=0,0,EA108*1000/EA104)","v":0},null,null,null,{"$f":"IF(EE104=0,0,EE108*1000/EE104)","v":0},null,null,null,{"$f":"IF(EI104=0,0,EI108*1000/EI104)","v":0},null,null,null,{"$f":"IF(EM104=0,0,EM108*1000/EM104)","v":0},null,null,null,{"$f":"IF(EQ104=0,0,EQ108*1000/EQ104)","v":0},null,null,null,null,null,null,null,null,null,null,null,{"$f":"IF(FC104=0,0,FC108*1000/FC104)","v":0},null,null,null,{"$f":"IF(FG104=0,0,FG108*1000/FG104)","v":0},null,null,null,{"$f":"IF(FK104=0,0,FK108*1000/FK104)","v":0},null,null,null,{"$f":"IF(FO104=0,0,FO108*1000/FO104)","v":0},null,null,null,{"$f":"IF(FS104=0,0,FS108*1000/FS104)","v":0},null,null,null,{"$f":"IF(FW104=0,0,FW108*1000/FW104)","v":0},null,null,null,{"$f":"IF(GA104=0,0,GA108*1000/GA104)","v":0},null,null,null,{"$f":"IF(GE104=0,0,GE108*1000/GE104)","v":0}]
[null,null,null,null,null,"1.3.1","Цена условного топлива с учётом транспортировки (руб./тут)",null,null,"без НДС",null,null,null,{"$f":"F102 & \"::\" & L96","v":"1.3.1::"},null,null,null,null,{"$f":"IF(S106=0,0,S107*1000/S106)","v":0},null,null,null,{"$f":"IF(W106=0,0,W107*1000/W106)","v":0},null,null,null,{"$f":"IF(AA106=0,0,AA107*1000/AA106)","v":0},null,null,null,{"$f":"IF(AE106=0,0,AE107*1000/AE106)","v":0},null,null,null,{"$f":"IF(AI106=0,0,AI107*1000/AI106)","v":0},null,null,null,{"$f":"IF(AM106=0,0,AM107*1000/AM106)","v":0},null,null,null,{"$f":"IF(AQ106=0,0,AQ107*1000/AQ106)","v":0},null,null,null,{"$f":"IF(AU106=0,0,AU107*1000/AU106)","v":0},null,null,null,{"$f":"IF(AY106=0,0,AY107*1000/AY106)","v":0},null,null,null,{"$f":"IF(BC106=0,0,BC107*1000/BC106)","v":0},null,null,null,{"$f":"IF(BG106=0,0,BG107*1000/BG106)","v":0},null,null,null,{"$f":"IF(BK106=0,0,BK107*1000/BK106)","v":0},null,null,null,{"$f":"IF(BO106=0,0,BO107*1000/BO106)","v":0},null,null,null,{"$f":"IF(BS106=0,0,BS107*1000/BS106)","v":0},null,null,null,{"$f":"IF(BW106=0,0,BW107*1000/BW106)","v":0},null,null,null,{"$f":"IF(CA106=0,0,CA107*1000/CA106)","v":0},null,null,null,{"$f":"IF(CE106=0,0,CE107*1000/CE106)","v":0},null,null,null,{"$f":"IF(CI106=0,0,CI107*1000/CI106)","v":0},null,null,null,{"$f":"IF(CM106=0,0,CM107*1000/CM106)","v":0},null,null,null,{"$f":"IF(CQ106=0,0,CQ107*1000/CQ106)","v":0},null,null,null,{"$f":"IF(CU106=0,0,CU107*1000/CU106)","v":0},null,null,null,{"$f":"IF(CY106=0,0,CY107*1000/CY106)","v":0},null,null,null,{"$f":"IF(DC106=0,0,DC107*1000/DC106)","v":0},null,null,null,{"$f":"IF(DG106=0,0,DG107*1000/DG106)","v":0},null,null,null,{"$f":"IF(DK106=0,0,DK107*1000/DK106)","v":0},null,null,null,{"$f":"IF(DO106=0,0,DO107*1000/DO106)","v":0},null,null,null,{"$f":"IF(DS106=0,0,DS107*1000/DS106)","v":0},null,null,null,{"$f":"IF(DW106=0,0,DW107*1000/DW106)","v":0},null,null,null,{"$f":"IF(EA106=0,0,EA107*1000/EA106)","v":0},null,null,null,{"$f":"IF(EE106=0,0,EE107*1000/EE106)","v":0},null,null,null,{"$f":"IF(EI106=0,0,EI107*1000/EI106)","v":0},null,null,null,{"$f":"IF(EM106=0,0,EM107*1000/EM106)","v":0},null,null,null,{"$f":"IF(EQ106=0,0,EQ107*1000/EQ106)","v":0},null,null,null,null,null,null,null,null,null,null,null,{"$f":"IF(FC106=0,0,FC107*1000/FC106)","v":0},null,null,null,{"$f":"IF(FG106=0,0,FG107*1000/FG106)","v":0},null,null,null,{"$f":"IF(FK106=0,0,FK107*1000/FK106)","v":0},null,null,null,{"$f":"IF(FO106=0,0,FO107*1000/FO106)","v":0},null,null,null,{"$f":"IF(FS106=0,0,FS107*1000/FS106)","v":0},null,null,null,{"$f":"IF(FW106=0,0,FW107*1000/FW106)","v":0},null,null,null,{"$f":"IF(GA106=0,0,GA107*1000/GA106)","v":0},null,null,null,{"$f":"IF(GE106=0,0,GE107*1000/GE106)","v":0}]
[null,null,null,null,null,"1.3.2",null,null,null,"с НДС",null,null,null,{"$f":"F103 & \"::\" & L96","v":"1.3.2::"},null,null,null,null,{"$f":"IF(S106=0,0,S108*1000/S106)","v":0},null,null,null,{"$f":"IF(W106=0,0,W108*1000/W106)","v":0},null,null,null,{"$f":"IF(AA106=0,0,AA108*1000/AA106)","v":0},null,null,null,{"$f":"IF(AE106=0,0,AE108*1000/AE106)","v":0},null,null,null,{"$f":"IF(AI106=0,0,AI108*1000/AI106)","v":0},null,null,null,{"$f":"IF(AM106=0,0,AM108*1000/AM106)","v":0},null,null,null,{"$f":"IF(AQ106=0,0,AQ108*1000/AQ106)","v":0},null,null,null,{"$f":"IF(AU106=0,0,AU108*1000/AU106)","v":0},null,null,null,{"$f":"IF(AY106=0,0,AY108*1000/AY106)","v":0},null,null,null,{"$f":"IF(BC106=0,0,BC108*1000/BC106)","v":0},null,null,null,{"$f":"IF(BG106=0,0,BG108*1000/BG106)","v":0},null,null,null,{"$f":"IF(BK106=0,0,BK108*1000/BK106)","v":0},null,null,null,{"$f":"IF(BO106=0,0,BO108*1000/BO106)","v":0},null,null,null,{"$f":"IF(BS106=0,0,BS108*1000/BS106)","v":0},null,null,null,{"$f":"IF(BW106=0,0,BW108*1000/BW106)","v":0},null,null,null,{"$f":"IF(CA106=0,0,CA108*1000/CA106)","v":0},null,null,null,{"$f":"IF(CE106=0,0,CE108*1000/CE106)","v":0},null,null,null,{"$f":"IF(CI106=0,0,CI108*1000/CI106)","v":0},null,null,null,{"$f":"IF(CM106=0,0,CM108*1000/CM106)","v":0},null,null,null,{"$f":"IF(CQ106=0,0,CQ108*1000/CQ106)","v":0},null,null,null,{"$f":"IF(CU106=0,0,CU108*1000/CU106)","v":0},null,null,null,{"$f":"IF(CY106=0,0,CY108*1000/CY106)","v":0},null,null,null,{"$f":"IF(DC106=0,0,DC108*1000/DC106)","v":0},null,null,null,{"$f":"IF(DG106=0,0,DG108*1000/DG106)","v":0},null,null,null,{"$f":"IF(DK106=0,0,DK108*1000/DK106)","v":0},null,null,null,{"$f":"IF(DO106=0,0,DO108*1000/DO106)","v":0},null,null,null,{"$f":"IF(DS106=0,0,DS108*1000/DS106)","v":0},null,null,null,{"$f":"IF(DW106=0,0,DW108*1000/DW106)","v":0},null,null,null,{"$f":"IF(EA106=0,0,EA108*1000/EA106)","v":0},null,null,null,{"$f":"IF(EE106=0,0,EE108*1000/EE106)","v":0},null,null,null,{"$f":"IF(EI106=0,0,EI108*1000/EI106)","v":0},null,null,null,{"$f":"IF(EM106=0,0,EM108*1000/EM106)","v":0},null,null,null,{"$f":"IF(EQ106=0,0,EQ108*1000/EQ106)","v":0},null,null,null,null,null,null,null,null,null,null,null,{"$f":"IF(FC106=0,0,FC108*1000/FC106)","v":0},null,null,null,{"$f":"IF(FG106=0,0,FG108*1000/FG106)","v":0},null,null,null,{"$f":"IF(FK106=0,0,FK108*1000/FK106)","v":0},null,null,null,{"$f":"IF(FO106=0,0,FO108*1000/FO106)","v":0},null,null,null,{"$f":"IF(FS106=0,0,FS108*1000/FS106)","v":0},null,null,null,{"$f":"IF(FW106=0,0,FW108*1000/FW106)","v":0},null,null,null,{"$f":"IF(GA106=0,0,GA108*1000/GA106)","v":0},null,null,null,{"$f":"IF(GE106=0,0,GE108*1000/GE106)","v":0}]
[null,null,null,null,null,"2.1","Объём натурального топлива, всего",null,null,null,null,null,null,{"$f":"F104 & \"::\" & L96","v":"2.1::"},null,null,null,null,{"$f":"SUM(W104,AA104,AE104)","v":0},null,null,null,null,null,null,null,null,null,null,null,null,null,null,null,null,null,null,null,null,null,null,null,null,null,null,null,null,null,null,null,null,null,null,null,null,null,null,null,{"$f":"SUM(BK104,BO104,BS104,BW104)","v":0},null,null,null,null,null,null,null,null,null,null,null,null,null,null,null,null,null,null,null,{"$f":"SUM(CE104,CI104,CM104,CQ104,CU104,CY104)","v":0},null,null,null,null,null,null,null,null,null,null,null,null,null,null,null,null,null,null,null,null,null,null,null,null,null,null,null,null,null,null,null,{"$f":"SUM(DK104,DO104,DS104,DW104,EA104,EE104,EI104,EM104,EQ104)","v":0}]
[null,null,null,null,null,"2.2","Переводной коэффициент",null,null,null,null,null,null,{"$f":"F105 & \"::\" & L96","v":"2.2::"}]
[null,null,null,null,null,"2.3","Объём условного топлива, всего (тут)",null,null,null,null,null,null,{"$f":"F106 & \"::\" & L96","v":"2.3::"},null,null,null,null,{"$f":"SUM(W106,AA106,AE106)","v":0},null,null,null,{"$f":"W104*W105","v":0},null,null,null,{"$f":"AA104*AA105","v":0},null,null,null,{"$f":"AE104*AE105","v":0},null,null,null,{"$f":"AI104*AI105","v":0},null,null,null,{"$f":"AM104*AM105","v":0},null,null,null,{"$f":"AQ104*AQ105","v":0},null,null,null,{"$f":"AU104*AU105","v":0},null,null,null,{"$f":"AY104*AY105","v":0},null,null,null,{"$f":"BC104*BC105","v":0},null,null,null,{"$f":"SUM(BK106,BO106,BS106,BW106)","v":0},null,null,null,{"$f":"BK104*BK105","v":0},null,null,null,{"$f":"BO104*BO105","v":0},null,null,null,{"$f":"BS104*BS105","v":0},null,null,null,{"$f":"BW104*BW105","v":0},null,null,null,{"$f":"SUM(CE106,CI106,CM106,CQ106,CU106,CY106)","v":0},null,null,null,{"$f":"CE104*CE105","v":0},null,null,null,{"$f":"CI104*CI105","v":0},null,null,null,{"$f":"CM104*CM105","v":0},null,null,null,{"$f":"CQ104*CQ105","v":0},null,null,null,{"$f":"CU104*CU105","v":0},null,null,null,{"$f":"CY104*CY105","v":0},null,null,null,{"$f":"DC104*DC105","v":0},null,null,null,{"$f":"SUM(DK106,DO106,DS106,DW106,EA106,EE106,EI106,EM106,EQ106)","v":0},null,null,null,{"$f":"DK104*DK105","v":0},null,null,null,{"$f":"DO104*DO105","v":0},null,null,null,{"$f":"DS104*DS105","v":0},null,null,null,{"$f":"DW104*DW105","v":0},null,null,null,{"$f":"EA104*EA105","v":0},null,null,null,{"$f":"EE104*EE105","v":0},null,null,null,{"$f":"EI104*EI105","v":0},null,null,null,{"$f":"EM104*EM105","v":0},null,null,null,{"$f":"EQ104*EQ105","v":0},null,null,null,null,null,null,null,null,null,null,null,{"$f":"FC104*FC105","v":0},null,null,null,{"$f":"FG104*FG105","v":0},null,null,null,{"$f":"FK104*FK105","v":0},null,null,null,{"$f":"FO104*FO105","v":0},null,null,null,{"$f":"FS104*FS105","v":0},null,null,null,{"$f":"FW104*FW105","v":0},null,null,null,{"$f":"GA104*GA105","v":0},null,null,null,{"$f":"GE104*GE105","v":0}]
[null,null,null,null,null,"3.1","Затраты на топливо, всего (тыс.руб.)",null,null,"без НДС",null,null,null,{"$f":"F107 & \"::\" & L96","v":"3.1::"},null,null,null,null,{"$f":"SUM(W107,AA107,AE107)","v":0},null,null,null,{"$f":"W100*W104/1000","v":0},null,null,null,{"$f":"AA100*AA104/1000","v":0},null,null,null,{"$f":"AE100*AE104/1000","v":0},null,null,null,{"$f":"AI100*AI104/1000","v":0},null,null,null,{"$f":"AM100*AM104/1000","v":0},null,null,null,{"$f":"AQ100*AQ104/1000","v":0},null,null,null,{"$f":"AU100*AU104/1000","v":0},null,null,null,{"$f":"AY98*AY104/1000+AY115+AY120+AY125","v":0},null,null,null,{"$f":"BC98*BC104/1000+BC115+BC120+BC125","v":0},null,null,null,{"$f":"SUM(BK107,BO107,BS107,BW107)","v":0},null,null,null,{"$f":"BK98*BK104/1000+BK115+BK120+BK125","v":0},null,null,null,{"$f":"BO98*BO104/1000+BO115+BO120+BO125","v":0},null,null,null,{"$f":"BS98*BS104/1000+BS115+BS120+BS125","v":0},null,null,null,{"$f":"BW98*BW104/1000+BW115+BW120+BW125","v":0},null,null,null,{"$f":"SUM(CE107,CI107,CM107,CQ107,CU107,CY107)","v":0},null,null,null,{"$f":"CE98*CE104/1000+CE115+CE120+CE125","v":0},null,null,null,{"$f":"CI98*CI104/1000+CI115+CI120+CI125","v":0},null,null,null,{"$f":"CM98*CM104/1000+CM115+CM120+CM125","v":0},null,null,null,{"$f":"CQ98*CQ104/1000+CQ115+CQ120+CQ125","v":0},null,null,null,{"$f":"CU98*CU104/1000+CU115+CU120+CU125","v":0},null,null,null,{"$f":"CY98*CY104/1000+CY115+CY120+CY125","v":0},null,null,null,{"$f":"DC98*DC104/1000+DC115+DC120+DC125","v":0},null,null,null,{"$f":"SUM(DK107,DO107,DS107,DW107,EA107,EE107,EI107,EM107,EQ107)","v":0},null,null,null,{"$f":"DK98*DK104/1000+DK115+DK120+DK125","v":0},null,null,null,{"$f":"DO98*DO104/1000+DO115+DO120+DO125","v":0},null,null,null,{"$f":"DS98*DS104/1000+DS115+DS120+DS125","v":0},null,null,null,{"$f":"DW98*DW104/1000+DW115+DW120+DW125","v":0},null,null,null,{"$f":"EA98*EA104/1000+EA115+EA120+EA125","v":0},null,null,null,{"$f":"EE98*EE104/1000+EE115+EE120+EE125","v":0},null,null,null,{"$f":"EI98*EI104/1000+EI115+EI120+EI125","v":0},null,null,null,{"$f":"EM98*EM104/1000+EM115+EM120+EM125","v":0},null,null,null,{"$f":"EQ98*EQ104/1000+EQ115+EQ120+EQ125","v":0},null,null,null,null,null,null,null,null,null,null,null,{"$f":"FC98*FC104/1000+FC115+FC120+FC125","v":0},null,null,null,{"$f":"FG98*FG104/1000+FG115+FG120+FG125","v":0},null,null,null,{"$f":"FK98*FK104/1000+FK115+FK120+FK125","v":0},null,null,null,{"$f":"FO98*FO104/1000+FO115+FO120+FO125","v":0},null,null,null,{"$f":"FS98*FS104/1000+FS115+FS120+FS125","v":0},null,null,null,{"$f":"FW98*FW104/1000+FW115+FW120+FW125","v":0},null,null,null,{"$f":"GA98*GA104/1000+GA115+GA120+GA125","v":0},null,null,null,{"$f":"GE98*GE104/1000+GE115+GE120+GE125","v":0}]
[null,null,null,null,null,"3.2",null,null,null,"с НДС",null,null,null,{"$f":"F108 & \"::\" & L96","v":"3.2::"},null,null,null,null,{"$f":"SUM(W108,AA108,AE108)","v":0},null,null,null,{"$f":"W101*W104/1000","v":0},null,null,null,{"$f":"AA101*AA104/1000","v":0},null,null,null,{"$f":"AE101*AE104/1000","v":0},null,null,null,{"$f":"AI101*AI104/1000","v":0},null,null,null,{"$f":"AM101*AM104/1000","v":0},null,null,null,{"$f":"AQ101*AQ104/1000","v":0},null,null,null,{"$f":"AU101*AU104/1000","v":0},null,null,null,{"$f":"AY99*AY104/1000+AY116+AY121+AY126","v":0},null,null,null,{"$f":"BC99*BC104/1000+BC116+BC121+BC126","v":0},null,null,null,{"$f":"SUM(BK108,BO108,BS108,BW108)","v":0},null,null,null,{"$f":"BK99*BK104/1000+BK116+BK121+BK126","v":0},null,null,null,{"$f":"BO99*BO104/1000+BO116+BO121+BO126","v":0},null,null,null,{"$f":"BS99*BS104/1000+BS116+BS121+BS126","v":0},null,null,null,{"$f":"BW99*BW104/1000+BW116+BW121+BW126","v":0},null,null,null,{"$f":"SUM(CE108,CI108,CM108,CQ108,CU108,CY108)","v":0},null,null,null,{"$f":"CE99*CE104/1000+CE116+CE121+CE126","v":0},null,null,null,{"$f":"CI99*CI104/1000+CI116+CI121+CI126","v":0},null,null,null,{"$f":"CM99*CM104/1000+CM116+CM121+CM126","v":0},null,null,null,{"$f":"CQ99*CQ104/1000+CQ116+CQ121+CQ126","v":0},null,null,null,{"$f":"CU99*CU104/1000+CU116+CU121+CU126","v":0},null,null,null,{"$f":"CY99*CY104/1000+CY116+CY121+CY126","v":0},null,null,null,{"$f":"DC99*DC104/1000+DC116+DC121+DC126","v":0},null,null,null,{"$f":"SUM(DK108,DO108,DS108,DW108,EA108,EE108,EI108,EM108,EQ108)","v":0},null,null,null,{"$f":"DK99*DK104/1000+DK116+DK121+DK126","v":0},null,null,null,{"$f":"DO99*DO104/1000+DO116+DO121+DO126","v":0},null,null,null,{"$f":"DS99*DS104/1000+DS116+DS121+DS126","v":0},null,null,null,{"$f":"DW99*DW104/1000+DW116+DW121+DW126","v":0},null,null,null,{"$f":"EA99*EA104/1000+EA116+EA121+EA126","v":0},null,null,null,{"$f":"EE99*EE104/1000+EE116+EE121+EE126","v":0},null,null,null,{"$f":"EI99*EI104/1000+EI116+EI121+EI126","v":0},null,null,null,{"$f":"EM99*EM104/1000+EM116+EM121+EM126","v":0},null,null,null,{"$f":"EQ99*EQ104/1000+EQ116+EQ121+EQ126","v":0},null,null,null,null,null,null,null,null,null,null,null,{"$f":"FC99*FC104/1000+FC116+FC121+FC126","v":0},null,null,null,{"$f":"FG99*FG104/1000+FG116+FG121+FG126","v":0},null,null,null,{"$f":"FK99*FK104/1000+FK116+FK121+FK126","v":0},null,null,null,{"$f":"FO99*FO104/1000+FO116+FO121+FO126","v":0},null,null,null,{"$f":"FS99*FS104/1000+FS116+FS121+FS126","v":0},null,null,null,{"$f":"FW99*FW104/1000+FW116+FW121+FW126","v":0},null,null,null,{"$f":"GA99*GA104/1000+GA116+GA121+GA126","v":0},null,null,null,{"$f":"GE99*GE104/1000+GE116+GE121+GE126","v":0}]
[null,null,null,null,null,"4.1.1","Топливо, транспортируемое по сетям, магистралям (трубопроводам)",null,"Средний тариф транзитной транспортировки (руб./тыс.куб.м)","без НДС",null,null,null,{"$f":"F109 & \"::\" & L96","v":"4.1.1::"}]
[null,null,null,null,null,"4.1.2",null,null,null,"с НДС",null,null,null,{"$f":"F110 & \"::\" & L96","v":"4.1.2::"},null,null,null,null,null,null,null,null,{"$f":"W109*W97","v":0},null,null,null,{"$f":"AA109*AA97","v":0}]
[null,null,null,null,null,"4.2",null,null,"Объём топлива, транспортируемого в транзитном потоке",null,null,null,null,{"$f":"F111 & \"::\" & L96","v":"4.2::"},null,null,null,null,{"$f":"SUM(W111,AA111,AE111)","v":0}]
[null,null,null,null,null,"5.1.1","Топливо, транспортируемое по дорогам (авто, ж/д), а также прочие виды транспортировки","Транспортировка топлива автоперевозками","Тариф (цена за единицу) (руб./ед.изм.)","без НДС",null,null,null,{"$f":"F112 & \"::\" & L96","v":"5.1.1::"},null,null,null,null,null,null,null,null,null,null,null,null,null,null,null,null,null,null,null,null,null,null,null,null,null,null,null,null,null,null,null,null,null,null,null,null,null,null,null,null,null,null,null,null,{"$f":"IF(BG114=0,0,BG115*1000/BG114)","v":0},null,null,null,null,null,null,null,null,null,null,null,null,null,null,null,null,null,null,null,{"$f":"IF(CA114=0,0,CA115*1000/CA114)","v":0},null,null,null,null,null,null,null,null,null,null,null,null,null,null,null,null,null,null,null,null,null,null,null,null,null,null,null,null,null,null,null,{"$f":"IF(DG114=0,0,DG115*1000/DG114)","v":0}]
[null,null,null,null,null,"5.1.2",null,null,null,"с НДС",null,null,null,{"$f":"F113 & \"::\" & L96","v":"5.1.2::"},null,null,null,null,null,null,null,null,null,null,null,null,null,null,null,null,null,null,null,null,null,null,null,null,null,null,null,null,null,null,null,null,null,null,null,null,{"$f":"AY112*AY97","v":0},null,null,null,{"$f":"BC112*BC97","v":0},null,null,null,{"$f":"IF(BG114=0,0,BG116*1000/BG114)","v":0},null,null,null,{"$f":"BK112*BK97","v":0},null,null,null,{"$f":"BO112*BO97","v":0},null,null,null,{"$f":"BS112*BS97","v":0},null,null,null,{"$f":"BW112*BW97","v":0},null,null,null,{"$f":"IF(CA114=0,0,CA116*1000/CA114)","v":0},null,null,null,{"$f":"CE112*CE97","v":0},null,null,null,{"$f":"CI112*CI97","v":0},null,null,null,{"$f":"CM112*CM97","v":0},null,null,null,{"$f":"CQ112*CQ97","v":0},null,null,null,{"$f":"CU112*CU97","v":0},null,null,null,{"$f":"CY112*CY97","v":0},null,null,null,{"$f":"DC112*DC97","v":0},null,null,null,{"$f":"IF(DG114=0,0,DG116*1000/DG114)","v":0},null,null,null,{"$f":"DK112*DK97","v":0},null,null,null,{"$f":"DO112*DO97","v":0},null,null,null,{"$f":"DS112*DS97","v":0},null,null,null,{"$f":"DW112*DW97","v":0},null,null,null,{"$f":"EA112*EA97","v":0},null,null,null,{"$f":"EE112*EE97","v":0},null,null,null,{"$f":"EI112*EI97","v":0},null,null,null,{"$f":"EM112*EM97","v":0},null,null,null,{"$f":"EQ112*EQ97","v":0},null,null,null,null,null,null,null,null,null,null,null,{"$f":"FC112*FC97","v":0},null,null,null,{"$f":"FG112*FG97","v":0},null,null,null,{"$f":"FK112*FK97","v":0},null,null,null,{"$f":"FO112*FO97","v":0},null,null,null,{"$f":"FS112*FS97","v":0},null,null,null,{"$f":"FW112*FW97","v":0},null,null,null,{"$f":"GA112*GA97","v":0},null,null,null,{"$f":"GE112*GE97","v":0}]
[null,null,null,null,null,"5.2",null,null,"Объём топлива",null,null,null,null,{"$f":"F114 & \"::\" & L96","v":"5.2::"},null,null,null,null,null,null,null,null,null,null,null,null,null,null,null,null,null,null,null,null,null,null,null,null,null,null,null,null,null,null,null,null,null,null,null,null,null,null,null,null,null,null,null,null,{"$f":"SUM(BK114,BO114,BS114,BW114)","v":0},null,null,null,null,null,null,null,null,null,null,null,null,null,null,null,null,null,null,null,{"$f":"SUM(CE114,CI114,CM114,CQ114,CU114,CY114)","v":0},null,null,null,null,null,null,null,null,null,null,null,null,null,null,null,null,null,null,null,null,null,null,null,null,null,null,null,null,null,null,null,{"$f":"SUM(DK114,DO114,DS114,DW114,EA114,EE114,EI114,EM114,EQ114)","v":0}]
[null,null,null,null,null,"5.3.1",null,null,"Затраты (тыс.руб.)","без НДС",null,null,null,{"$f":"F115 & \"::\" & L96","v":"5.3.1::"},null,null,null,null,null,null,null,null,null,null,null,null,null,null,null,null,null,null,null,null,null,null,null,null,null,null,null,null,null,null,null,null,null,null,null,null,{"$f":"AY112*AY114/1000","v":0},null,null,null,{"$f":"BC112*BC114/1000","v":0},null,null,null,{"$f":"SUM(BK115,BO115,BS115,BW115)","v":0},null,null,null,{"$f":"BK112*BK114/1000","v":0},null,null,null,{"$f":"BO112*BO114/1000","v":0},null,null,null,{"$f":"BS112*BS114/1000","v":0},null,null,null,{"$f":"BW112*BW114/1000","v":0},null,null,null,{"$f":"SUM(CE115,CI115,CM115,CQ115,CU115,CY115)","v":0},null,null,null,{"$f":"CE112*CE114/1000","v":0},null,null,null,{"$f":"CI112*CI114/1000","v":0},null,null,null,{"$f":"CM112*CM114/1000","v":0},null,null,null,{"$f":"CQ112*CQ114/1000","v":0},null,null,null,{"$f":"CU112*CU114/1000","v":0},null,null,null,{"$f":"CY112*CY114/1000","v":0},null,null,null,{"$f":"DC112*DC114/1000","v":0},null,null,null,{"$f":"SUM(DK115,DO115,DS115,DW115,EA115,EE115,EI115,EM115,EQ115)","v":0},null,null,null,{"$f":"DK112*DK114/1000","v":0},null,null,null,{"$f":"DO112*DO114/1000","v":0},null,null,null,{"$f":"DS112*DS114/1000","v":0},null,null,null,{"$f":"DW112*DW114/1000","v":0},null,null,null,{"$f":"EA112*EA114/1000","v":0},null,null,null,{"$f":"EE112*EE114/1000","v":0},null,null,null,{"$f":"EI112*EI114/1000","v":0},null,null,null,{"$f":"EM112*EM114/1000","v":0},null,null,null,{"$f":"EQ112*EQ114/1000","v":0},null,null,null,null,null,null,null,null,null,null,null,{"$f":"FC112*FC114/1000","v":0},null,null,null,{"$f":"FG112*FG114/1000","v":0},null,null,null,{"$f":"FK112*FK114/1000","v":0},null,null,null,{"$f":"FO112*FO114/1000","v":0},null,null,null,{"$f":"FS112*FS114/1000","v":0},null,null,null,{"$f":"FW112*FW114/1000","v":0},null,null,null,{"$f":"GA112*GA114/1000","v":0},null,null,null,{"$f":"GE112*GE114/1000","v":0}]
[null,null,null,null,null,"5.3.2",null,null,null,"с НДС",null,null,null,{"$f":"F116 & \"::\" & L96","v":"5.3.2::"},null,null,null,null,null,null,null,null,null,null,null,null,null,null,null,null,null,null,null,null,null,null,null,null,null,null,null,null,null,null,null,null,null,null,null,null,{"$f":"AY113*AY114/1000","v":0},null,null,null,{"$f":"BC113*BC114/1000","v":0},null,null,null,{"$f":"SUM(BK116,BO116,BS116,BW116)","v":0},null,null,null,{"$f":"BK113*BK114/1000","v":0},null,null,null,{"$f":"BO113*BO114/1000","v":0},null,null,null,{"$f":"BS113*BS114/1000","v":0},null,null,null,{"$f":"BW113*BW114/1000","v":0},null,null,null,{"$f":"SUM(CE116,CI116,CM116,CQ116,CU116,CY116)","v":0},null,null,null,{"$f":"CE113*CE114/1000","v":0},null,null,null,{"$f":"CI113*CI114/1000","v":0},null,null,null,{"$f":"CM113*CM114/1000","v":0},null,null,null,{"$f":"CQ113*CQ114/1000","v":0},null,null,null,{"$f":"CU113*CU114/1000","v":0},null,null,null,{"$f":"CY113*CY114/1000","v":0},null,null,null,{"$f":"DC113*DC114/1000","v":0},null,null,null,{"$f":"SUM(DK116,DO116,DS116,DW116,EA116,EE116,EI116,EM116,EQ116)","v":0},null,null,null,{"$f":"DK113*DK114/1000","v":0},null,null,null,{"$f":"DO113*DO114/1000","v":0},null,null,null,{"$f":"DS113*DS114/1000","v":0},null,null,null,{"$f":"DW113*DW114/1000","v":0},null,null,null,{"$f":"EA113*EA114/1000","v":0},null,null,null,{"$f":"EE113*EE114/1000","v":0},null,null,null,{"$f":"EI113*EI114/1000","v":0},null,null,null,{"$f":"EM113*EM114/1000","v":0},null,null,null,{"$f":"EQ113*EQ114/1000","v":0},null,null,null,null,null,null,null,null,null,null,null,{"$f":"FC113*FC114/1000","v":0},null,null,null,{"$f":"FG113*FG114/1000","v":0},null,null,null,{"$f":"FK113*FK114/1000","v":0},null,null,null,{"$f":"FO113*FO114/1000","v":0},null,null,null,{"$f":"FS113*FS114/1000","v":0},null,null,null,{"$f":"FW113*FW114/1000","v":0},null,null,null,{"$f":"GA113*GA114/1000","v":0},null,null,null,{"$f":"GE113*GE114/1000","v":0}]
[null,null,null,null,null,"6.1.1",null,"Транспортировка топлива ж/д перевозками","Тариф (цена за единицу) (руб./ед.изм.)","без НДС",null,null,null,{"$f":"F117 & \"::\" & L96","v":"6.1.1::"},null,null,null,null,null,null,null,null,null,null,null,null,null,null,null,null,null,null,null,null,null,null,null,null,null,null,null,null,null,null,null,null,null,null,null,null,null,null,null,null,null,null,null,null,{"$f":"IF(BG119=0,0,BG120*1000/BG119)","v":0},null,null,null,null,null,null,null,null,null,null,null,null,null,null,null,null,null,null,null,{"$f":"IF(CA119=0,0,CA120*1000/CA119)","v":0},null,null,null,null,null,null,null,null,null,null,null,null,null,null,null,null,null,null,null,null,null,null,null,null,null,null,null,null,null,null,null,{"$f":"IF(DG119=0,0,DG120*1000/DG119)","v":0}]
[null,null,null,null,null,"6.1.2",null,null,null,"с НДС",null,null,null,{"$f":"F118 & \"::\" & L96","v":"6.1.2::"},null,null,null,null,null,null,null,null,null,null,null,null,null,null,null,null,null,null,null,null,null,null,null,null,null,null,null,null,null,null,null,null,null,null,null,null,{"$f":"AY117*AY97","v":0},null,null,null,{"$f":"BC117*BC97","v":0},null,null,null,{"$f":"IF(BG119=0,0,BG121*1000/BG119)","v":0},null,null,null,{"$f":"BK117*BK97","v":0},null,null,null,{"$f":"BO117*BO97","v":0},null,null,null,{"$f":"BS117*BS97","v":0},null,null,null,{"$f":"BW117*BW97","v":0},null,null,null,{"$f":"IF(CA119=0,0,CA121*1000/CA119)","v":0},null,null,null,{"$f":"CE117*CE97","v":0},null,null,null,{"$f":"CI117*CI97","v":0},null,null,null,{"$f":"CM117*CM97","v":0},null,null,null,{"$f":"CQ117*CQ97","v":0},null,null,null,{"$f":"CU117*CU97","v":0},null,null,null,{"$f":"CY117*CY97","v":0},null,null,null,{"$f":"DC117*DC97","v":0},null,null,null,{"$f":"IF(DG119=0,0,DG121*1000/DG119)","v":0},null,null,null,{"$f":"DK117*DK97","v":0},null,null,null,{"$f":"DO117*DO97","v":0},null,null,null,{"$f":"DS117*DS97","v":0},null,null,null,{"$f":"DW117*DW97","v":0},null,null,null,{"$f":"EA117*EA97","v":0},null,null,null,{"$f":"EE117*EE97","v":0},null,null,null,{"$f":"EI117*EI97","v":0},null,null,null,{"$f":"EM117*EM97","v":0},null,null,null,{"$f":"EQ117*EQ97","v":0},null,null,null,null,null,null,null,null,null,null,null,{"$f":"FC117*FC97","v":0},null,null,null,{"$f":"FG117*FG97","v":0},null,null,null,{"$f":"FK117*FK97","v":0},null,null,null,{"$f":"FO117*FO97","v":0},null,null,null,{"$f":"FS117*FS97","v":0},null,null,null,{"$f":"FW117*FW97","v":0},null,null,null,{"$f":"GA117*GA97","v":0},null,null,null,{"$f":"GE117*GE97","v":0}]
[null,null,null,null,null,"6.2",null,null,"Объём топлива",null,null,null,null,{"$f":"F119 & \"::\" & L96","v":"6.2::"},null,null,null,null,null,null,null,null,null,null,null,null,null,null,null,null,null,null,null,null,null,null,null,null,null,null,null,null,null,null,null,null,null,null,null,null,null,null,null,null,null,null,null,null,{"$f":"SUM(BK119,BO119,BS119,BW119)","v":0},null,null,null,null,null,null,null,null,null,null,null,null,null,null,null,null,null,null,null,{"$f":"SUM(CE119,CI119,CM119,CQ119,CU119,CY119)","v":0},null,null,null,null,null,null,null,null,null,null,null,null,null,null,null,null,null,null,null,null,null,null,null,null,null,null,null,null,null,null,null,{"$f":"SUM(DK119,DO119,DS119,DW119,EA119,EE119,EI119,EM119,EQ119)","v":0}]
[null,null,null,null,null,"6.3.1",null,null,"Затраты (тыс.руб.)","без НДС",null,null,null,{"$f":"F120 & \"::\" & L96","v":"6.3.1::"},null,null,null,null,null,null,null,null,null,null,null,null,null,null,null,null,null,null,null,null,null,null,null,null,null,null,null,null,null,null,null,null,null,null,null,null,{"$f":"AY117*AY119/1000","v":0},null,null,null,{"$f":"BC117*BC119/1000","v":0},null,null,null,{"$f":"SUM(BK120,BO120,BS120,BW120)","v":0},null,null,null,{"$f":"BK117*BK119/1000","v":0},null,null,null,{"$f":"BO117*BO119/1000","v":0},null,null,null,{"$f":"BS117*BS119/1000","v":0},null,null,null,{"$f":"BW117*BW119/1000","v":0},null,null,null,{"$f":"SUM(CE120,CI120,CM120,CQ120,CU120,CY120)","v":0},null,null,null,{"$f":"CE117*CE119/1000","v":0},null,null,null,{"$f":"CI117*CI119/1000","v":0},null,null,null,{"$f":"CM117*CM119/1000","v":0},null,null,null,{"$f":"CQ117*CQ119/1000","v":0},null,null,null,{"$f":"CU117*CU119/1000","v":0},null,null,null,{"$f":"CY117*CY119/1000","v":0},null,null,null,{"$f":"DC117*DC119/1000","v":0},null,null,null,{"$f":"SUM(DK120,DO120,DS120,DW120,EA120,EE120,EI120,EM120,EQ120)","v":0},null,null,null,{"$f":"DK117*DK119/1000","v":0},null,null,null,{"$f":"DO117*DO119/1000","v":0},null,null,null,{"$f":"DS117*DS119/1000","v":0},null,null,null,{"$f":"DW117*DW119/1000","v":0},null,null,null,{"$f":"EA117*EA119/1000","v":0},null,null,null,{"$f":"EE117*EE119/1000","v":0},null,null,null,{"$f":"EI117*EI119/1000","v":0},null,null,null,{"$f":"EM117*EM119/1000","v":0},null,null,null,{"$f":"EQ117*EQ119/1000","v":0},null,null,null,null,null,null,null,null,null,null,null,{"$f":"FC117*FC119/1000","v":0},null,null,null,{"$f":"FG117*FG119/1000","v":0},null,null,null,{"$f":"FK117*FK119/1000","v":0},null,null,null,{"$f":"FO117*FO119/1000","v":0},null,null,null,{"$f":"FS117*FS119/1000","v":0},null,null,null,{"$f":"FW117*FW119/1000","v":0},null,null,null,{"$f":"GA117*GA119/1000","v":0},null,null,null,{"$f":"GE117*GE119/1000","v":0}]
[null,null,null,null,null,"6.3.2",null,null,null,"с НДС",null,null,null,{"$f":"F121 & \"::\" & L96","v":"6.3.2::"},null,null,null,null,null,null,null,null,null,null,null,null,null,null,null,null,null,null,null,null,null,null,null,null,null,null,null,null,null,null,null,null,null,null,null,null,{"$f":"AY118*AY119/1000","v":0},null,null,null,{"$f":"BC118*BC119/1000","v":0},null,null,null,{"$f":"SUM(BK121,BO121,BS121,BW121)","v":0},null,null,null,{"$f":"BK118*BK119/1000","v":0},null,null,null,{"$f":"BO118*BO119/1000","v":0},null,null,null,{"$f":"BS118*BS119/1000","v":0},null,null,null,{"$f":"BW118*BW119/1000","v":0},null,null,null,{"$f":"SUM(CE121,CI121,CM121,CQ121,CU121,CY121)","v":0},null,null,null,{"$f":"CE118*CE119/1000","v":0},null,null,null,{"$f":"CI118*CI119/1000","v":0},null,null,null,{"$f":"CM118*CM119/1000","v":0},null,null,null,{"$f":"CQ118*CQ119/1000","v":0},null,null,null,{"$f":"CU118*CU119/1000","v":0},null,null,null,{"$f":"CY118*CY119/1000","v":0},null,null,null,{"$f":"DC118*DC119/1000","v":0},null,null,null,{"$f":"SUM(DK121,DO121,DS121,DW121,EA121,EE121,EI121,EM121,EQ121)","v":0},null,null,null,{"$f":"DK118*DK119/1000","v":0},null,null,null,{"$f":"DO118*DO119/1000","v":0},null,null,null,{"$f":"DS118*DS119/1000","v":0},null,null,null,{"$f":"DW118*DW119/1000","v":0},null,null,null,{"$f":"EA118*EA119/1000","v":0},null,null,null,{"$f":"EE118*EE119/1000","v":0},null,null,null,{"$f":"EI118*EI119/1000","v":0},null,null,null,{"$f":"EM118*EM119/1000","v":0},null,null,null,{"$f":"EQ118*EQ119/1000","v":0},null,null,null,null,null,null,null,null,null,null,null,{"$f":"FC118*FC119/1000","v":0},null,null,null,{"$f":"FG118*FG119/1000","v":0},null,null,null,{"$f":"FK118*FK119/1000","v":0},null,null,null,{"$f":"FO118*FO119/1000","v":0},null,null,null,{"$f":"FS118*FS119/1000","v":0},null,null,null,{"$f":"FW118*FW119/1000","v":0},null,null,null,{"$f":"GA118*GA119/1000","v":0},null,null,null,{"$f":"GE118*GE119/1000","v":0}]
[null,null,null,null,null,"7.1.1",null,"Транспортировка топлива иными видами перевозок","Тариф (цена за единицу) (руб./ед.изм.)","без НДС",null,null,null,{"$f":"F122 & \"::\" & L96","v":"7.1.1::"},null,null,null,null,null,null,null,null,null,null,null,null,null,null,null,null,null,null,null,null,null,null,null,null,null,null,null,null,null,null,null,null,null,null,null,null,null,null,null,null,null,null,null,null,{"$f":"IF(BG124=0,0,BG125*1000/BG124)","v":0},null,null,null,null,null,null,null,null,null,null,null,null,null,null,null,null,null,null,null,{"$f":"IF(CA124=0,0,CA125*1000/CA124)","v":0},null,null,null,null,null,null,null,null,null,null,null,null,null,null,null,null,null,null,null,null,null,null,null,null,null,null,null,null,null,null,null,{"$f":"IF(DG124=0,0,DG125*1000/DG124)","v":0}]
[null,null,null,null,null,"7.1.2",null,null,null,"с НДС",null,null,null,{"$f":"F123 & \"::\" & L96","v":"7.1.2::"},null,null,null,null,null,null,null,null,null,null,null,null,null,null,null,null,null,null,null,null,null,null,null,null,null,null,null,null,null,null,null,null,null,null,null,null,{"$f":"AY122*AY97","v":0},null,null,null,{"$f":"BC122*BC97","v":0},null,null,null,{"$f":"IF(BG124=0,0,BG126*1000/BG124)","v":0},null,null,null,{"$f":"BK122*BK97","v":0},null,null,null,{"$f":"BO122*BO97","v":0},null,null,null,{"$f":"BS122*BS97","v":0},null,null,null,{"$f":"BW122*BW97","v":0},null,null,null,{"$f":"IF(CA124=0,0,CA126*1000/CA124)","v":0},null,null,null,{"$f":"CE122*CE97","v":0},null,null,null,{"$f":"CI122*CI97","v":0},null,null,null,{"$f":"CM122*CM97","v":0},null,null,null,{"$f":"CQ122*CQ97","v":0},null,null,null,{"$f":"CU122*CU97","v":0},null,null,null,{"$f":"CY122*CY97","v":0},null,null,null,{"$f":"DC122*DC97","v":0},null,null,null,{"$f":"IF(DG124=0,0,DG126*1000/DG124)","v":0},null,null,null,{"$f":"DK122*DK97","v":0},null,null,null,{"$f":"DO122*DO97","v":0},null,null,null,{"$f":"DS122*DS97","v":0},null,null,null,{"$f":"DW122*DW97","v":0},null,null,null,{"$f":"EA122*EA97","v":0},null,null,null,{"$f":"EE122*EE97","v":0},null,null,null,{"$f":"EI122*EI97","v":0},null,null,null,{"$f":"EM122*EM97","v":0},null,null,null,{"$f":"EQ122*EQ97","v":0},null,null,null,null,null,null,null,null,null,null,null,{"$f":"FC122*FC97","v":0},null,null,null,{"$f":"FG122*FG97","v":0},null,null,null,{"$f":"FK122*FK97","v":0},null,null,null,{"$f":"FO122*FO97","v":0},null,null,null,{"$f":"FS122*FS97","v":0},null,null,null,{"$f":"FW122*FW97","v":0},null,null,null,{"$f":"GA122*GA97","v":0},null,null,null,{"$f":"GE122*GE97","v":0}]
[null,null,null,null,null,"7.2",null,null,"Объём топлива",null,null,null,null,{"$f":"F124 & \"::\" & L96","v":"7.2::"},null,null,null,null,null,null,null,null,null,null,null,null,null,null,null,null,null,null,null,null,null,null,null,null,null,null,null,null,null,null,null,null,null,null,null,null,null,null,null,null,null,null,null,null,{"$f":"SUM(BK124,BO124,BS124,BW124)","v":0},null,null,null,null,null,null,null,null,null,null,null,null,null,null,null,null,null,null,null,{"$f":"SUM(CE124,CI124,CM124,CQ124,CU124,CY124)","v":0},null,null,null,null,null,null,null,null,null,null,null,null,null,null,null,null,null,null,null,null,null,null,null,null,null,null,null,null,null,null,null,{"$f":"SUM(DK124,DO124,DS124,DW124,EA124,EE124,EI124,EM124,EQ124)","v":0}]
[null,null,null,null,null,"7.3.1",null,null,"Затраты (тыс.руб.)","без НДС",null,null,null,{"$f":"F125 & \"::\" & L96","v":"7.3.1::"},null,null,null,null,null,null,null,null,null,null,null,null,null,null,null,null,null,null,null,null,null,null,null,null,null,null,null,null,null,null,null,null,null,null,null,null,{"$f":"AY122*AY124/1000","v":0},null,null,null,{"$f":"BC122*BC124/1000","v":0},null,null,null,{"$f":"SUM(BK125,BO125,BS125,BW125)","v":0},null,null,null,{"$f":"BK122*BK124/1000","v":0},null,null,null,{"$f":"BO122*BO124/1000","v":0},null,null,null,{"$f":"BS122*BS124/1000","v":0},null,null,null,{"$f":"BW122*BW124/1000","v":0},null,null,null,{"$f":"SUM(CE125,CI125,CM125,CQ125,CU125,CY125)","v":0},null,null,null,{"$f":"CE122*CE124/1000","v":0},null,null,null,{"$f":"CI122*CI124/1000","v":0},null,null,null,{"$f":"CM122*CM124/1000","v":0},null,null,null,{"$f":"CQ122*CQ124/1000","v":0},null,null,null,{"$f":"CU122*CU124/1000","v":0},null,null,null,{"$f":"CY122*CY124/1000","v":0},null,null,null,{"$f":"DC122*DC124/1000","v":0},null,null,null,{"$f":"SUM(DK125,DO125,DS125,DW125,EA125,EE125,EI125,EM125,EQ125)","v":0},null,null,null,{"$f":"DK122*DK124/1000","v":0},null,null,null,{"$f":"DO122*DO124/1000","v":0},null,null,null,{"$f":"DS122*DS124/1000","v":0},null,null,null,{"$f":"DW122*DW124/1000","v":0},null,null,null,{"$f":"EA122*EA124/1000","v":0},null,null,null,{"$f":"EE122*EE124/1000","v":0},null,null,null,{"$f":"EI122*EI124/1000","v":0},null,null,null,{"$f":"EM122*EM124/1000","v":0},null,null,null,{"$f":"EQ122*EQ124/1000","v":0},null,null,null,null,null,null,null,null,null,null,null,{"$f":"FC122*FC124/1000","v":0},null,null,null,{"$f":"FG122*FG124/1000","v":0},null,null,null,{"$f":"FK122*FK124/1000","v":0},null,null,null,{"$f":"FO122*FO124/1000","v":0},null,null,null,{"$f":"FS122*FS124/1000","v":0},null,null,null,{"$f":"FW122*FW124/1000","v":0},null,null,null,{"$f":"GA122*GA124/1000","v":0},null,null,null,{"$f":"GE122*GE124/1000","v":0}]
[null,null,null,null,null,"7.3.2",null,null,null,"с НДС",null,null,null,{"$f":"F126 & \"::\" & L96","v":"7.3.2::"},null,null,null,null,null,null,null,null,null,null,null,null,null,null,null,null,null,null,null,null,null,null,null,null,null,null,null,null,null,null,null,null,null,null,null,null,{"$f":"AY123*AY124/1000","v":0},null,null,null,{"$f":"BC123*BC124/1000","v":0},null,null,null,{"$f":"SUM(BK126,BO126,BS126,BW126)","v":0},null,null,null,{"$f":"BK123*BK124/1000","v":0},null,null,null,{"$f":"BO123*BO124/1000","v":0},null,null,null,{"$f":"BS123*BS124/1000","v":0},null,null,null,{"$f":"BW123*BW124/1000","v":0},null,null,null,{"$f":"SUM(CE126,CI126,CM126,CQ126,CU126,CY126)","v":0},null,null,null,{"$f":"CE123*CE124/1000","v":0},null,null,null,{"$f":"CI123*CI124/1000","v":0},null,null,null,{"$f":"CM123*CM124/1000","v":0},null,null,null,{"$f":"CQ123*CQ124/1000","v":0},null,null,null,{"$f":"CU123*CU124/1000","v":0},null,null,null,{"$f":"CY123*CY124/1000","v":0},null,null,null,{"$f":"DC123*DC124/1000","v":0},null,null,null,{"$f":"SUM(DK126,DO126,DS126,DW126,EA126,EE126,EI126,EM126,EQ126)","v":0},null,null,null,{"$f":"DK123*DK124/1000","v":0},null,null,null,{"$f":"DO123*DO124/1000","v":0},null,null,null,{"$f":"DS123*DS124/1000","v":0},null,null,null,{"$f":"DW123*DW124/1000","v":0},null,null,null,{"$f":"EA123*EA124/1000","v":0},null,null,null,{"$f":"EE123*EE124/1000","v":0},null,null,null,{"$f":"EI123*EI124/1000","v":0},null,null,null,{"$f":"EM123*EM124/1000","v":0},null,null,null,{"$f":"EQ123*EQ124/1000","v":0},null,null,null,null,null,null,null,null,null,null,null,{"$f":"FC123*FC124/1000","v":0},null,null,null,{"$f":"FG123*FG124/1000","v":0},null,null,null,{"$f":"FK123*FK124/1000","v":0},null,null,null,{"$f":"FO123*FO124/1000","v":0},null,null,null,{"$f":"FS123*FS124/1000","v":0},null,null,null,{"$f":"FW123*FW124/1000","v":0},null,null,null,{"$f":"GA123*GA124/1000","v":0},null,null,null,{"$f":"GE123*GE124/1000","v":0}]
[null,null,null,null,null,"8.1","Электроэнергия","Затраты, всего (тыс.руб.)",null,"без НДС",null,null,null,{"$f":"F127 & \"::\" & L96","v":"8.1::"},null,null,null,null,null,null,null,null,null,null,null,null,null,null,null,null,null,null,null,null,null,null,null,null,null,null,null,null,null,null,null,null,null,null,null,null,null,null,null,null,null,null,null,null,null,null,null,null,null,null,null,null,null,null,null,null,null,null,null,null,null,null,null,null,null,null,null,null,null,null,null,null,null,null,null,null,null,null,null,null,null,null,null,null,null,null,null,null,null,null,null,null,null,null,null,null,null,null,null,null,null,null,null,null,null,null,null,null,null,null,null,null,null,null,null,null,null,null,null,null,null,null,null,null,null,null,null,null,null,null,null,null,null,null,null,null,{"$f":"EU130*EU129","v":0},null,null,null,{"$f":"EY130*EY129","v":0}]
[null,null,null,null,null,"8.2",null,null,null,"с НДС",null,null,null,{"$f":"F128 & \"::\" & L96","v":"8.2::"},null,null,null,null,null,null,null,null,null,null,null,null,null,null,null,null,null,null,null,null,null,null,null,null,null,null,null,null,null,null,null,null,null,null,null,null,null,null,null,null,null,null,null,null,null,null,null,null,null,null,null,null,null,null,null,null,null,null,null,null,null,null,null,null,null,null,null,null,null,null,null,null,null,null,null,null,null,null,null,null,null,null,null,null,null,null,null,null,null,null,null,null,null,null,null,null,null,null,null,null,null,null,null,null,null,null,null,null,null,null,null,null,null,null,null,null,null,null,null,null,null,null,null,null,null,null,null,null,null,null,null,null,null,null,null,null,{"$f":"EU131*EU129","v":0},null,null,null,{"$f":"EY131*EY129","v":0}]
[null,null,null,null,null,"9",null,"Объём энергии / заявленной мощности",null,null,null,null,null,{"$f":"F129 & \"::\" & L96","v":"9::"}]
[null,null,null,null,null,"10.1",null,"Тариф на энергию / заявленную мощность (руб./кВт*ч / руб./кВт*мес)",null,"без НДС",null,null,null,{"$f":"F130 & \"::\" & L96","v":"10.1::"}]
[null,null,null,null,null,"10.2",null,null,null,"с НДС",null,null,null,{"$f":"F131 & \"::\" & L96","v":"10.2::"},null,null,null,null,null,null,null,null,null,null,null,null,null,null,null,null,null,null,null,null,null,null,null,null,null,null,null,null,null,null,null,null,null,null,null,null,null,null,null,null,null,null,null,null,null,null,null,null,null,null,null,null,null,null,null,null,null,null,null,null,null,null,null,null,null,null,null,null,null,null,null,null,null,null,null,null,null,null,null,null,null,null,null,null,null,null,null,null,null,null,null,null,null,null,null,null,null,null,null,null,null,null,null,null,null,null,null,null,null,null,null,null,null,null,null,null,null,null,null,null,null,null,null,null,null,null,null,null,null,null,null,null,null,null,null,null,{"$f":"EU130*EU97","v":0},null,null,null,{"$f":"EY130*EY97","v":0}]
[]
[]
[]
[]
[]
[]
[]
["FUEL_SUPPLY_ADD_ORG_RANGE"]
[null,null,null,"Изменить","О",null,null,null,null,null,null,null,null,null,null,null,null,null,null,null,null,null,null,null,0,null,null,null,null,null,null,null,null,null,null,null,null,null,null,null,null,null,null,null,null,null,null,null,null,null,null,null,null,null,null,null,null,null,null,null,null,null,null,null,null,null,null,null,null,null,null,null,null,null,null,null,null,null,null,null,null,null,null,null,null,null,null,null,null,null,null,null,null,null,null,{"$f":"SUMIF($CP140:$CP141,\"Мазут::I квартал (01.01 - 31.03)\",$CM140:$CM141)","v":0},{"$f":"SUMIF($CP140:$CP141,\"Мазут::II квартал (01.04 - 30.06)\",$CM140:$CM141)","v":0},{"$f":"SUMIF($CP140:$CP141,\"Мазут::III квартал (01.07 - 30.09)\",$CM140:$CM141)","v":0},{"$f":"SUMIF($CP140:$CP141,\"Мазут::IV квартал (01.10 - 31.12)\",$CM140:$CM141)","v":0},{"$f":"SUMIF($CP140:$CP141,\"Дизельное топливо::I квартал (01.01 - 31.03)\",$CM140:$CM141)","v":0},{"$f":"SUMIF($CP140:$CP141,\"Дизельное топливо::II квартал (01.04 - 30.06)\",$CM140:$CM141)","v":0},{"$f":"SUMIF($CP140:$CP141,\"Дизельное топливо::III квартал (01.07 - 30.09)\",$CM140:$CM141)","v":0},{"$f":"SUMIF($CP140:$CP141,\"Дизельное топливо::IV квартал (01.10 - 31.12)\",$CM140:$CM141)","v":0},{"$f":"SUMIF($CP140:$CP141,\"Уголь::I квартал (01.01 - 31.03)\",$CM140:$CM141)","v":0},{"$f":"SUMIF($CP140:$CP141,\"Уголь::II квартал (01.04 - 30.06)\",$CM140:$CM141)","v":0},{"$f":"SUMIF($CP140:$CP141,\"Уголь::III квартал (01.07 - 30.09)\",$CM140:$CM141)","v":0},{"$f":"SUMIF($CP140:$CP141,\"Уголь::IV квартал (01.10 - 31.12)\",$CM140:$CM141)","v":0}]
[null,null,null,null,null,null,null,null,null,null,null,null,null,null,null,null,null,null,null,null,null,null,null,null,null,"Добавить поставку"]
[]
[]
[]
["FUEL_SUPPLY_ADD_SUPPLY_RANGE"]
[null,null,null,null,null,null,null,null,null,null,null,null,null,null,null,null,null,null,null,null,null,null,null,"О",null,null,null,"I квартал (01.01 - 31.03)","да",null,null,null,null,null,null,null,null,null,null,{"$f":"IF(AM146=\"\",\"\",AM146)","v":""},null,null,null,null,null,null,null,null,null,null,null,null,null,null,null,null,null,null,null,null,null,null,null,null,null,null,null,null,null,null,null,null,null,null,null,null,null,null,null,{"$f":"CA146*$T146","v":0},null,{"$f":"CC146*$T146","v":0},{"$f":"CA146-CC146","v":0},{"$f":"CB146-CD146","v":0},null,{"$f":"CA146*$CG146/1000","v":0},{"$f":"CB146*$CG146/1000","v":0},null,{"$f":"CG146","v":0},{"$f":"CJ146+CK146","v":0},null,{"$f":"IF(LOWER(BY146)=\"мазутопровод\",0,CL146-CM146)","v":0},null,{"$f":"Z146 & \"::\" & AB146","v":"::I квартал (01.01 - 31.03)"}]
[null,null,null,null,null,null,null,null,null,null,null,null,null,null,null,null,null,null,null,null,null,null,null,null,null,null,null,null,null,null,null,null,null,null,null,null,null,null,null,{"$f":"IF(AM147=\"\",\"\",AM147)","v":""}]
[null,null,null,null,null,null,null,null,null,null,null,null,null,null,null,null,null,null,null,null,null,null,null,null,null,null,null,null,null,null,null,null,null,null,null,null,null,null,null,{"$f":"IF(AM148=\"\",\"\",AM148)","v":""}]
[null,null,null,null,null,null,null,null,null,null,null,null,null,null,null,null,null,null,null,null,null,null,null,null,null,null,null,null,null,null,null,null,null,null,null,null,null,null,null,{"$f":"IF(AM149=\"\",\"\",AM149)","v":""}]
[]
[null,null,null,null,null,null,null,null,null,null,null,null,null,null,null,null,null,null,null,null,"FUEL_SUPPLY_FUEL_NOT_USED_RANGE_QRTR_I",null,null,null,null,null,null,"I квартал (01.01 - 31.03)",null,null,null,null,null,null,null,null,null,null,null,{"$f":"IF(AM151=\"\",\"\",AM151)","v":""}]
[null,null,null,null,null,null,null,null,null,null,null,null,null,null,null,null,null,null,null,null,"FUEL_SUPPLY_FUEL_NOT_USED_RANGE_QRTR_II",null,null,null,null,null,null,"II квартал (01.04 - 30.06)",null,null,null,null,null,null,null,null,null,null,null,{"$f":"IF(AM152=\"\",\"\",AM152)","v":""}]
[null,null,null,null,null,null,null,null,null,null,null,null,null,null,null,null,null,null,null,null,"FUEL_SUPPLY_FUEL_NOT_USED_RANGE_QRTR_III",null,null,null,null,null,null,"III квартал (01.07 - 30.09)",null,null,null,null,null,null,null,null,null,null,null,{"$f":"IF(AM153=\"\",\"\",AM153)","v":""}]
[null,null,null,null,null,null,null,null,null,null,null,null,null,null,null,null,null,null,null,null,"FUEL_SUPPLY_FUEL_NOT_USED_RANGE_QRTR_IV",null,null,null,null,null,null,"IV квартал (01.10 - 31.12)",null,null,null,null,null,null,null,null,null,null,null,{"$f":"IF(AM154=\"\",\"\",AM154)","v":""}]
[]
[null,null,null,null,null,null,null,null,null,null,null,null,null,null,null,null,null,null,null,null,"FUEL_SUPPLY_SUPPLY_EXISTS_RANGE_QRTR_I",null,null,null,null,null,null,"I квартал (01.01 - 31.03)",null,null,null,null,null,null,null,null,null,null,null,{"$f":"IF(AM156=\"\",\"\",AM156)","v":""},null,null,null,null,null,null,null,null,null,null,null,null,null,null,null,null,null,null,null,null,null,null,null,null,null,null,null,null,null,null,null,null,null,null,null,null,null,null,null,{"$f":"CA156*$T156","v":0},null,{"$f":"CC156*$T156","v":0},{"$f":"CA156-CC156","v":0},0,null,{"$f":"CA156*$CG156/1000","v":0},0,null,{"$f":"CG156","v":0},{"$f":"CJ156+CK156","v":0},null,{"$f":"IF(LOWER(BY156)=\"мазутопровод\",0,CL156-CM156)","v":0}]
[null,null,null,null,null,null,null,null,null,null,null,null,null,null,null,null,null,null,null,null,"FUEL_SUPPLY_SUPPLY_EXISTS_RANGE_QRTR_II",null,null,null,null,null,null,"II квартал (01.04 - 30.06)",null,null,null,null,null,null,null,null,null,null,null,{"$f":"IF(AM157=\"\",\"\",AM157)","v":""},null,null,null,null,null,null,null,null,null,null,null,null,null,null,null,null,null,null,null,null,null,null,null,null,null,null,null,null,null,null,null,null,null,null,null,null,null,null,null,{"$f":"CA157*$T157","v":0},null,{"$f":"CC157*$T157","v":0},0,0,null,0,0,null,{"$f":"CG157","v":0},{"$f":"CK157+IF(LEN(CN156)=0,CJ156,CN156)","v":0},null,{"$f":"IF(LOWER(BY157)=\"мазутопровод\",0,CL157-CM157)","v":0}]
[null,null,null,null,null,null,null,null,null,null,null,null,null,null,null,null,null,null,null,null,"FUEL_SUPPLY_SUPPLY_EXISTS_RANGE_QRTR_III",null,null,null,null,null,null,"III квартал (01.07 - 30.09)",null,null,null,null,null,null,null,null,null,null,null,{"$f":"IF(AM158=\"\",\"\",AM158)","v":""},null,null,null,null,null,null,null,null,null,null,null,null,null,null,null,null,null,null,null,null,null,null,null,null,null,null,null,null,null,null,null,null,null,null,null,null,null,null,null,{"$f":"CA158*$T158","v":0},null,{"$f":"CC158*$T158","v":0},0,0,null,0,0,null,{"$f":"CG158","v":0},{"$f":"CK158+IF(LEN(CN157)=0,IF(LEN(CN156)=0,CJ156,CN156),CN157)","v":0},null,{"$f":"IF(LOWER(BY158)=\"мазутопровод\",0,CL158-CM158)","v":0}]
[null,null,null,null,null,null,null,null,null,null,null,null,null,null,null,null,null,null,null,null,"FUEL_SUPPLY_SUPPLY_EXISTS_RANGE_QRTR_IV",null,null,null,null,null,null,"IV квартал (01.10 - 31.12)",null,null,null,null,null,null,null,null,null,null,null,{"$f":"IF(AM159=\"\",\"\",AM159)","v":""},null,null,null,null,null,null,null,null,null,null,null,null,null,null,null,null,null,null,null,null,null,null,null,null,null,null,null,null,null,null,null,null,null,null,null,null,null,null,null,{"$f":"CA159*$T159","v":0},null,{"$f":"CC159*$T159","v":0},0,0,null,0,0,null,{"$f":"CG159","v":0},{"$f":"CK159+IF(LEN(CN158)=0,IF(LEN(CN157)=0,IF(LEN(CN156)=0,CJ156,CN156),CN157),CN158)","v":0},null,{"$f":"IF(LOWER(BY159)=\"мазутопровод\",0,CL159-CM159)","v":0}]
[]
[null,null,null,null,null,null,null,null,null,null,null,null,null,null,null,null,null,null,null,null,"FUEL_SUPPLY_EXISTING_FUEL_USED_RANGE_QRTR_I",null,null,null,null,null,null,"I квартал (01.01 - 31.03)",null,null,null,null,null,null,null,null,null,null,null,{"$f":"IF(AM161=\"\",\"\",AM161)","v":""},null,null,null,null,null,null,null,null,null,null,null,null,null,null,null,null,null,null,null,null,null,null,null,null,null,null,null,null,null,null,null,null,null,null,null,null,null,null,null,null,null,null,null,null,null,null,null,null,null,{"$f":"CJ161","v":0},null,{"$f":"IF(LOWER(BY161)=\"мазутопровод\",0,CL161-CM161)","v":0}]
[null,null,null,null,null,null,null,null,null,null,null,null,null,null,null,null,null,null,null,null,"FUEL_SUPPLY_EXISTING_FUEL_USED_RANGE_QRTR_II",null,null,null,null,null,null,"II квартал (01.04 - 30.06)",null,null,null,null,null,null,null,null,null,null,null,{"$f":"IF(AM162=\"\",\"\",AM162)","v":""},null,null,null,null,null,null,null,null,null,null,null,null,null,null,null,null,null,null,null,null,null,null,null,null,null,null,null,null,null,null,null,null,null,null,null,null,null,null,null,null,null,null,null,null,null,null,null,null,null,{"$f":"CK162+IF(LEN(CN161)=0,CJ161,CN161)","v":0},null,{"$f":"IF(LOWER(BY162)=\"мазутопровод\",0,CL162-CM162)","v":0}]
[null,null,null,null,null,null,null,null,null,null,null,null,null,null,null,null,null,null,null,null,"FUEL_SUPPLY_EXISTING_FUEL_USED_RANGE_QRTR_III",null,null,null,null,null,null,"III квартал (01.07 - 30.09)",null,null,null,null,null,null,null,null,null,null,null,{"$f":"IF(AM163=\"\",\"\",AM163)","v":""},null,null,null,null,null,null,null,null,null,null,null,null,null,null,null,null,null,null,null,null,null,null,null,null,null,null,null,null,null,null,null,null,null,null,null,null,null,null,null,null,null,null,null,null,null,null,null,null,null,{"$f":"CK163+IF(LEN(CN162)=0,IF(LEN(CN161)=0,CJ161,CN161),CN162)","v":0},null,{"$f":"IF(LOWER(BY163)=\"мазутопровод\",0,CL163-CM163)","v":0}]
[null,null,null,null,null,null,null,null,null,null,null,null,null,null,null,null,null,null,null,null,"FUEL_SUPPLY_EXISTING_FUEL_USED_RANGE_QRTR_IV",null,null,null,null,null,null,"IV квартал (01.10 - 31.12)",null,null,null,null,null,null,null,null,null,null,null,{"$f":"IF(AM164=\"\",\"\",AM164)","v":""},null,null,null,null,null,null,null,null,null,null,null,null,null,null,null,null,null,null,null,null,null,null,null,null,null,null,null,null,null,null,null,null,null,null,null,null,null,null,null,null,null,null,null,null,null,null,null,null,null,{"$f":"CK164+IF(LEN(CN163)=0,IF(LEN(CN162)=0,IF(LEN(CN161)=0,CJ161,CN161),CN162),CN163)","v":0},null,{"$f":"IF(LOWER(BY164)=\"мазутопровод\",0,CL164-CM164)","v":0}]
[]
[null,null,null,null,null,null,null,null,null,null,null,null,null,null,null,null,null,null,null,null,null,null,null,null,null,null,null,"I квартал (01.01 - 31.03)","да",null,null,null,null,null,null,null,null,null,null,{"$f":"IF(AM166=\"\",\"\",AM166)","v":""},null,null,null,null,null,null,null,null,null,null,null,null,null,null,null,null,null,null,null,null,null,null,null,null,null,null,null,null,null,null,null,null,null,null,null,null,null,null,null,{"$f":"CA166*$T166","v":0},null,{"$f":"CC166*$T166","v":0},{"$f":"CA166-CC166","v":0},0,null,{"$f":"CA166*$CG166/1000","v":0},0,null,{"$f":"CG166","v":0},{"$f":"CJ166+CK166","v":0},null,{"$f":"IF(LOWER(BY166)=\"мазутопровод\",0,CL166-CM166)","v":0},null,{"$f":"Z166 & \"::\" & AB166","v":"::I квартал (01.01 - 31.03)"}]
[null,null,null,null,null,null,null,null,null,null,null,null,null,null,null,null,null,null,null,null,null,null,null,null,null,null,null,"II квартал (01.04 - 30.06)","да",null,null,null,null,null,null,null,null,null,null,{"$f":"IF(AM167=\"\",\"\",AM167)","v":""},null,null,null,null,null,null,null,null,null,null,null,null,null,null,null,null,null,null,null,null,null,null,null,null,null,null,null,null,null,null,null,null,null,null,null,null,null,null,null,{"$f":"CA167*$T167","v":0},null,{"$f":"CC167*$T167","v":0},0,0,null,0,0,null,{"$f":"CG167","v":0},{"$f":"CK167+IF(LEN(CN166)=0,CJ166,CN166)","v":0},null,{"$f":"IF(LOWER(BY167)=\"мазутопровод\",0,CL167-CM167)","v":0},null,{"$f":"Z166 & \"::\" & AB167","v":"::II квартал (01.04 - 30.06)"}]
[null,null,null,null,null,null,null,null,null,null,null,null,null,null,null,null,null,null,null,null,null,null,null,null,null,null,null,"III квартал (01.07 - 30.09)","да",null,null,null,null,null,null,null,null,null,null,{"$f":"IF(AM168=\"\",\"\",AM168)","v":""},null,null,null,null,null,null,null,null,null,null,null,null,null,null,null,null,null,null,null,null,null,null,null,null,null,null,null,null,null,null,null,null,null,null,null,null,null,null,null,{"$f":"CA168*$T168","v":0},null,{"$f":"CC168*$T168","v":0},0,0,null,0,0,null,{"$f":"CG168","v":0},{"$f":"CK168+IF(LEN(CN167)=0,IF(LEN(CN166)=0,CJ166,CN166),CN167)","v":0},null,{"$f":"IF(LOWER(BY168)=\"мазутопровод\",0,CL168-CM168)","v":0},null,{"$f":"Z166 & \"::\" & AB168","v":"::III квартал (01.07 - 30.09)"}]
[null,null,null,null,null,null,null,null,null,null,null,null,null,null,null,null,null,null,null,null,null,null,null,null,null,null,null,"IV квартал (01.10 - 31.12)","да",null,null,null,null,null,null,null,null,null,null,{"$f":"IF(AM169=\"\",\"\",AM169)","v":""},null,null,null,null,null,null,null,null,null,null,null,null,null,null,null,null,null,null,null,null,null,null,null,null,null,null,null,null,null,null,null,null,null,null,null,null,null,null,null,{"$f":"CA169*$T169","v":0},null,{"$f":"CC169*$T169","v":0},0,0,null,0,0,null,{"$f":"CG169","v":0},{"$f":"CK169+IF(LEN(CN168)=0,IF(LEN(CN167)=0,IF(LEN(CN166)=0,CJ166,CN166),CN167),CN168)","v":0},null,{"$f":"IF(LOWER(BY169)=\"мазутопровод\",0,CL169-CM169)","v":0},null,{"$f":"Z166 & \"::\" & AB169","v":"::IV квартал (01.10 - 31.12)"}]

{"sheet":"TECH_VERTICAL","index":15,"n_rows":0,"n_cols":0,"rows_kept":0,"cut":false,"hidden":true,"merged":[]}

{"sheet":"REESTR_ORG","index":16,"n_rows":205,"n_cols":137,"rows_kept":205,"cut":false,"hidden":true,"merged":[]}
["№","НСРФ","МР","ОКТМР","МО","ОКТМО","RST_ORG_ID","Наименование","ИНН","КПП","ВД (OLD)","ВД (COMBO)","ВД (PATH)","ORG_START_DATE","ORG_END_DATE","VDET_START_DATE","VDET_END_DATE",null,null,null,"№","НСРФ","МР","ОКТМР","МО","ОКТМО","RST_ORG_ID","Наименование","ИНН","КПП","ВД (OLD)","ВД (COMBO)","ВД (PATH)","ORG_START_DATE","ORG_END_DATE","VDET_START_DATE","VDET_END_DATE",null,null,null,"№","НСРФ","МР","ОКТМР","МО","ОКТМО","RST_ORG_ID","Наименование","ИНН","КПП","ВД (OLD)","ВД (COMBO)","ВД (PATH)","ORG_START_DATE","ORG_END_DATE","VDET_START_DATE","VDET_END_DATE",null,null,null,"№","НСРФ","МР","ОКТМР","МО","ОКТМО","RST_ORG_ID","Наименование","ИНН","КПП","ВД (OLD)","ВД (COMBO)","ВД (PATH)","ORG_START_DATE","ORG_END_DATE","VDET_START_DATE","VDET_END_DATE",null,null,null,"№","НСРФ","МР","ОКТМР","МО","ОКТМО","RST_ORG_ID","Наименование","ИНН","КПП","ВД (OLD)","ВД (COMBO)","ВД (PATH)","ORG_START_DATE","ORG_END_DATE","VDET_START_DATE","VDET_END_DATE",null,null,null,"№","НСРФ","МР","ОКТМР","МО","ОКТМО","RST_ORG_ID","Наименование","ИНН","КПП","ВД (OLD)","ВД (COMBO)","ВД (PATH)","ORG_START_DATE","ORG_END_DATE","VDET_START_DATE","VDET_END_DATE",null,null,null,"№","НСРФ","МР","ОКТМР","МО","ОКТМО","RST_ORG_ID","Наименование","ИНН","КПП","ВД (OLD)","ВД (COMBO)","ВД (PATH)","ORG_START_DATE","ORG_END_DATE","VDET_START_DATE","VDET_END_DATE"]
[null,null,null,null,null,null,null,null,null,null,null,null,null,null,null,null,null,null,null,null,null,null,null,null,null,null,null,null,null,null,null,null,null,null,null,null,null,null,null,null,null,null,null,null,null,null,null,null,null,null,null,null,null,null,null,null,null,null,null,null,1,"Ставропольский край","Александровский муниципальный район","07602000","Александровский сельсовет","07602402","26355225","ГУП СК \"Крайтеплоэнерго\"","2635060510","263501001","производство (некомбинированная выработка)+передача+сбыт","Некомбинированная выработка :: Сбыт :: Передача","/Тепловая энергия/Производство/Некомбинированная выработка :: /Тепловая энергия/Сбыт :: /Тепловая энергия/Передача","16-01-2002 00:00:00",null,"16-01-2002 00:00:00"]
[null,null,null,null,null,null,null,null,null,null,null,null,null,null,null,null,null,null,null,null,null,null,null,null,null,null,null,null,null,null,null,null,null,null,null,null,null,null,null,null,null,null,null,null,null,null,null,null,null,null,null,null,null,null,null,null,null,null,null,null,2,"Ставропольский край","Александровский муниципальный район","07602000","Александровский сельсовет","07602402","26526815","МУП ЖКХ Александровского района","2601004596","260101001","производство (некомбинированная выработка)","Некомбинированная выработка","/Тепловая энергия/Производство/Некомбинированная выработка","08-09-1998 00:00:00",null,"01-01-2016 00:00:00"]
[null,null,null,null,null,null,null,null,null,null,null,null,null,null,null,null,null,null,null,null,null,null,null,null,null,null,null,null,null,null,null,null,null,null,null,null,null,null,null,null,null,null,null,null,null,null,null,null,null,null,null,null,null,null,null,null,null,null,null,null,3,"Ставропольский край","Александровский муниципальный район","07602000","Александровский сельсовет","07602402","26893305","ООО \"Сфера\"","2601009756","260101001","производство (некомбинированная выработка)+передача+сбыт","Некомбинированная выработка :: Сбыт :: Передача","/Тепловая энергия/Производство/Некомбинированная выработка :: /Тепловая энергия/Сбыт :: /Тепловая энергия/Передача","25-02-2011 00:00:00",null,"25-02-2011 00:00:00"]
[null,null,null,null,null,null,null,null,null,null,null,null,null,null,null,null,null,null,null,null,null,null,null,null,null,null,null,null,null,null,null,null,null,null,null,null,null,null,null,null,null,null,null,null,null,null,null,null,null,null,null,null,null,null,null,null,null,null,null,null,4,"Ставропольский край","Александровский муниципальный район","07602000","Александровский сельсовет","07602402","26891277","ООО \"Теплый дом\"","2601009690","260101001","производство (некомбинированная выработка)+передача+сбыт","Некомбинированная выработка :: Сбыт :: Передача","/Тепловая энергия/Производство/Некомбинированная выработка :: /Тепловая энергия/Сбыт :: /Тепловая энергия/Передача","11-01-2011 00:00:00",null,"11-01-2011 00:00:00"]
[null,null,null,null,null,null,null,null,null,null,null,null,null,null,null,null,null,null,null,null,null,null,null,null,null,null,null,null,null,null,null,null,null,null,null,null,null,null,null,null,null,null,null,null,null,null,null,null,null,null,null,null,null,null,null,null,null,null,null,null,5,"Ставропольский край","Александровский муниципальный район","07602000","Калиновский сельсовет","07602407","26526815","МУП ЖКХ Александровского района","2601004596","260101001","производство (некомбинированная выработка)","Некомбинированная выработка","/Тепловая энергия/Производство/Некомбинированная выработка","08-09-1998 00:00:00",null,"01-07-2002 00:00:00"]
[null,null,null,null,null,null,null,null,null,null,null,null,null,null,null,null,null,null,null,null,null,null,null,null,null,null,null,null,null,null,null,null,null,null,null,null,null,null,null,null,null,null,null,null,null,null,null,null,null,null,null,null,null,null,null,null,null,null,null,null,6,"Ставропольский край","Александровский муниципальный район","07602000","Круглолесский сельсовет","07602410","26526815","МУП ЖКХ Александровского района","2601004596","260101001","производство (некомбинированная выработка)","Некомбинированная выработка","/Тепловая энергия/Производство/Некомбинированная выработка","08-09-1998 00:00:00",null,"01-07-2002 00:00:00"]
[null,null,null,null,null,null,null,null,null,null,null,null,null,null,null,null,null,null,null,null,null,null,null,null,null,null,null,null,null,null,null,null,null,null,null,null,null,null,null,null,null,null,null,null,null,null,null,null,null,null,null,null,null,null,null,null,null,null,null,null,7,"Ставропольский край","Александровский муниципальный район","07602000","Новокавказский сельсовет","07602413","26526815","МУП ЖКХ Александровского района","2601004596","260101001","производство (некомбинированная выработка)","Некомбинированная выработка","/Тепловая энергия/Производство/Некомбинированная выработка","08-09-1998 00:00:00",null,"01-07-2002 00:00:00"]
[null,null,null,null,null,null,null,null,null,null,null,null,null,null,null,null,null,null,null,null,null,null,null,null,null,null,null,null,null,null,null,null,null,null,null,null,null,null,null,null,null,null,null,null,null,null,null,null,null,null,null,null,null,null,null,null,null,null,null,null,8,"Ставропольский край","Александровский муниципальный район","07602000","Саблинский сельсовет","07602416","26526815","МУП ЖКХ Александровского района","2601004596","260101001","производство (некомбинированная выработка)","Некомбинированная выработка","/Тепловая энергия/Производство/Некомбинированная выработка","08-09-1998 00:00:00",null,"01-07-2002 00:00:00"]
[null,null,null,null,null,null,null,null,null,null,null,null,null,null,null,null,null,null,null,null,null,null,null,null,null,null,null,null,null,null,null,null,null,null,null,null,null,null,null,null,null,null,null,null,null,null,null,null,null,null,null,null,null,null,null,null,null,null,null,null,9,"Ставропольский край","Александровский муниципальный район","07602000","Село Грушевское","07602404","26526815","МУП ЖКХ Александровского района","2601004596","260101001","производство (некомбинированная выработка)","Некомбинированная выработка","/Тепловая энергия/Производство/Некомбинированная выработка","08-09-1998 00:00:00",null,"01-07-2002 00:00:00"]
[null,null,null,null,null,null,null,null,null,null,null,null,null,null,null,null,null,null,null,null,null,null,null,null,null,null,null,null,null,null,null,null,null,null,null,null,null,null,null,null,null,null,null,null,null,null,null,null,null,null,null,null,null,null,null,null,null,null,null,null,10,"Ставропольский край","Александровский муниципальный район","07602000","Село Северное","07602419","26526815","МУП ЖКХ Александровского района","2601004596","260101001","производство (некомбинированная выработка)","Некомбинированная выработка","/Тепловая энергия/Производство/Некомбинированная выработка","08-09-1998 00:00:00",null,"01-07-2002 00:00:00"]
[null,null,null,null,null,null,null,null,null,null,null,null,null,null,null,null,null,null,null,null,null,null,null,null,null,null,null,null,null,null,null,null,null,null,null,null,null,null,null,null,null,null,null,null,null,null,null,null,null,null,null,null,null,null,null,null,null,null,null,null,11,"Ставропольский край","Александровский муниципальный район","07602000","Средненский сельсовет","07602422","26526815","МУП ЖКХ Александровского района","2601004596","260101001","производство (некомбинированная выработка)","Некомбинированная выработка","/Тепловая энергия/Производство/Некомбинированная выработка","08-09-1998 00:00:00",null,"21-04-2016 00:00:00"]
[null,null,null,null,null,null,null,null,null,null,null,null,null,null,null,null,null,null,null,null,null,null,null,null,null,null,null,null,null,null,null,null,null,null,null,null,null,null,null,null,null,null,null,null,null,null,null,null,null,null,null,null,null,null,null,null,null,null,null,null,12,"Ставропольский край","Андроповский муниципальный район","07632000","Водораздельный сельсовет","07632402","26355225","ГУП СК \"Крайтеплоэнерго\"","2635060510","263501001","производство (некомбинированная выработка)+передача+сбыт","Некомбинированная выработка :: Сбыт :: Передача","/Тепловая энергия/Производство/Некомбинированная выработка :: /Тепловая энергия/Сбыт :: /Тепловая энергия/Передача","16-01-2002 00:00:00",null,"16-01-2002 00:00:00"]
[null,null,null,null,null,null,null,null,null,null,null,null,null,null,null,null,null,null,null,null,null,null,null,null,null,null,null,null,null,null,null,null,null,null,null,null,null,null,null,null,null,null,null,null,null,null,null,null,null,null,null,null,null,null,null,null,null,null,null,null,13,"Ставропольский край","Андроповский муниципальный район","07632000","Казинский сельсовет","07632406","26355225","ГУП СК \"Крайтеплоэнерго\"","2635060510","263501001","производство (некомбинированная выработка)+передача+сбыт","Некомбинированная выработка :: Сбыт :: Передача","/Тепловая энергия/Производство/Некомбинированная выработка :: /Тепловая энергия/Сбыт :: /Тепловая энергия/Передача","16-01-2002 00:00:00",null,"16-01-2002 00:00:00"]
[null,null,null,null,null,null,null,null,null,null,null,null,null,null,null,null,null,null,null,null,null,null,null,null,null,null,null,null,null,null,null,null,null,null,null,null,null,null,null,null,null,null,null,null,null,null,null,null,null,null,null,null,null,null,null,null,null,null,null,null,14,"Ставропольский край","Андроповский муниципальный район","07632000","Курсавский сельсовет","07632410","26355225","ГУП СК \"Крайтеплоэнерго\"","2635060510","263501001","производство (некомбинированная выработка)+передача+сбыт","Некомбинированная выработка :: Сбыт :: Передача","/Тепловая энергия/Производство/Некомбинированная выработка :: /Тепловая энергия/Сбыт :: /Тепловая энергия/Передача","16-01-2002 00:00:00",null,"16-01-2002 00:00:00"]
[null,null,null,null,null,null,null,null,null,null,null,null,null,null,null,null,null,null,null,null,null,null,null,null,null,null,null,null,null,null,null,null,null,null,null,null,null,null,null,null,null,null,null,null,null,null,null,null,null,null,null,null,null,null,null,null,null,null,null,null,15,"Ставропольский край","Андроповский муниципальный район","07632000","Солуно-Дмитриевский сельсовет","07632416","26355225","ГУП СК \"Крайтеплоэнерго\"","2635060510","263501001","производство (некомбинированная выработка)+передача+сбыт","Некомбинированная выработка :: Сбыт :: Передача","/Тепловая энергия/Производство/Некомбинированная выработка :: /Тепловая энергия/Сбыт :: /Тепловая энергия/Передача","16-01-2002 00:00:00",null,"16-01-2002 00:00:00"]
[null,null,null,null,null,null,null,null,null,null,null,null,null,null,null,null,null,null,null,null,null,null,null,null,null,null,null,null,null,null,null,null,null,null,null,null,null,null,null,null,null,null,null,null,null,null,null,null,null,null,null,null,null,null,null,null,null,null,null,null,16,"Ставропольский край","Андроповский муниципальный район","07632000","Солуно-Дмитриевский сельсовет","07632416","26355170","ООО \"ККЭБСЕ\" филиал в селе Солуно-Дмитриевское","7701215046","525801001","производство (некомбинированная выработка)+передача+сбыт","Некомбинированная выработка :: Сбыт :: Передача","/Тепловая энергия/Производство/Некомбинированная выработка :: /Тепловая энергия/Сбыт :: /Тепловая энергия/Передача","15-04-1999 00:00:00",null,"15-04-1999 00:00:00"]
[null,null,null,null,null,null,null,null,null,null,null,null,null,null,null,null,null,null,null,null,null,null,null,null,null,null,null,null,null,null,null,null,null,null,null,null,null,null,null,null,null,null,null,null,null,null,null,null,null,null,null,null,null,null,null,null,null,null,null,null,17,"Ставропольский край","Апанасенковский муниципальный район","07605000","Дербетовский сельсовет","07605416","26355225","ГУП СК \"Крайтеплоэнерго\"","2635060510","263501001","производство (некомбинированная выработка)+передача+сбыт","Некомбинированная выработка :: Сбыт :: Передача","/Тепловая энергия/Производство/Некомбинированная выработка :: /Тепловая энергия/Сбыт :: /Тепловая энергия/Передача","16-01-2002 00:00:00",null,"16-01-2002 00:00:00"]
[null,null,null,null,null,null,null,null,null,null,null,null,null,null,null,null,null,null,null,null,null,null,null,null,null,null,null,null,null,null,null,null,null,null,null,null,null,null,null,null,null,null,null,null,null,null,null,null,null,null,null,null,null,null,null,null,null,null,null,null,18,"Ставропольский край","Апанасенковский муниципальный район","07605000","Село Белые Копани","07605407","31062553","ООО \"КомС плюс\"","2602006892","260201001","производство (некомбинированная выработка)+передача+сбыт","Некомбинированная выработка :: Сбыт :: Передача","/Тепловая энергия/Производство/Некомбинированная выработка :: /Тепловая энергия/Сбыт :: /Тепловая энергия/Передача","26-06-2017 00:00:00",null,"01-01-2018 00:00:00"]
[null,null,null,null,null,null,null,null,null,null,null,null,null,null,null,null,null,null,null,null,null,null,null,null,null,null,null,null,null,null,null,null,null,null,null,null,null,null,null,null,null,null,null,null,null,null,null,null,null,null,null,null,null,null,null,null,null,null,null,null,19,"Ставропольский край","Апанасенковский муниципальный район","07605000","Село Белые Копани","07605407","31062553","ООО \"КомС плюс\"","2602006892","260201001","Теплоноситель - Сбыт :: Производство :: Передача","Сбыт :: Производство :: Передача","/Теплоноситель/Сбыт :: /Теплоноситель/Производство :: /Теплоноситель/Передача","26-06-2017 00:00:00",null,"01-01-2018 00:00:00"]
[null,null,null,null,null,null,null,null,null,null,null,null,null,null,null,null,null,null,null,null,null,null,null,null,null,null,null,null,null,null,null,null,null,null,null,null,null,null,null,null,null,null,null,null,null,null,null,null,null,null,null,null,null,null,null,null,null,null,null,null,20,"Ставропольский край","Апанасенковский муниципальный район","07605000","Село Дивное","07605419","26355225","ГУП СК \"Крайтеплоэнерго\"","2635060510","263501001","производство (некомбинированная выработка)+передача+сбыт","Некомбинированная выработка :: Сбыт :: Передача","/Тепловая энергия/Производство/Некомбинированная выработка :: /Тепловая энергия/Сбыт :: /Тепловая энергия/Передача","16-01-2002 00:00:00",null,"16-01-2002 00:00:00"]
[null,null,null,null,null,null,null,null,null,null,null,null,null,null,null,null,null,null,null,null,null,null,null,null,null,null,null,null,null,null,null,null,null,null,null,null,null,null,null,null,null,null,null,null,null,null,null,null,null,null,null,null,null,null,null,null,null,null,null,null,21,"Ставропольский край","Апанасенковский муниципальный район","07605000","Село Дивное","07605419","31062553","ООО \"КомС плюс\"","2602006892","260201001","Теплоноситель - Сбыт :: Производство :: Передача","Сбыт :: Производство :: Передача","/Теплоноситель/Сбыт :: /Теплоноситель/Производство :: /Теплоноситель/Передача","26-06-2017 00:00:00",null,"01-01-2018 00:00:00"]
[null,null,null,null,null,null,null,null,null,null,null,null,null,null,null,null,null,null,null,null,null,null,null,null,null,null,null,null,null,null,null,null,null,null,null,null,null,null,null,null,null,null,null,null,null,null,null,null,null,null,null,null,null,null,null,null,null,null,null,null,22,"Ставропольский край","Апанасенковский муниципальный район","07605000","Село Дивное","07605419","31062553","ООО \"КомС плюс\"","2602006892","260201001","производство (некомбинированная выработка)+передача+сбыт","Некомбинированная выработка :: Сбыт :: Передача","/Тепловая энергия/Производство/Некомбинированная выработка :: /Тепловая энергия/Сбыт :: /Тепловая энергия/Передача","26-06-2017 00:00:00",null,"01-01-2018 00:00:00"]
[null,null,null,null,null,null,null,null,null,null,null,null,null,null,null,null,null,null,null,null,null,null,null,null,null,null,null,null,null,null,null,null,null,null,null,null,null,null,null,null,null,null,null,null,null,null,null,null,null,null,null,null,null,null,null,null,null,null,null,null,23,"Ставропольский край","Апанасенковский муниципальный район","07605000","Село Дивное","07605419","26816056","Северо-Кавказская дирекция по тепловодоснабжению структурное подразделение Центральной дирекции по тепловодоснабжению - филиала ОАО \"РЖД\"","7708503727","616745019","производство (некомбинированная выработка)+передача+сбыт","Некомбинированная выработка :: Сбыт :: Передача","/Тепловая энергия/Производство/Некомбинированная выработка :: /Тепловая энергия/Сбыт :: /Тепловая энергия/Передача",null,null,"25-04-2011 00:00:00"]
[null,null,null,null,null,null,null,null,null,null,null,null,null,null,null,null,null,null,null,null,null,null,null,null,null,null,null,null,null,null,null,null,null,null,null,null,null,null,null,null,null,null,null,null,null,null,null,null,null,null,null,null,null,null,null,null,null,null,null,null,24,"Ставропольский край","Арзгирский муниципальный район","07607000","Арзгирский сельсовет","07607402","26355171","МУП КХ Арзгирского района","2604000247","260401001","производство (некомбинированная выработка)+передача+сбыт","Некомбинированная выработка :: Сбыт :: Передача","/Тепловая энергия/Производство/Некомбинированная выработка :: /Тепловая энергия/Сбыт :: /Тепловая энергия/Передача","03-07-2000 00:00:00",null,"03-07-2000 00:00:00"]
[null,null,null,null,null,null,null,null,null,null,null,null,null,null,null,null,null,null,null,null,null,null,null,null,null,null,null,null,null,null,null,null,null,null,null,null,null,null,null,null,null,null,null,null,null,null,null,null,null,null,null,null,null,null,null,null,null,null,null,null,25,"Ставропольский край","Арзгирский муниципальный район","07607000","Арзгирский сельсовет","07607402","30923515","ФГБУ \"Центральное жилищно-коммунальное управление\" Министерства обороны РФ","7729314745","616543001","производство (некомбинированная выработка)+сбыт","Некомбинированная выработка :: Сбыт","/Тепловая энергия/Производство/Некомбинированная выработка :: /Тепловая энергия/Сбыт","14-11-2002 00:00:00",null,"01-07-2017 00:00:00"]
[null,null,null,null,null,null,null,null,null,null,null,null,null,null,null,null,null,null,null,null,null,null,null,null,null,null,null,null,null,null,null,null,null,null,null,null,null,null,null,null,null,null,null,null,null,null,null,null,null,null,null,null,null,null,null,null,null,null,null,null,26,"Ставропольский край","Благодарненский","07705000","Благодарненский","07705000","26355225","ГУП СК \"Крайтеплоэнерго\"","2635060510","263501001","производство (некомбинированная выработка)+передача+сбыт","Некомбинированная выработка :: Сбыт :: Передача","/Тепловая энергия/Производство/Некомбинированная выработка :: /Тепловая энергия/Сбыт :: /Тепловая энергия/Передача","16-01-2002 00:00:00",null,"16-01-2002 00:00:00"]
[null,null,null,null,null,null,null,null,null,null,null,null,null,null,null,null,null,null,null,null,null,null,null,null,null,null,null,null,null,null,null,null,null,null,null,null,null,null,null,null,null,null,null,null,null,null,null,null,null,null,null,null,null,null,null,null,null,null,null,null,27,"Ставропольский край","Благодарненский","07705000","Благодарненский","07705000","26322297","Северо-Кавказский филиал ООО \"Газпром энерго\"","7736186950","263602001","Теплоноситель - Производство","Производство","/Теплоноситель/Производство","27-07-1998 00:00:00",null,"18-01-2016 00:00:00"]
[null,null,null,null,null,null,null,null,null,null,null,null,null,null,null,null,null,null,null,null,null,null,null,null,null,null,null,null,null,null,null,null,null,null,null,null,null,null,null,null,null,null,null,null,null,null,null,null,null,null,null,null,null,null,null,null,null,null,null,null,28,"Ставропольский край","Благодарненский","07705000","Благодарненский","07705000","26322297","Северо-Кавказский филиал ООО \"Газпром энерго\"","7736186950","263602001","производство (некомбинированная выработка)+передача","Некомбинированная выработка :: Передача","/Тепловая энергия/Производство/Некомбинированная выработка :: /Тепловая энергия/Передача","27-07-1998 00:00:00",null,"02-01-2012 00:00:00"]
[null,null,null,null,null,null,null,null,null,null,null,null,null,null,null,null,null,null,null,null,null,null,null,null,null,null,null,null,null,null,null,null,null,null,null,null,null,null,null,null,null,null,null,null,null,null,null,null,null,null,null,null,null,null,null,null,null,null,null,null,29,"Ставропольский край","Будённовский муниципальный район","07612000","Архиповский сельсовет","07612404","26355225","ГУП СК \"Крайтеплоэнерго\"","2635060510","263501001","производство (некомбинированная выработка)+передача+сбыт","Некомбинированная выработка :: Сбыт :: Передача","/Тепловая энергия/Производство/Некомбинированная выработка :: /Тепловая энергия/Сбыт :: /Тепловая энергия/Передача","16-01-2002 00:00:00",null,"16-01-2002 00:00:00"]
[null,null,null,null,null,null,null,null,null,null,null,null,null,null,null,null,null,null,null,null,null,null,null,null,null,null,null,null,null,null,null,null,null,null,null,null,null,null,null,null,null,null,null,null,null,null,null,null,null,null,null,null,null,null,null,null,null,null,null,null,30,"Ставропольский край","Будённовский муниципальный район","07612000","Город Буденновск","07612101","26355225","ГУП СК \"Крайтеплоэнерго\"","2635060510","263501001","производство (некомбинированная выработка)+передача+сбыт","Некомбинированная выработка :: Сбыт :: Передача","/Тепловая энергия/Производство/Некомбинированная выработка :: /Тепловая энергия/Сбыт :: /Тепловая энергия/Передача","16-01-2002 00:00:00",null,"16-01-2002 00:00:00"]
[null,null,null,null,null,null,null,null,null,null,null,null,null,null,null,null,null,null,null,null,null,null,null,null,null,null,null,null,null,null,null,null,null,null,null,null,null,null,null,null,null,null,null,null,null,null,null,null,null,null,null,null,null,null,null,null,null,null,null,null,31,"Ставропольский край","Будённовский муниципальный район","07612000","Город Буденновск","07612101","26816056","Северо-Кавказская дирекция по тепловодоснабжению структурное подразделение Центральной дирекции по тепловодоснабжению - филиала ОАО \"РЖД\"","7708503727","616745019","производство (некомбинированная выработка)+передача+сбыт","Некомбинированная выработка :: Сбыт :: Передача","/Тепловая энергия/Производство/Некомбинированная выработка :: /Тепловая энергия/Сбыт :: /Тепловая энергия/Передача",null,null,"25-04-2011 00:00:00"]
[null,null,null,null,null,null,null,null,null,null,null,null,null,null,null,null,null,null,null,null,null,null,null,null,null,null,null,null,null,null,null,null,null,null,null,null,null,null,null,null,null,null,null,null,null,null,null,null,null,null,null,null,null,null,null,null,null,null,null,null,32,"Ставропольский край","Будённовский муниципальный район","07612000","Город Буденновск","07612101","30923515","ФГБУ \"Центральное жилищно-коммунальное управление\" Министерства обороны РФ","7729314745","616543001","производство (некомбинированная выработка)+передача+сбыт","Некомбинированная выработка :: Сбыт :: Передача","/Тепловая энергия/Производство/Некомбинированная выработка :: /Тепловая энергия/Сбыт :: /Тепловая энергия/Передача","14-11-2002 00:00:00",null,"01-07-2017 00:00:00"]
[null,null,null,null,null,null,null,null,null,null,null,null,null,null,null,null,null,null,null,null,null,null,null,null,null,null,null,null,null,null,null,null,null,null,null,null,null,null,null,null,null,null,null,null,null,null,null,null,null,null,null,null,null,null,null,null,null,null,null,null,33,"Ставропольский край","Будённовский муниципальный район","07612000","Искровский сельсовет","07612407","26355225","ГУП СК \"Крайтеплоэнерго\"","2635060510","263501001","производство (некомбинированная выработка)+передача+сбыт","Некомбинированная выработка :: Сбыт :: Передача","/Тепловая энергия/Производство/Некомбинированная выработка :: /Тепловая энергия/Сбыт :: /Тепловая энергия/Передача","16-01-2002 00:00:00",null,"16-01-2002 00:00:00"]
[null,null,null,null,null,null,null,null,null,null,null,null,null,null,null,null,null,null,null,null,null,null,null,null,null,null,null,null,null,null,null,null,null,null,null,null,null,null,null,null,null,null,null,null,null,null,null,null,null,null,null,null,null,null,null,null,null,null,null,null,34,"Ставропольский край","Будённовский муниципальный район","07612000","Краснооктябрьский сельсовет","07612409","26355225","ГУП СК \"Крайтеплоэнерго\"","2635060510","263501001","производство (некомбинированная выработка)+передача+сбыт","Некомбинированная выработка :: Сбыт :: Передача","/Тепловая энергия/Производство/Некомбинированная выработка :: /Тепловая энергия/Сбыт :: /Тепловая энергия/Передача","16-01-2002 00:00:00",null,"16-01-2002 00:00:00"]
[null,null,null,null,null,null,null,null,null,null,null,null,null,null,null,null,null,null,null,null,null,null,null,null,null,null,null,null,null,null,null,null,null,null,null,null,null,null,null,null,null,null,null,null,null,null,null,null,null,null,null,null,null,null,null,null,null,null,null,null,35,"Ставропольский край","Будённовский муниципальный район","07612000","Новожизненский сельсовет","07612410","26355225","ГУП СК \"Крайтеплоэнерго\"","2635060510","263501001","производство (некомбинированная выработка)+передача+сбыт","Некомбинированная выработка :: Сбыт :: Передача","/Тепловая энергия/Производство/Некомбинированная выработка :: /Тепловая энергия/Сбыт :: /Тепловая энергия/Передача","16-01-2002 00:00:00",null,"16-01-2002 00:00:00"]
[null,null,null,null,null,null,null,null,null,null,null,null,null,null,null,null,null,null,null,null,null,null,null,null,null,null,null,null,null,null,null,null,null,null,null,null,null,null,null,null,null,null,null,null,null,null,null,null,null,null,null,null,null,null,null,null,null,null,null,null,36,"Ставропольский край","Будённовский муниципальный район","07612000","Орловский сельсовет","07612413","26355225","ГУП СК \"Крайтеплоэнерго\"","2635060510","263501001","производство (некомбинированная выработка)+передача+сбыт","Некомбинированная выработка :: Сбыт :: Передача","/Тепловая энергия/Производство/Некомбинированная выработка :: /Тепловая энергия/Сбыт :: /Тепловая энергия/Передача","16-01-2002 00:00:00",null,"16-01-2002 00:00:00"]
[null,null,null,null,null,null,null,null,null,null,null,null,null,null,null,null,null,null,null,null,null,null,null,null,null,null,null,null,null,null,null,null,null,null,null,null,null,null,null,null,null,null,null,null,null,null,null,null,null,null,null,null,null,null,null,null,null,null,null,null,37,"Ставропольский край","Будённовский муниципальный район","07612000","Покойненский сельсовет","07612416","26355225","ГУП СК \"Крайтеплоэнерго\"","2635060510","263501001","производство (некомбинированная выработка)+передача+сбыт","Некомбинированная выработка :: Сбыт :: Передача","/Тепловая энергия/Производство/Некомбинированная выработка :: /Тепловая энергия/Сбыт :: /Тепловая энергия/Передача","16-01-2002 00:00:00",null,"16-01-2002 00:00:00"]
[null,null,null,null,null,null,null,null,null,null,null,null,null,null,null,null,null,null,null,null,null,null,null,null,null,null,null,null,null,null,null,null,null,null,null,null,null,null,null,null,null,null,null,null,null,null,null,null,null,null,null,null,null,null,null,null,null,null,null,null,38,"Ставропольский край","Будённовский муниципальный район","07612000","Преображенский сельсовет","07612420","26355225","ГУП СК \"Крайтеплоэнерго\"","2635060510","263501001","производство (некомбинированная выработка)+передача+сбыт","Некомбинированная выработка :: Сбыт :: Передача","/Тепловая энергия/Производство/Некомбинированная выработка :: /Тепловая энергия/Сбыт :: /Тепловая энергия/Передача","16-01-2002 00:00:00",null,"16-01-2002 00:00:00"]
[null,null,null,null,null,null,null,null,null,null,null,null,null,null,null,null,null,null,null,null,null,null,null,null,null,null,null,null,null,null,null,null,null,null,null,null,null,null,null,null,null,null,null,null,null,null,null,null,null,null,null,null,null,null,null,null,null,null,null,null,39,"Ставропольский край","Будённовский муниципальный район","07612000","Село Архангельское","07612402","26355225","ГУП СК \"Крайтеплоэнерго\"","2635060510","263501001","производство (некомбинированная выработка)+передача+сбыт","Некомбинированная выработка :: Сбыт :: Передача","/Тепловая энергия/Производство/Некомбинированная выработка :: /Тепловая энергия/Сбыт :: /Тепловая энергия/Передача","16-01-2002 00:00:00",null,"16-01-2002 00:00:00"]
[null,null,null,null,null,null,null,null,null,null,null,null,null,null,null,null,null,null,null,null,null,null,null,null,null,null,null,null,null,null,null,null,null,null,null,null,null,null,null,null,null,null,null,null,null,null,null,null,null,null,null,null,null,null,null,null,null,null,null,null,40,"Ставропольский край","Будённовский муниципальный район","07612000","Село Прасковея","07612419","31246558","ГБПОУ ПАТТ","2624000742","262401001","производство (некомбинированная выработка)+сбыт","Некомбинированная выработка :: Сбыт","/Тепловая энергия/Производство/Некомбинированная выработка :: /Тепловая энергия/Сбыт","11-12-2002 00:00:00",null,"12-02-2019 00:00:00"]
[null,null,null,null,null,null,null,null,null,null,null,null,null,null,null,null,null,null,null,null,null,null,null,null,null,null,null,null,null,null,null,null,null,null,null,null,null,null,null,null,null,null,null,null,null,null,null,null,null,null,null,null,null,null,null,null,null,null,null,null,41,"Ставропольский край","Будённовский муниципальный район","07612000","Село Прасковея","07612419","26355225","ГУП СК \"Крайтеплоэнерго\"","2635060510","263501001","производство (некомбинированная выработка)+передача+сбыт","Некомбинированная выработка :: Сбыт :: Передача","/Тепловая энергия/Производство/Некомбинированная выработка :: /Тепловая энергия/Сбыт :: /Тепловая энергия/Передача","16-01-2002 00:00:00",null,"16-01-2002 00:00:00"]
[null,null,null,null,null,null,null,null,null,null,null,null,null,null,null,null,null,null,null,null,null,null,null,null,null,null,null,null,null,null,null,null,null,null,null,null,null,null,null,null,null,null,null,null,null,null,null,null,null,null,null,null,null,null,null,null,null,null,null,null,42,"Ставропольский край","Будённовский муниципальный район","07612000","Село Толстово-Васюковское","07612427","26355225","ГУП СК \"Крайтеплоэнерго\"","2635060510","263501001","производство (некомбинированная выработка)+передача+сбыт","Некомбинированная выработка :: Сбыт :: Передача","/Тепловая энергия/Производство/Некомбинированная выработка :: /Тепловая энергия/Сбыт :: /Тепловая энергия/Передача","16-01-2002 00:00:00",null,"16-01-2002 00:00:00"]
[null,null,null,null,null,null,null,null,null,null,null,null,null,null,null,null,null,null,null,null,null,null,null,null,null,null,null,null,null,null,null,null,null,null,null,null,null,null,null,null,null,null,null,null,null,null,null,null,null,null,null,null,null,null,null,null,null,null,null,null,43,"Ставропольский край","Будённовский муниципальный район","07612000","Стародубский сельсовет","07612422","26355225","ГУП СК \"Крайтеплоэнерго\"","2635060510","263501001","производство (некомбинированная выработка)+передача+сбыт","Некомбинированная выработка :: Сбыт :: Передача","/Тепловая энергия/Производство/Некомбинированная выработка :: /Тепловая энергия/Сбыт :: /Тепловая энергия/Передача","16-01-2002 00:00:00",null,"16-01-2002 00:00:00"]
[null,null,null,null,null,null,null,null,null,null,null,null,null,null,null,null,null,null,null,null,null,null,null,null,null,null,null,null,null,null,null,null,null,null,null,null,null,null,null,null,null,null,null,null,null,null,null,null,null,null,null,null,null,null,null,null,null,null,null,null,44,"Ставропольский край","Будённовский муниципальный район","07612000","Терский сельсовет","07612425","26355225","ГУП СК \"Крайтеплоэнерго\"","2635060510","263501001","производство (некомбинированная выработка)+передача+сбыт","Некомбинированная выработка :: Сбыт :: Передача","/Тепловая энергия/Производство/Некомбинированная выработка :: /Тепловая энергия/Сбыт :: /Тепловая энергия/Передача","16-01-2002 00:00:00",null,"16-01-2002 00:00:00"]
[null,null,null,null,null,null,null,null,null,null,null,null,null,null,null,null,null,null,null,null,null,null,null,null,null,null,null,null,null,null,null,null,null,null,null,null,null,null,null,null,null,null,null,null,null,null,null,null,null,null,null,null,null,null,null,null,null,null,null,null,45,"Ставропольский край","Будённовский муниципальный район","07612000","Томузловский сельсовет","07612429","26355225","ГУП СК \"Крайтеплоэнерго\"","2635060510","263501001","производство (некомбинированная выработка)+передача+сбыт","Некомбинированная выработка :: Сбыт :: Передача","/Тепловая энергия/Производство/Некомбинированная выработка :: /Тепловая энергия/Сбыт :: /Тепловая энергия/Передача","16-01-2002 00:00:00",null,"16-01-2002 00:00:00"]
[null,null,null,null,null,null,null,null,null,null,null,null,null,null,null,null,null,null,null,null,null,null,null,null,null,null,null,null,null,null,null,null,null,null,null,null,null,null,null,null,null,null,null,null,null,null,null,null,null,null,null,null,null,null,null,null,null,null,null,null,46,"Ставропольский край","Георгиевский","07707000","Георгиевский","07707000","26355187","АО \"Хлебокомбинат \"Георгиевский\"","2625012571","262501001","производство (некомбинированная выработка)+передача+сбыт","Некомбинированная выработка :: Сбыт :: Передача","/Тепловая энергия/Производство/Некомбинированная выработка :: /Тепловая энергия/Сбыт :: /Тепловая энергия/Передача","29-10-1992 00:00:00",null,"29-10-1992 00:00:00"]
[null,null,null,null,null,null,null,null,null,null,null,null,null,null,null,null,null,null,null,null,null,null,null,null,null,null,null,null,null,null,null,null,null,null,null,null,null,null,null,null,null,null,null,null,null,null,null,null,null,null,null,null,null,null,null,null,null,null,null,null,47,"Ставропольский край","Георгиевский","07707000","Георгиевский","07707000","26355225","ГУП СК \"Крайтеплоэнерго\"","2635060510","263501001","производство (некомбинированная выработка)+передача+сбыт","Некомбинированная выработка :: Сбыт :: Передача","/Тепловая энергия/Производство/Некомбинированная выработка :: /Тепловая энергия/Сбыт :: /Тепловая энергия/Передача","16-01-2002 00:00:00",null,"16-01-2002 00:00:00"]
[null,null,null,null,null,null,null,null,null,null,null,null,null,null,null,null,null,null,null,null,null,null,null,null,null,null,null,null,null,null,null,null,null,null,null,null,null,null,null,null,null,null,null,null,null,null,null,null,null,null,null,null,null,null,null,null,null,null,null,null,48,"Ставропольский край","Георгиевский","07707000","Георгиевский","07707000","26355185","ГУП СК \"Теплосеть\"","2625002189","262501001","производство (некомбинированная выработка)+передача+сбыт","Некомбинированная выработка :: Сбыт :: Передача","/Тепловая энергия/Производство/Некомбинированная выработка :: /Тепловая энергия/Сбыт :: /Тепловая энергия/Передача",null,null,"15-09-2008 00:00:00"]
[null,null,null,null,null,null,null,null,null,null,null,null,null,null,null,null,null,null,null,null,null,null,null,null,null,null,null,null,null,null,null,null,null,null,null,null,null,null,null,null,null,null,null,null,null,null,null,null,null,null,null,null,null,null,null,null,null,null,null,null,49,"Ставропольский край","Георгиевский","07707000","Георгиевский","07707000","26816056","Северо-Кавказская дирекция по тепловодоснабжению структурное подразделение Центральной дирекции по тепловодоснабжению - филиала ОАО \"РЖД\"","7708503727","616745019","производство (некомбинированная выработка)+передача+сбыт","Некомбинированная выработка :: Сбыт :: Передача","/Тепловая энергия/Производство/Некомбинированная выработка :: /Тепловая энергия/Сбыт :: /Тепловая энергия/Передача",null,null,"25-04-2011 00:00:00"]
[null,null,null,null,null,null,null,null,null,null,null,null,null,null,null,null,null,null,null,null,null,null,null,null,null,null,null,null,null,null,null,null,null,null,null,null,null,null,null,null,null,null,null,null,null,null,null,null,null,null,null,null,null,null,null,null,null,null,null,null,50,"Ставропольский край","Георгиевский","07707000","Георгиевский","07707000","30923515","ФГБУ \"Центральное жилищно-коммунальное управление\" Министерства обороны РФ","7729314745","616543001","Теплоноситель - Сбыт :: Производство :: Передача","Сбыт :: Производство :: Передача","/Теплоноситель/Сбыт :: /Теплоноситель/Производство :: /Теплоноситель/Передача","14-11-2002 00:00:00",null,"17-12-2018 00:00:00"]
[null,null,null,null,null,null,null,null,null,null,null,null,null,null,null,null,null,null,null,null,null,null,null,null,null,null,null,null,null,null,null,null,null,null,null,null,null,null,null,null,null,null,null,null,null,null,null,null,null,null,null,null,null,null,null,null,null,null,null,null,51,"Ставропольский край","Георгиевский","07707000","Георгиевский","07707000","30923515","ФГБУ \"Центральное жилищно-коммунальное управление\" Министерства обороны РФ","7729314745","616543001","производство (некомбинированная выработка)+передача+сбыт","Некомбинированная выработка :: Сбыт :: Передача","/Тепловая энергия/Производство/Некомбинированная выработка :: /Тепловая энергия/Сбыт :: /Тепловая энергия/Передача","14-11-2002 00:00:00",null,"17-12-2018 00:00:00"]
[null,null,null,null,null,null,null,null,null,null,null,null,null,null,null,null,null,null,null,null,null,null,null,null,null,null,null,null,null,null,null,null,null,null,null,null,null,null,null,null,null,null,null,null,null,null,null,null,null,null,null,null,null,null,null,null,null,null,null,null,52,"Ставропольский край","Город Лермонтов","07718000","Город Лермонтов","07718000","26360929","ЗАО \"ЮЭК\" филиал в г. Лермонтов Ставропольского края","7704262319","262902001","производство комбинированная выработка","Комбинированная выработка :: Сбыт :: Передача","/Тепловая энергия/Производство/Комбинированная выработка :: /Тепловая энергия/Сбыт :: /Тепловая энергия/Передача","23-05-2003 00:00:00",null,"23-05-2003 00:00:00"]
[null,null,null,null,null,null,null,null,null,null,null,null,null,null,null,null,null,null,null,null,null,null,null,null,null,null,null,null,null,null,null,null,null,null,null,null,null,null,null,null,null,null,null,null,null,null,null,null,null,null,null,null,null,null,null,null,null,null,null,null,53,"Ставропольский край","Город Лермонтов","07718000","Город Лермонтов","07718000","26360929","ЗАО \"ЮЭК\" филиал в г. Лермонтов Ставропольского края","7704262319","262902001","Теплоноситель - Сбыт :: Производство :: Передача","Сбыт :: Производство :: Передача","/Теплоноситель/Сбыт :: /Теплоноситель/Производство :: /Теплоноситель/Передача","23-05-2003 00:00:00",null,"23-05-2003 00:00:00"]
[null,null,null,null,null,null,null,null,null,null,null,null,null,null,null,null,null,null,null,null,null,null,null,null,null,null,null,null,null,null,null,null,null,null,null,null,null,null,null,null,null,null,null,null,null,null,null,null,null,null,null,null,null,null,null,null,null,null,null,null,54,"Ставропольский край","Город Лермонтов","07718000","Город Лермонтов","07718000","26383213","МУП \"Лермонтовгоргаз\"","2629005046","262901001","производство (некомбинированная выработка)+сбыт","Некомбинированная выработка :: Сбыт","/Тепловая энергия/Производство/Некомбинированная выработка :: /Тепловая энергия/Сбыт","21-11-2002 00:00:00",null,"21-11-2002 00:00:00"]
[null,null,null,null,null,null,null,null,null,null,null,null,null,null,null,null,null,null,null,null,null,null,null,null,null,null,null,null,null,null,null,null,null,null,null,null,null,null,null,null,null,null,null,null,null,null,null,null,null,null,null,null,null,null,null,null,null,null,null,null,55,"Ставропольский край","Город Невинномысск","07724000","Город Невинномысск","07724000","26419409","АО \"Невинномысский Азот\"","2631015563","263101001","производство (некомбинированная выработка)+передача+сбыт","Некомбинированная выработка :: Сбыт :: Передача","/Тепловая энергия/Производство/Некомбинированная выработка :: /Тепловая энергия/Сбыт :: /Тепловая энергия/Передача","31-12-1992 00:00:00",null,"31-12-1992 00:00:00"]
[null,null,null,null,null,null,null,null,null,null,null,null,null,null,null,null,null,null,null,null,null,null,null,null,null,null,null,null,null,null,null,null,null,null,null,null,null,null,null,null,null,null,null,null,null,null,null,null,null,null,null,null,null,null,null,null,null,null,null,null,56,"Ставропольский край","Город Невинномысск","07724000","Город Невинномысск","07724000","26355198","АО \"Теплосеть\" г. Невинномысск","2631054298","263101001","производство (некомбинированная выработка)+передача+сбыт","Некомбинированная выработка :: Сбыт :: Передача","/Тепловая энергия/Производство/Некомбинированная выработка :: /Тепловая энергия/Сбыт :: /Тепловая энергия/Передача",null,null,"15-09-2008 00:00:00"]
[null,null,null,null,null,null,null,null,null,null,null,null,null,null,null,null,null,null,null,null,null,null,null,null,null,null,null,null,null,null,null,null,null,null,null,null,null,null,null,null,null,null,null,null,null,null,null,null,null,null,null,null,null,null,null,null,null,null,null,null,57,"Ставропольский край","Город Невинномысск","07724000","Город Невинномысск","07724000","26355225","ГУП СК \"Крайтеплоэнерго\"","2635060510","263501001","производство (некомбинированная выработка)+передача+сбыт","Некомбинированная выработка :: Сбыт :: Передача","/Тепловая энергия/Производство/Некомбинированная выработка :: /Тепловая энергия/Сбыт :: /Тепловая энергия/Передача","16-01-2002 00:00:00",null,"16-01-2002 00:00:00"]
[null,null,null,null,null,null,null,null,null,null,null,null,null,null,null,null,null,null,null,null,null,null,null,null,null,null,null,null,null,null,null,null,null,null,null,null,null,null,null,null,null,null,null,null,null,null,null,null,null,null,null,null,null,null,null,null,null,null,null,null,58,"Ставропольский край","Город Невинномысск","07724000","Город Невинномысск","07724000","26355197","ОАО \"Квант-Энергия\"","2631002155","263101001","производство (некомбинированная выработка)+сбыт","Некомбинированная выработка :: Сбыт","/Тепловая энергия/Производство/Некомбинированная выработка :: /Тепловая энергия/Сбыт","13-12-1994 00:00:00",null,"13-12-1994 00:00:00"]
[null,null,null,null,null,null,null,null,null,null,null,null,null,null,null,null,null,null,null,null,null,null,null,null,null,null,null,null,null,null,null,null,null,null,null,null,null,null,null,null,null,null,null,null,null,null,null,null,null,null,null,null,null,null,null,null,null,null,null,null,59,"Ставропольский край","Город Невинномысск","07724000","Город Невинномысск","07724000","30853665","ООО \"Теплоснаб-НШК\"","2631806212","263101001","Теплоноситель - Сбыт :: Производство :: Передача","Сбыт :: Производство :: Передача","/Теплоноситель/Сбыт :: /Теплоноситель/Производство :: /Теплоноситель/Передача","21-11-2014 00:00:00",null,"25-11-2016 00:00:00"]
[null,null,null,null,null,null,null,null,null,null,null,null,null,null,null,null,null,null,null,null,null,null,null,null,null,null,null,null,null,null,null,null,null,null,null,null,null,null,null,null,null,null,null,null,null,null,null,null,null,null,null,null,null,null,null,null,null,null,null,null,60,"Ставропольский край","Город Невинномысск","07724000","Город Невинномысск","07724000","30853665","ООО \"Теплоснаб-НШК\"","2631806212","263101001","производство (некомбинированная выработка)+передача+сбыт","Некомбинированная выработка :: Сбыт :: Передача","/Тепловая энергия/Производство/Некомбинированная выработка :: /Тепловая энергия/Сбыт :: /Тепловая энергия/Передача","21-11-2014 00:00:00",null,"25-11-2016 00:00:00"]
[null,null,null,null,null,null,null,null,null,null,null,null,null,null,null,null,null,null,null,null,null,null,null,null,null,null,null,null,null,null,null,null,null,null,null,null,null,null,null,null,null,null,null,null,null,null,null,null,null,null,null,null,null,null,null,null,null,null,null,null,61,"Ставропольский край","Город Невинномысск","07724000","Город Невинномысск","07724000","26318929","ПАО \"Ставропольэнергосбыт\"","2626033550","785150001","производство (некомбинированная выработка)+передача+сбыт","Некомбинированная выработка :: Сбыт :: Передача","/Тепловая энергия/Производство/Некомбинированная выработка :: /Тепловая энергия/Сбыт :: /Тепловая энергия/Передача","01-04-2005 00:00:00",null,"03-12-2018 00:00:00"]
[null,null,null,null,null,null,null,null,null,null,null,null,null,null,null,null,null,null,null,null,null,null,null,null,null,null,null,null,null,null,null,null,null,null,null,null,null,null,null,null,null,null,null,null,null,null,null,null,null,null,null,null,null,null,null,null,null,null,null,null,62,"Ставропольский край","Город Невинномысск","07724000","Город Невинномысск","07724000","30923515","ФГБУ \"Центральное жилищно-коммунальное управление\" Министерства обороны РФ","7729314745","616543001","производство (некомбинированная выработка)+передача+сбыт","Некомбинированная выработка :: Сбыт :: Передача","/Тепловая энергия/Производство/Некомбинированная выработка :: /Тепловая энергия/Сбыт :: /Тепловая энергия/Передача","14-11-2002 00:00:00",null,"01-07-2017 00:00:00"]
[null,null,null,null,null,null,null,null,null,null,null,null,null,null,null,null,null,null,null,null,null,null,null,null,null,null,null,null,null,null,null,null,null,null,null,null,null,null,null,null,null,null,null,null,null,null,null,null,null,null,null,null,null,null,null,null,null,null,null,null,63,"Ставропольский край","Город Невинномысск","07724000","Город Невинномысск","07724000","26416944","Филиал \"Невинномысская ГРЭС\" ПАО \"Энел Россия\"","6671156423","263102001","производство комбинированная выработка","Комбинированная выработка :: Сбыт","/Тепловая энергия/Производство/Комбинированная выработка :: /Тепловая энергия/Сбыт","27-10-2004 00:00:00",null,"27-10-2004 00:00:00"]
[null,null,null,null,null,null,null,null,null,null,null,null,null,null,null,null,null,null,null,null,null,null,null,null,null,null,null,null,null,null,null,null,null,null,null,null,null,null,null,null,null,null,null,null,null,null,null,null,null,null,null,null,null,null,null,null,null,null,null,null,64,"Ставропольский край","Город Ставрополь","07701000","Город Ставрополь","07701000","26355211","АО \"Теплосеть\" г. Ставрополь","2635095930","263501001","производство (некомбинированная выработка)+передача+сбыт","Некомбинированная выработка :: Сбыт :: Передача","/Тепловая энергия/Производство/Некомбинированная выработка :: /Тепловая энергия/Сбыт :: /Тепловая энергия/Передача","13-12-2006 00:00:00",null,"13-12-2006 00:00:00"]
[null,null,null,null,null,null,null,null,null,null,null,null,null,null,null,null,null,null,null,null,null,null,null,null,null,null,null,null,null,null,null,null,null,null,null,null,null,null,null,null,null,null,null,null,null,null,null,null,null,null,null,null,null,null,null,null,null,null,null,null,65,"Ставропольский край","Город Ставрополь","07701000","Город Ставрополь","07701000","26355225","ГУП СК \"Крайтеплоэнерго\"","2635060510","263501001","производство (некомбинированная выработка)+передача+сбыт","Некомбинированная выработка :: Сбыт :: Передача","/Тепловая энергия/Производство/Некомбинированная выработка :: /Тепловая энергия/Сбыт :: /Тепловая энергия/Передача","16-01-2002 00:00:00",null,"31-05-2016 00:00:00"]
[null,null,null,null,null,null,null,null,null,null,null,null,null,null,null,null,null,null,null,null,null,null,null,null,null,null,null,null,null,null,null,null,null,null,null,null,null,null,null,null,null,null,null,null,null,null,null,null,null,null,null,null,null,null,null,null,null,null,null,null,66,"Ставропольский край","Город Ставрополь","07701000","Город Ставрополь","07701000","29649010","ИП Кашурина Дарья Андреевна","263408566507","отсутствует","производство (некомбинированная выработка)+передача","Некомбинированная выработка :: Передача","/Тепловая энергия/Производство/Некомбинированная выработка :: /Тепловая энергия/Передача","14-09-2015 00:00:00",null,"14-09-2015 00:00:00"]
[null,null,null,null,null,null,null,null,null,null,null,null,null,null,null,null,null,null,null,null,null,null,null,null,null,null,null,null,null,null,null,null,null,null,null,null,null,null,null,null,null,null,null,null,null,null,null,null,null,null,null,null,null,null,null,null,null,null,null,null,67,"Ставропольский край","Город Ставрополь","07701000","Город Ставрополь","07701000","30479512","ИП Согоян Геворг Владимирович","263410214911","отсутствует","производство (некомбинированная выработка)+передача+сбыт","Некомбинированная выработка :: Сбыт :: Передача","/Тепловая энергия/Производство/Некомбинированная выработка :: /Тепловая энергия/Сбыт :: /Тепловая энергия/Передача","24-12-2015 00:00:00",null,"10-02-2016 00:00:00"]
[null,null,null,null,null,null,null,null,null,null,null,null,null,null,null,null,null,null,null,null,null,null,null,null,null,null,null,null,null,null,null,null,null,null,null,null,null,null,null,null,null,null,null,null,null,null,null,null,null,null,null,null,null,null,null,null,null,null,null,null,68,"Ставропольский край","Город Ставрополь","07701000","Город Ставрополь","07701000","26891086","ООО \"Ритм-Б\"","2636032690","263501001","производство (некомбинированная выработка)+передача+сбыт","Некомбинированная выработка :: Сбыт :: Передача","/Тепловая энергия/Производство/Некомбинированная выработка :: /Тепловая энергия/Сбыт :: /Тепловая энергия/Передача","22-04-2011 00:00:00",null,"22-04-2011 00:00:00"]
[null,null,null,null,null,null,null,null,null,null,null,null,null,null,null,null,null,null,null,null,null,null,null,null,null,null,null,null,null,null,null,null,null,null,null,null,null,null,null,null,null,null,null,null,null,null,null,null,null,null,null,null,null,null,null,null,null,null,null,null,69,"Ставропольский край","Город Ставрополь","07701000","Город Ставрополь","07701000","26355219","ПАО \"Ставропольский радиозавод \"Сигнал\"","2635000092","263501001","производство (некомбинированная выработка)+передача+сбыт","Некомбинированная выработка :: Сбыт :: Передача","/Тепловая энергия/Производство/Некомбинированная выработка :: /Тепловая энергия/Сбыт :: /Тепловая энергия/Передача",null,null,"15-09-2008 00:00:00"]
[null,null,null,null,null,null,null,null,null,null,null,null,null,null,null,null,null,null,null,null,null,null,null,null,null,null,null,null,null,null,null,null,null,null,null,null,null,null,null,null,null,null,null,null,null,null,null,null,null,null,null,null,null,null,null,null,null,null,null,null,70,"Ставропольский край","Город Ставрополь","07701000","Город Ставрополь","07701000","26816056","Северо-Кавказская дирекция по тепловодоснабжению структурное подразделение Центральной дирекции по тепловодоснабжению - филиала ОАО \"РЖД\"","7708503727","616745019","производство (некомбинированная выработка)+передача+сбыт","Некомбинированная выработка :: Сбыт :: Передача","/Тепловая энергия/Производство/Некомбинированная выработка :: /Тепловая энергия/Сбыт :: /Тепловая энергия/Передача",null,null,"25-04-2011 00:00:00"]
[null,null,null,null,null,null,null,null,null,null,null,null,null,null,null,null,null,null,null,null,null,null,null,null,null,null,null,null,null,null,null,null,null,null,null,null,null,null,null,null,null,null,null,null,null,null,null,null,null,null,null,null,null,null,null,null,null,null,null,null,71,"Ставропольский край","Город Ставрополь","07701000","Город Ставрополь","07701000","26322297","Северо-Кавказский филиал ООО \"Газпром энерго\"","7736186950","263602001","производство (некомбинированная выработка)","Некомбинированная выработка","/Тепловая энергия/Производство/Некомбинированная выработка","27-07-1998 00:00:00",null,"01-02-2011 00:00:00"]
[null,null,null,null,null,null,null,null,null,null,null,null,null,null,null,null,null,null,null,null,null,null,null,null,null,null,null,null,null,null,null,null,null,null,null,null,null,null,null,null,null,null,null,null,null,null,null,null,null,null,null,null,null,null,null,null,null,null,null,null,72,"Ставропольский край","Город Ставрополь","07701000","Город Ставрополь","07701000","30923515","ФГБУ \"Центральное жилищно-коммунальное управление\" Министерства обороны РФ","7729314745","616543001","производство (некомбинированная выработка)+передача+сбыт","Некомбинированная выработка :: Сбыт :: Передача","/Тепловая энергия/Производство/Некомбинированная выработка :: /Тепловая энергия/Сбыт :: /Тепловая энергия/Передача","14-11-2002 00:00:00",null,"01-07-2017 00:00:00"]
[null,null,null,null,null,null,null,null,null,null,null,null,null,null,null,null,null,null,null,null,null,null,null,null,null,null,null,null,null,null,null,null,null,null,null,null,null,null,null,null,null,null,null,null,null,null,null,null,null,null,null,null,null,null,null,null,null,null,null,null,73,"Ставропольский край","Город Ставрополь","07701000","Город Ставрополь","07701000","31062737","Филиал АО НПО «Микроген» в г. Ставрополь «Аллерген»","7722422237","263443001","производство (некомбинированная выработка)+передача+сбыт","Некомбинированная выработка :: Сбыт :: Передача","/Тепловая энергия/Производство/Некомбинированная выработка :: /Тепловая энергия/Сбыт :: /Тепловая энергия/Передача","01-01-2018 00:00:00",null,"01-01-2018 00:00:00"]
[null,null,null,null,null,null,null,null,null,null,null,null,null,null,null,null,null,null,null,null,null,null,null,null,null,null,null,null,null,null,null,null,null,null,null,null,null,null,null,null,null,null,null,null,null,null,null,null,null,null,null,null,null,null,null,null,null,null,null,null,74,"Ставропольский край","Город-курорт Ессентуки","07710000","Город-курорт Ессентуки","07710000","26355189","АО \"ЭНЕРГОРЕСУРСЫ\"","2626020720","262601001","производство (некомбинированная выработка)+передача+сбыт","Некомбинированная выработка :: Сбыт :: Передача","/Тепловая энергия/Производство/Некомбинированная выработка :: /Тепловая энергия/Сбыт :: /Тепловая энергия/Передача","29-07-1994 00:00:00",null,"29-07-1994 00:00:00"]
[null,null,null,null,null,null,null,null,null,null,null,null,null,null,null,null,null,null,null,null,null,null,null,null,null,null,null,null,null,null,null,null,null,null,null,null,null,null,null,null,null,null,null,null,null,null,null,null,null,null,null,null,null,null,null,null,null,null,null,null,75,"Ставропольский край","Город-курорт Ессентуки","07710000","Город-курорт Ессентуки","07710000","26355225","ГУП СК \"Крайтеплоэнерго\"","2635060510","263501001","производство (некомбинированная выработка)+передача+сбыт","Некомбинированная выработка :: Сбыт :: Передача","/Тепловая энергия/Производство/Некомбинированная выработка :: /Тепловая энергия/Сбыт :: /Тепловая энергия/Передача","16-01-2002 00:00:00",null,"16-01-2002 00:00:00"]
[null,null,null,null,null,null,null,null,null,null,null,null,null,null,null,null,null,null,null,null,null,null,null,null,null,null,null,null,null,null,null,null,null,null,null,null,null,null,null,null,null,null,null,null,null,null,null,null,null,null,null,null,null,null,null,null,null,null,null,null,76,"Ставропольский край","Город-курорт Ессентуки","07710000","Город-курорт Ессентуки","07710000","26355190","ООО \"Объединение котельных курорта\" г.Ессентуки","2626027362","262601001","производство (некомбинированная выработка)+передача+сбыт","Некомбинированная выработка :: Сбыт :: Передача","/Тепловая энергия/Производство/Некомбинированная выработка :: /Тепловая энергия/Сбыт :: /Тепловая энергия/Передача",null,null,"15-09-2008 00:00:00"]
[null,null,null,null,null,null,null,null,null,null,null,null,null,null,null,null,null,null,null,null,null,null,null,null,null,null,null,null,null,null,null,null,null,null,null,null,null,null,null,null,null,null,null,null,null,null,null,null,null,null,null,null,null,null,null,null,null,null,null,null,77,"Ставропольский край","Город-курорт Ессентуки","07710000","Город-курорт Ессентуки","07710000","30438499","Санаторий им. И.М.Сеченова - НКФ ФГБУ \" НМИЦ РК\" Минздрава России","7704040281","262643002","производство (некомбинированная выработка)+передача+сбыт","Некомбинированная выработка :: Сбыт :: Передача","/Тепловая энергия/Производство/Некомбинированная выработка :: /Тепловая энергия/Сбыт :: /Тепловая энергия/Передача","15-03-2016 00:00:00",null,"15-03-2016 00:00:00"]
[null,null,null,null,null,null,null,null,null,null,null,null,null,null,null,null,null,null,null,null,null,null,null,null,null,null,null,null,null,null,null,null,null,null,null,null,null,null,null,null,null,null,null,null,null,null,null,null,null,null,null,null,null,null,null,null,null,null,null,null,78,"Ставропольский край","Город-курорт Ессентуки","07710000","Город-курорт Ессентуки","07710000","30923515","ФГБУ \"Центральное жилищно-коммунальное управление\" Министерства обороны РФ","7729314745","616543001","производство (некомбинированная выработка)+передача+сбыт","Некомбинированная выработка :: Сбыт :: Передача","/Тепловая энергия/Производство/Некомбинированная выработка :: /Тепловая энергия/Сбыт :: /Тепловая энергия/Передача","14-11-2002 00:00:00",null,"01-07-2017 00:00:00"]
[null,null,null,null,null,null,null,null,null,null,null,null,null,null,null,null,null,null,null,null,null,null,null,null,null,null,null,null,null,null,null,null,null,null,null,null,null,null,null,null,null,null,null,null,null,null,null,null,null,null,null,null,null,null,null,null,null,null,null,null,79,"Ставропольский край","Город-курорт Железноводск","07712000","Город-курорт Железноводск","07712000","26355225","ГУП СК \"Крайтеплоэнерго\"","2635060510","263501001","производство (некомбинированная выработка)+передача+сбыт","Некомбинированная выработка :: Сбыт :: Передача","/Тепловая энергия/Производство/Некомбинированная выработка :: /Тепловая энергия/Сбыт :: /Тепловая энергия/Передача","16-01-2002 00:00:00",null,"04-12-2019 00:00:00"]
[null,null,null,null,null,null,null,null,null,null,null,null,null,null,null,null,null,null,null,null,null,null,null,null,null,null,null,null,null,null,null,null,null,null,null,null,null,null,null,null,null,null,null,null,null,null,null,null,null,null,null,null,null,null,null,null,null,null,null,null,80,"Ставропольский край","Город-курорт Железноводск","07712000","Город-курорт Железноводск","07712000","26355192","МУП \"Теплосеть\" г. Железноводск","2627007954","262701001","производство (некомбинированная выработка)+передача+сбыт","Некомбинированная выработка :: Сбыт :: Передача","/Тепловая энергия/Производство/Некомбинированная выработка :: /Тепловая энергия/Сбыт :: /Тепловая энергия/Передача",null,null,"15-09-2008 00:00:00"]
[null,null,null,null,null,null,null,null,null,null,null,null,null,null,null,null,null,null,null,null,null,null,null,null,null,null,null,null,null,null,null,null,null,null,null,null,null,null,null,null,null,null,null,null,null,null,null,null,null,null,null,null,null,null,null,null,null,null,null,null,81,"Ставропольский край","Город-курорт Железноводск","07712000","Город-курорт Железноводск","07712000","26355190","ООО \"Объединение котельных курорта\" г.Ессентуки","2626027362","262601001","производство (некомбинированная выработка)+передача+сбыт","Некомбинированная выработка :: Сбыт :: Передача","/Тепловая энергия/Производство/Некомбинированная выработка :: /Тепловая энергия/Сбыт :: /Тепловая энергия/Передача",null,null,"01-01-2018 00:00:00"]
[null,null,null,null,null,null,null,null,null,null,null,null,null,null,null,null,null,null,null,null,null,null,null,null,null,null,null,null,null,null,null,null,null,null,null,null,null,null,null,null,null,null,null,null,null,null,null,null,null,null,null,null,null,null,null,null,null,null,null,null,82,"Ставропольский край","Город-курорт Кисловодск","07715000","Город-курорт Кисловодск","07715000","26355225","ГУП СК \"Крайтеплоэнерго\"","2635060510","263501001","производство (некомбинированная выработка)+передача+сбыт","Некомбинированная выработка :: Сбыт :: Передача","/Тепловая энергия/Производство/Некомбинированная выработка :: /Тепловая энергия/Сбыт :: /Тепловая энергия/Передача","16-01-2002 00:00:00",null,"01-01-2019 00:00:00"]
[null,null,null,null,null,null,null,null,null,null,null,null,null,null,null,null,null,null,null,null,null,null,null,null,null,null,null,null,null,null,null,null,null,null,null,null,null,null,null,null,null,null,null,null,null,null,null,null,null,null,null,null,null,null,null,null,null,null,null,null,83,"Ставропольский край","Город-курорт Кисловодск","07715000","Город-курорт Кисловодск","07715000","30479236","ООО \"Газпром Теплоэнерго Кисловодск\"","2628057299","262801001","производство (некомбинированная выработка)+передача+сбыт","Некомбинированная выработка :: Сбыт :: Передача","/Тепловая энергия/Производство/Некомбинированная выработка :: /Тепловая энергия/Сбыт :: /Тепловая энергия/Передача","20-04-2016 00:00:00",null,"20-04-2016 00:00:00"]
[null,null,null,null,null,null,null,null,null,null,null,null,null,null,null,null,null,null,null,null,null,null,null,null,null,null,null,null,null,null,null,null,null,null,null,null,null,null,null,null,null,null,null,null,null,null,null,null,null,null,null,null,null,null,null,null,null,null,null,null,84,"Ставропольский край","Город-курорт Кисловодск","07715000","Город-курорт Кисловодск","07715000","27567409","ООО \"ЛУКОЙЛ-Ставропольэнерго\"","2624033219","262401001","производство комбинированная выработка","Комбинированная выработка :: Некомбинированная выработка :: Сбыт :: Передача","/Тепловая энергия/Производство/Комбинированная выработка :: /Тепловая энергия/Производство/Некомбинированная выработка :: /Тепловая энергия/Сбыт :: /Тепловая энергия/Передача","01-08-2011 00:00:00",null,"01-08-2011 00:00:00"]
[null,null,null,null,null,null,null,null,null,null,null,null,null,null,null,null,null,null,null,null,null,null,null,null,null,null,null,null,null,null,null,null,null,null,null,null,null,null,null,null,null,null,null,null,null,null,null,null,null,null,null,null,null,null,null,null,null,null,null,null,85,"Ставропольский край","Город-курорт Кисловодск","07715000","Город-курорт Кисловодск","07715000","27567409","ООО \"ЛУКОЙЛ-Ставропольэнерго\"","2624033219","262401001","производство (некомбинированная выработка)+передача+сбыт","Комбинированная выработка :: Некомбинированная выработка :: Сбыт :: Передача","/Тепловая энергия/Производство/Комбинированная выработка :: /Тепловая энергия/Производство/Некомбинированная выработка :: /Тепловая энергия/Сбыт :: /Тепловая энергия/Передача","01-08-2011 00:00:00",null,"01-08-2011 00:00:00"]
[null,null,null,null,null,null,null,null,null,null,null,null,null,null,null,null,null,null,null,null,null,null,null,null,null,null,null,null,null,null,null,null,null,null,null,null,null,null,null,null,null,null,null,null,null,null,null,null,null,null,null,null,null,null,null,null,null,null,null,null,86,"Ставропольский край","Город-курорт Кисловодск","07715000","Город-курорт Кисловодск","07715000","28980134","УФСБ России по Ставропольскому краю","2634025295","263401001","производство (некомбинированная выработка)","Некомбинированная выработка","/Тепловая энергия/Производство/Некомбинированная выработка",null,null,"03-07-2015 00:00:00"]
[null,null,null,null,null,null,null,null,null,null,null,null,null,null,null,null,null,null,null,null,null,null,null,null,null,null,null,null,null,null,null,null,null,null,null,null,null,null,null,null,null,null,null,null,null,null,null,null,null,null,null,null,null,null,null,null,null,null,null,null,87,"Ставропольский край","Город-курорт Кисловодск","07715000","Город-курорт Кисловодск","07715000","30923515","ФГБУ \"Центральное жилищно-коммунальное управление\" Министерства обороны РФ","7729314745","616543001","производство (некомбинированная выработка)+передача+сбыт","Некомбинированная выработка :: Сбыт :: Передача","/Тепловая энергия/Производство/Некомбинированная выработка :: /Тепловая энергия/Сбыт :: /Тепловая энергия/Передача","14-11-2002 00:00:00",null,"01-07-2017 00:00:00"]
[null,null,null,null,null,null,null,null,null,null,null,null,null,null,null,null,null,null,null,null,null,null,null,null,null,null,null,null,null,null,null,null,null,null,null,null,null,null,null,null,null,null,null,null,null,null,null,null,null,null,null,null,null,null,null,null,null,null,null,null,88,"Ставропольский край","Город-курорт Пятигорск","07727000","Город-курорт Пятигорск","07727000","26850785","АО \"ПТЭК\"","2632800936","263201001","производство (некомбинированная выработка)+передача+сбыт","Некомбинированная выработка :: Сбыт :: Передача","/Тепловая энергия/Производство/Некомбинированная выработка :: /Тепловая энергия/Сбыт :: /Тепловая энергия/Передача","10-05-2011 00:00:00",null,"10-05-2011 00:00:00"]
[null,null,null,null,null,null,null,null,null,null,null,null,null,null,null,null,null,null,null,null,null,null,null,null,null,null,null,null,null,null,null,null,null,null,null,null,null,null,null,null,null,null,null,null,null,null,null,null,null,null,null,null,null,null,null,null,null,null,null,null,89,"Ставропольский край","Город-курорт Пятигорск","07727000","Город-курорт Пятигорск","07727000","26355214","ГКУЗ \"Ставропольский краевой госпиталь для ветеранов войн\"","2632055946","263201001","производство (некомбинированная выработка)+передача+сбыт","Некомбинированная выработка :: Сбыт :: Передача","/Тепловая энергия/Производство/Некомбинированная выработка :: /Тепловая энергия/Сбыт :: /Тепловая энергия/Передача","26-05-2011 00:00:00",null,"26-05-2011 00:00:00"]
[null,null,null,null,null,null,null,null,null,null,null,null,null,null,null,null,null,null,null,null,null,null,null,null,null,null,null,null,null,null,null,null,null,null,null,null,null,null,null,null,null,null,null,null,null,null,null,null,null,null,null,null,null,null,null,null,null,null,null,null,90,"Ставропольский край","Город-курорт Пятигорск","07727000","Город-курорт Пятигорск","07727000","26355205","ЛПУП  Санаторий \"РОДНИК\"","2632053836","263201001","производство (некомбинированная выработка)+передача+сбыт","Некомбинированная выработка :: Сбыт :: Передача","/Тепловая энергия/Производство/Некомбинированная выработка :: /Тепловая энергия/Сбыт :: /Тепловая энергия/Передача","29-06-1999 00:00:00",null,"29-06-1999 00:00:00"]
[null,null,null,null,null,null,null,null,null,null,null,null,null,null,null,null,null,null,null,null,null,null,null,null,null,null,null,null,null,null,null,null,null,null,null,null,null,null,null,null,null,null,null,null,null,null,null,null,null,null,null,null,null,null,null,null,null,null,null,null,91,"Ставропольский край","Город-курорт Пятигорск","07727000","Город-курорт Пятигорск","07727000","26355190","ООО \"Объединение котельных курорта\" г.Ессентуки","2626027362","262601001","производство (некомбинированная выработка)+передача+сбыт","Некомбинированная выработка :: Сбыт :: Передача","/Тепловая энергия/Производство/Некомбинированная выработка :: /Тепловая энергия/Сбыт :: /Тепловая энергия/Передача",null,null,"01-01-2018 00:00:00"]
[null,null,null,null,null,null,null,null,null,null,null,null,null,null,null,null,null,null,null,null,null,null,null,null,null,null,null,null,null,null,null,null,null,null,null,null,null,null,null,null,null,null,null,null,null,null,null,null,null,null,null,null,null,null,null,null,null,null,null,null,92,"Ставропольский край","Город-курорт Пятигорск","07727000","Город-курорт Пятигорск","07727000","26355209","ООО \"Пятигорсктеплосервис\"","2632062277","263201001","производство (некомбинированная выработка)+передача+сбыт","Некомбинированная выработка :: Сбыт :: Передача","/Тепловая энергия/Производство/Некомбинированная выработка :: /Тепловая энергия/Сбыт :: /Тепловая энергия/Передача",null,null,"15-09-2008 00:00:00"]
[null,null,null,null,null,null,null,null,null,null,null,null,null,null,null,null,null,null,null,null,null,null,null,null,null,null,null,null,null,null,null,null,null,null,null,null,null,null,null,null,null,null,null,null,null,null,null,null,null,null,null,null,null,null,null,null,null,null,null,null,93,"Ставропольский край","Город-курорт Пятигорск","07727000","Город-курорт Пятигорск","07727000","26355203","ООО \"Санаторий \"Тарханы\"","2632012646","263201001","производство (некомбинированная выработка)+передача+сбыт","Некомбинированная выработка :: Сбыт :: Передача","/Тепловая энергия/Производство/Некомбинированная выработка :: /Тепловая энергия/Сбыт :: /Тепловая энергия/Передача",null,null,"15-09-2008 00:00:00"]
[null,null,null,null,null,null,null,null,null,null,null,null,null,null,null,null,null,null,null,null,null,null,null,null,null,null,null,null,null,null,null,null,null,null,null,null,null,null,null,null,null,null,null,null,null,null,null,null,null,null,null,null,null,null,null,null,null,null,null,null,94,"Ставропольский край","Город-курорт Пятигорск","07727000","Город-курорт Пятигорск","07727000","27882380","ООО \"ЭНЕРГЕТИК\" (котельная \"Машук\" в г. Пятигорске)","2618800660","261801001","производство (некомбинированная выработка)+передача+сбыт","Некомбинированная выработка :: Сбыт :: Передача","/Тепловая энергия/Производство/Некомбинированная выработка :: /Тепловая энергия/Сбыт :: /Тепловая энергия/Передача","26-03-2012 00:00:00",null,"26-03-2012 00:00:00"]
[null,null,null,null,null,null,null,null,null,null,null,null,null,null,null,null,null,null,null,null,null,null,null,null,null,null,null,null,null,null,null,null,null,null,null,null,null,null,null,null,null,null,null,null,null,null,null,null,null,null,null,null,null,null,null,null,null,null,null,null,95,"Ставропольский край","Город-курорт Пятигорск","07727000","Город-курорт Пятигорск","07727000","31369128","ООО \"ЭНЕРГИЯ\"","2630049200","263001001","производство (некомбинированная выработка)+передача+сбыт","Некомбинированная выработка :: Сбыт :: Передача","/Тепловая энергия/Производство/Некомбинированная выработка :: /Тепловая энергия/Сбыт :: /Тепловая энергия/Передача","19-06-2019 00:00:00",null,"01-01-2020 00:00:00"]
[null,null,null,null,null,null,null,null,null,null,null,null,null,null,null,null,null,null,null,null,null,null,null,null,null,null,null,null,null,null,null,null,null,null,null,null,null,null,null,null,null,null,null,null,null,null,null,null,null,null,null,null,null,null,null,null,null,null,null,null,96,"Ставропольский край","Город-курорт Пятигорск","07727000","Город-курорт Пятигорск","07727000","26816056","Северо-Кавказская дирекция по тепловодоснабжению структурное подразделение Центральной дирекции по тепловодоснабжению - филиала ОАО \"РЖД\"","7708503727","616745019","производство (некомбинированная выработка)+передача+сбыт","Некомбинированная выработка :: Сбыт :: Передача","/Тепловая энергия/Производство/Некомбинированная выработка :: /Тепловая энергия/Сбыт :: /Тепловая энергия/Передача",null,null,"25-04-2011 00:00:00"]
[null,null,null,null,null,null,null,null,null,null,null,null,null,null,null,null,null,null,null,null,null,null,null,null,null,null,null,null,null,null,null,null,null,null,null,null,null,null,null,null,null,null,null,null,null,null,null,null,null,null,null,null,null,null,null,null,null,null,null,null,97,"Ставропольский край","Город-курорт Пятигорск","07727000","Город-курорт Пятигорск","07727000","30923515","ФГБУ \"Центральное жилищно-коммунальное управление\" Министерства обороны РФ","7729314745","616543001","производство (некомбинированная выработка)+передача+сбыт","Некомбинированная выработка :: Сбыт :: Передача","/Тепловая энергия/Производство/Некомбинированная выработка :: /Тепловая энергия/Сбыт :: /Тепловая энергия/Передача","14-11-2002 00:00:00",null,"01-07-2017 00:00:00"]
[null,null,null,null,null,null,null,null,null,null,null,null,null,null,null,null,null,null,null,null,null,null,null,null,null,null,null,null,null,null,null,null,null,null,null,null,null,null,null,null,null,null,null,null,null,null,null,null,null,null,null,null,null,null,null,null,null,null,null,null,98,"Ставропольский край","Грачёвский муниципальный район","07617000","Грачевский сельсовет","07617404","26355172","МУП \"КХ\" Грачёвского муниципального района Ставропольского края","2606000122","260601001","производство (некомбинированная выработка)+передача+сбыт","Некомбинированная выработка :: Сбыт :: Передача","/Тепловая энергия/Производство/Некомбинированная выработка :: /Тепловая энергия/Сбыт :: /Тепловая энергия/Передача","15-09-2008 00:00:00",null,"15-09-2008 00:00:00"]
[null,null,null,null,null,null,null,null,null,null,null,null,null,null,null,null,null,null,null,null,null,null,null,null,null,null,null,null,null,null,null,null,null,null,null,null,null,null,null,null,null,null,null,null,null,null,null,null,null,null,null,null,null,null,null,null,null,null,null,null,99,"Ставропольский край","Грачёвский муниципальный район","07617000","Кугультинский сельсовет","07617410","26355172","МУП \"КХ\" Грачёвского муниципального района Ставропольского края","2606000122","260601001","производство (некомбинированная выработка)+передача+сбыт","Некомбинированная выработка :: Сбыт :: Передача","/Тепловая энергия/Производство/Некомбинированная выработка :: /Тепловая энергия/Сбыт :: /Тепловая энергия/Передача","15-09-2008 00:00:00",null,"15-09-2008 00:00:00"]
[null,null,null,null,null,null,null,null,null,null,null,null,null,null,null,null,null,null,null,null,null,null,null,null,null,null,null,null,null,null,null,null,null,null,null,null,null,null,null,null,null,null,null,null,null,null,null,null,null,null,null,null,null,null,null,null,null,null,null,null,100,"Ставропольский край","Грачёвский муниципальный район","07617000","Село Бешпагир","07617401","26355172","МУП \"КХ\" Грачёвского муниципального района Ставропольского края","2606000122","260601001","производство (некомбинированная выработка)+передача+сбыт","Некомбинированная выработка :: Сбыт :: Передача","/Тепловая энергия/Производство/Некомбинированная выработка :: /Тепловая энергия/Сбыт :: /Тепловая энергия/Передача","15-09-2008 00:00:00",null,"15-09-2008 00:00:00"]
[null,null,null,null,null,null,null,null,null,null,null,null,null,null,null,null,null,null,null,null,null,null,null,null,null,null,null,null,null,null,null,null,null,null,null,null,null,null,null,null,null,null,null,null,null,null,null,null,null,null,null,null,null,null,null,null,null,null,null,null,101,"Ставропольский край","Изобильненский","07713000","Изобильненский","07713000","26355174","АО \"Ставропольсахар\"","2607012219","260701001","производство комбинированная выработка","Комбинированная выработка :: Сбыт","/Тепловая энергия/Производство/Комбинированная выработка :: /Тепловая энергия/Сбыт","07-07-1999 00:00:00",null,"07-07-1999 00:00:00"]
[null,null,null,null,null,null,null,null,null,null,null,null,null,null,null,null,null,null,null,null,null,null,null,null,null,null,null,null,null,null,null,null,null,null,null,null,null,null,null,null,null,null,null,null,null,null,null,null,null,null,null,null,null,null,null,null,null,null,null,null,102,"Ставропольский край","Изобильненский","07713000","Изобильненский","07713000","26355225","ГУП СК \"Крайтеплоэнерго\"","2635060510","263501001","производство (некомбинированная выработка)+передача+сбыт","Некомбинированная выработка :: Сбыт :: Передача","/Тепловая энергия/Производство/Некомбинированная выработка :: /Тепловая энергия/Сбыт :: /Тепловая энергия/Передача","16-01-2002 00:00:00",null,"16-01-2002 00:00:00"]
[null,null,null,null,null,null,null,null,null,null,null,null,null,null,null,null,null,null,null,null,null,null,null,null,null,null,null,null,null,null,null,null,null,null,null,null,null,null,null,null,null,null,null,null,null,null,null,null,null,null,null,null,null,null,null,null,null,null,null,null,103,"Ставропольский край","Изобильненский","07713000","Изобильненский","07713000","26355224","ООО «Газпром трансгаз Ставрополь»","2636032629","263601001","производство (некомбинированная выработка)+передача+сбыт","Некомбинированная выработка :: Сбыт :: Передача","/Тепловая энергия/Производство/Некомбинированная выработка :: /Тепловая энергия/Сбыт :: /Тепловая энергия/Передача","30-06-1999 00:00:00",null,"30-06-1999 00:00:00"]
[null,null,null,null,null,null,null,null,null,null,null,null,null,null,null,null,null,null,null,null,null,null,null,null,null,null,null,null,null,null,null,null,null,null,null,null,null,null,null,null,null,null,null,null,null,null,null,null,null,null,null,null,null,null,null,null,null,null,null,null,104,"Ставропольский край","Изобильненский","07713000","Изобильненский","07713000","26355173","ПАО \"Завод Атлант\"","2607000333","260701001","производство (некомбинированная выработка)+передача+сбыт","Некомбинированная выработка :: Сбыт :: Передача","/Тепловая энергия/Производство/Некомбинированная выработка :: /Тепловая энергия/Сбыт :: /Тепловая энергия/Передача","26-05-1994 00:00:00",null,"26-05-1994 00:00:00"]
[null,null,null,null,null,null,null,null,null,null,null,null,null,null,null,null,null,null,null,null,null,null,null,null,null,null,null,null,null,null,null,null,null,null,null,null,null,null,null,null,null,null,null,null,null,null,null,null,null,null,null,null,null,null,null,null,null,null,null,null,105,"Ставропольский край","Изобильненский","07713000","Изобильненский","07713000","26355173","ПАО \"Завод Атлант\"","2607000333","260701001","Теплоноситель - Производство","Производство","/Теплоноситель/Производство","26-05-1994 00:00:00",null,"26-05-1994 00:00:00"]
[null,null,null,null,null,null,null,null,null,null,null,null,null,null,null,null,null,null,null,null,null,null,null,null,null,null,null,null,null,null,null,null,null,null,null,null,null,null,null,null,null,null,null,null,null,null,null,null,null,null,null,null,null,null,null,null,null,null,null,null,106,"Ставропольский край","Изобильненский","07713000","Изобильненский","07713000","26322297","Северо-Кавказский филиал ООО \"Газпром энерго\"","7736186950","263602001","Теплоноситель - Производство","Производство","/Теплоноситель/Производство","27-07-1998 00:00:00",null,"15-09-2005 00:00:00"]
[null,null,null,null,null,null,null,null,null,null,null,null,null,null,null,null,null,null,null,null,null,null,null,null,null,null,null,null,null,null,null,null,null,null,null,null,null,null,null,null,null,null,null,null,null,null,null,null,null,null,null,null,null,null,null,null,null,null,null,null,107,"Ставропольский край","Изобильненский","07713000","Изобильненский","07713000","26322297","Северо-Кавказский филиал ООО \"Газпром энерго\"","7736186950","263602001","производство (некомбинированная выработка)+передача+сбыт","Некомбинированная выработка :: Сбыт :: Передача","/Тепловая энергия/Производство/Некомбинированная выработка :: /Тепловая энергия/Сбыт :: /Тепловая энергия/Передача","27-07-1998 00:00:00",null,"15-09-2005 00:00:00"]
[null,null,null,null,null,null,null,null,null,null,null,null,null,null,null,null,null,null,null,null,null,null,null,null,null,null,null,null,null,null,null,null,null,null,null,null,null,null,null,null,null,null,null,null,null,null,null,null,null,null,null,null,null,null,null,null,null,null,null,null,108,"Ставропольский край","Изобильненский","07713000","Изобильненский","07713000","30923515","ФГБУ \"Центральное жилищно-коммунальное управление\" Министерства обороны РФ","7729314745","616543001","производство комбинированная выработка","Комбинированная выработка :: Сбыт :: Передача","/Тепловая энергия/Производство/Комбинированная выработка :: /Тепловая энергия/Сбыт :: /Тепловая энергия/Передача","14-11-2002 00:00:00",null,"17-12-2018 00:00:00"]
[null,null,null,null,null,null,null,null,null,null,null,null,null,null,null,null,null,null,null,null,null,null,null,null,null,null,null,null,null,null,null,null,null,null,null,null,null,null,null,null,null,null,null,null,null,null,null,null,null,null,null,null,null,null,null,null,null,null,null,null,109,"Ставропольский край","Изобильненский","07713000","Изобильненский","07713000","30923515","ФГБУ \"Центральное жилищно-коммунальное управление\" Министерства обороны РФ","7729314745","616543001","Теплоноситель - Сбыт :: Производство :: Передача","Сбыт :: Производство :: Передача","/Теплоноситель/Сбыт :: /Теплоноситель/Производство :: /Теплоноситель/Передача","14-11-2002 00:00:00",null,"17-12-2018 00:00:00"]
[null,null,null,null,null,null,null,null,null,null,null,null,null,null,null,null,null,null,null,null,null,null,null,null,null,null,null,null,null,null,null,null,null,null,null,null,null,null,null,null,null,null,null,null,null,null,null,null,null,null,null,null,null,null,null,null,null,null,null,null,110,"Ставропольский край","Изобильненский","07713000","Изобильненский","07713000","26416974","Филиал ПАО \"ОГК-2\"-Ставропольская ГРЭС","2607018122","260702001","производство комбинированная выработка","Комбинированная выработка :: Сбыт :: Передача","/Тепловая энергия/Производство/Комбинированная выработка :: /Тепловая энергия/Сбыт :: /Тепловая энергия/Передача","09-03-2005 00:00:00",null,"09-03-2005 00:00:00"]
[null,null,null,null,null,null,null,null,null,null,null,null,null,null,null,null,null,null,null,null,null,null,null,null,null,null,null,null,null,null,null,null,null,null,null,null,null,null,null,null,null,null,null,null,null,null,null,null,null,null,null,null,null,null,null,null,null,null,null,null,111,"Ставропольский край","Изобильненский","07713000","Изобильненский","07713000","26416974","Филиал ПАО \"ОГК-2\"-Ставропольская ГРЭС","2607018122","260702001","Теплоноситель - Сбыт :: Производство :: Передача","Сбыт :: Производство :: Передача","/Теплоноситель/Сбыт :: /Теплоноситель/Производство :: /Теплоноситель/Передача","09-03-2005 00:00:00",null,"09-03-2005 00:00:00"]
[null,null,null,null,null,null,null,null,null,null,null,null,null,null,null,null,null,null,null,null,null,null,null,null,null,null,null,null,null,null,null,null,null,null,null,null,null,null,null,null,null,null,null,null,null,null,null,null,null,null,null,null,null,null,null,null,null,null,null,null,112,"Ставропольский край","Ипатовский","07714000","Ипатовский","07714000","26355225","ГУП СК \"Крайтеплоэнерго\"","2635060510","263501001","производство (некомбинированная выработка)+передача+сбыт","Некомбинированная выработка :: Сбыт :: Передача","/Тепловая энергия/Производство/Некомбинированная выработка :: /Тепловая энергия/Сбыт :: /Тепловая энергия/Передача","16-01-2002 00:00:00",null,"16-01-2002 00:00:00"]
[null,null,null,null,null,null,null,null,null,null,null,null,null,null,null,null,null,null,null,null,null,null,null,null,null,null,null,null,null,null,null,null,null,null,null,null,null,null,null,null,null,null,null,null,null,null,null,null,null,null,null,null,null,null,null,null,null,null,null,null,113,"Ставропольский край","Кировский","07716000","Кировский","07716000","26355225","ГУП СК \"Крайтеплоэнерго\"","2635060510","263501001","производство (некомбинированная выработка)+передача+сбыт","Некомбинированная выработка :: Сбыт :: Передача","/Тепловая энергия/Производство/Некомбинированная выработка :: /Тепловая энергия/Сбыт :: /Тепловая энергия/Передача","16-01-2002 00:00:00",null,"01-01-2020 00:00:00"]
[null,null,null,null,null,null,null,null,null,null,null,null,null,null,null,null,null,null,null,null,null,null,null,null,null,null,null,null,null,null,null,null,null,null,null,null,null,null,null,null,null,null,null,null,null,null,null,null,null,null,null,null,null,null,null,null,null,null,null,null,114,"Ставропольский край","Кировский","07716000","Кировский","07716000","26816056","Северо-Кавказская дирекция по тепловодоснабжению структурное подразделение Центральной дирекции по тепловодоснабжению - филиала ОАО \"РЖД\"","7708503727","616745019","производство (некомбинированная выработка)+передача+сбыт","Некомбинированная выработка :: Сбыт :: Передача","/Тепловая энергия/Производство/Некомбинированная выработка :: /Тепловая энергия/Сбыт :: /Тепловая энергия/Передача",null,null,"25-04-2011 00:00:00"]
[null,null,null,null,null,null,null,null,null,null,null,null,null,null,null,null,null,null,null,null,null,null,null,null,null,null,null,null,null,null,null,null,null,null,null,null,null,null,null,null,null,null,null,null,null,null,null,null,null,null,null,null,null,null,null,null,null,null,null,null,115,"Ставропольский край","Кочубеевский муниципальный район","07628000","Балахоновский сельсовет","07628402","26355225","ГУП СК \"Крайтеплоэнерго\"","2635060510","263501001","производство (некомбинированная выработка)+передача+сбыт","Некомбинированная выработка :: Сбыт :: Передача","/Тепловая энергия/Производство/Некомбинированная выработка :: /Тепловая энергия/Сбыт :: /Тепловая энергия/Передача","16-01-2002 00:00:00",null,"16-01-2002 00:00:00"]
[null,null,null,null,null,null,null,null,null,null,null,null,null,null,null,null,null,null,null,null,null,null,null,null,null,null,null,null,null,null,null,null,null,null,null,null,null,null,null,null,null,null,null,null,null,null,null,null,null,null,null,null,null,null,null,null,null,null,null,null,116,"Ставропольский край","Кочубеевский муниципальный район","07628000","Георгиевский сельсовет","07628408","26355225","ГУП СК \"Крайтеплоэнерго\"","2635060510","263501001","производство (некомбинированная выработка)+передача+сбыт","Некомбинированная выработка :: Сбыт :: Передача","/Тепловая энергия/Производство/Некомбинированная выработка :: /Тепловая энергия/Сбыт :: /Тепловая энергия/Передача","16-01-2002 00:00:00",null,"01-01-2019 00:00:00"]
[null,null,null,null,null,null,null,null,null,null,null,null,null,null,null,null,null,null,null,null,null,null,null,null,null,null,null,null,null,null,null,null,null,null,null,null,null,null,null,null,null,null,null,null,null,null,null,null,null,null,null,null,null,null,null,null,null,null,null,null,117,"Ставропольский край","Кочубеевский муниципальный район","07628000","Надзорненский сельсовет","07628424","26355225","ГУП СК \"Крайтеплоэнерго\"","2635060510","263501001","производство (некомбинированная выработка)+передача+сбыт","Некомбинированная выработка :: Сбыт :: Передача","/Тепловая энергия/Производство/Некомбинированная выработка :: /Тепловая энергия/Сбыт :: /Тепловая энергия/Передача","16-01-2002 00:00:00",null,"16-01-2002 00:00:00"]
[null,null,null,null,null,null,null,null,null,null,null,null,null,null,null,null,null,null,null,null,null,null,null,null,null,null,null,null,null,null,null,null,null,null,null,null,null,null,null,null,null,null,null,null,null,null,null,null,null,null,null,null,null,null,null,null,null,null,null,null,118,"Ставропольский край","Кочубеевский муниципальный район","07628000","Село Кочубеевское","07628422","26355225","ГУП СК \"Крайтеплоэнерго\"","2635060510","263501001","производство (некомбинированная выработка)+передача+сбыт","Некомбинированная выработка :: Сбыт :: Передача","/Тепловая энергия/Производство/Некомбинированная выработка :: /Тепловая энергия/Сбыт :: /Тепловая энергия/Передача","16-01-2002 00:00:00",null,"01-01-2019 00:00:00"]
[null,null,null,null,null,null,null,null,null,null,null,null,null,null,null,null,null,null,null,null,null,null,null,null,null,null,null,null,null,null,null,null,null,null,null,null,null,null,null,null,null,null,null,null,null,null,null,null,null,null,null,null,null,null,null,null,null,null,null,null,119,"Ставропольский край","Кочубеевский муниципальный район","07628000","Село Кочубеевское","07628422","31335320","ООО \"Юг-Ресурс\"","0901047734","090101001","производство (некомбинированная выработка)+передача+сбыт","Некомбинированная выработка :: Сбыт :: Передача","/Тепловая энергия/Производство/Некомбинированная выработка :: /Тепловая энергия/Сбыт :: /Тепловая энергия/Передача",null,null,"08-08-2019 00:00:00"]
[null,null,null,null,null,null,null,null,null,null,null,null,null,null,null,null,null,null,null,null,null,null,null,null,null,null,null,null,null,null,null,null,null,null,null,null,null,null,null,null,null,null,null,null,null,null,null,null,null,null,null,null,null,null,null,null,null,null,null,null,120,"Ставропольский край","Красногвардейский муниципальный район","07630000","Коммунаровский сельсовет","07630404","26355225","ГУП СК \"Крайтеплоэнерго\"","2635060510","263501001","производство (некомбинированная выработка)+передача+сбыт","Некомбинированная выработка :: Сбыт :: Передача","/Тепловая энергия/Производство/Некомбинированная выработка :: /Тепловая энергия/Сбыт :: /Тепловая энергия/Передача","16-01-2002 00:00:00",null,"16-01-2002 00:00:00"]
[null,null,null,null,null,null,null,null,null,null,null,null,null,null,null,null,null,null,null,null,null,null,null,null,null,null,null,null,null,null,null,null,null,null,null,null,null,null,null,null,null,null,null,null,null,null,null,null,null,null,null,null,null,null,null,null,null,null,null,null,121,"Ставропольский край","Красногвардейский муниципальный район","07630000","Медвеженский сельсовет","07630413","26355225","ГУП СК \"Крайтеплоэнерго\"","2635060510","263501001","производство (некомбинированная выработка)+передача+сбыт","Некомбинированная выработка :: Сбыт :: Передача","/Тепловая энергия/Производство/Некомбинированная выработка :: /Тепловая энергия/Сбыт :: /Тепловая энергия/Передача","16-01-2002 00:00:00",null,"16-01-2002 00:00:00"]
[null,null,null,null,null,null,null,null,null,null,null,null,null,null,null,null,null,null,null,null,null,null,null,null,null,null,null,null,null,null,null,null,null,null,null,null,null,null,null,null,null,null,null,null,null,null,null,null,null,null,null,null,null,null,null,null,null,null,null,null,122,"Ставропольский край","Красногвардейский муниципальный район","07630000","Привольненский сельсовет","07630425","26355225","ГУП СК \"Крайтеплоэнерго\"","2635060510","263501001","производство (некомбинированная выработка)+передача+сбыт","Некомбинированная выработка :: Сбыт :: Передача","/Тепловая энергия/Производство/Некомбинированная выработка :: /Тепловая энергия/Сбыт :: /Тепловая энергия/Передача","16-01-2002 00:00:00",null,"16-01-2002 00:00:00"]
[null,null,null,null,null,null,null,null,null,null,null,null,null,null,null,null,null,null,null,null,null,null,null,null,null,null,null,null,null,null,null,null,null,null,null,null,null,null,null,null,null,null,null,null,null,null,null,null,null,null,null,null,null,null,null,null,null,null,null,null,123,"Ставропольский край","Красногвардейский муниципальный район","07630000","Привольненский сельсовет","07630425","26322297","Северо-Кавказский филиал ООО \"Газпром энерго\"","7736186950","263602001","производство (некомбинированная выработка)+передача","Некомбинированная выработка :: Передача","/Тепловая энергия/Производство/Некомбинированная выработка :: /Тепловая энергия/Передача","27-07-1998 00:00:00",null,"02-01-2012 00:00:00"]
[null,null,null,null,null,null,null,null,null,null,null,null,null,null,null,null,null,null,null,null,null,null,null,null,null,null,null,null,null,null,null,null,null,null,null,null,null,null,null,null,null,null,null,null,null,null,null,null,null,null,null,null,null,null,null,null,null,null,null,null,124,"Ставропольский край","Красногвардейский муниципальный район","07630000","Родыковский сельсовет","07630428","26355225","ГУП СК \"Крайтеплоэнерго\"","2635060510","263501001","производство (некомбинированная выработка)+передача+сбыт","Некомбинированная выработка :: Сбыт :: Передача","/Тепловая энергия/Производство/Некомбинированная выработка :: /Тепловая энергия/Сбыт :: /Тепловая энергия/Передача","16-01-2002 00:00:00",null,"16-01-2002 00:00:00"]
[null,null,null,null,null,null,null,null,null,null,null,null,null,null,null,null,null,null,null,null,null,null,null,null,null,null,null,null,null,null,null,null,null,null,null,null,null,null,null,null,null,null,null,null,null,null,null,null,null,null,null,null,null,null,null,null,null,null,null,null,125,"Ставропольский край","Красногвардейский муниципальный район","07630000","Село Дмитриевское","07630402","26355225","ГУП СК \"Крайтеплоэнерго\"","2635060510","263501001","производство (некомбинированная выработка)+передача+сбыт","Некомбинированная выработка :: Сбыт :: Передача","/Тепловая энергия/Производство/Некомбинированная выработка :: /Тепловая энергия/Сбыт :: /Тепловая энергия/Передача","16-01-2002 00:00:00",null,"16-01-2002 00:00:00"]
[null,null,null,null,null,null,null,null,null,null,null,null,null,null,null,null,null,null,null,null,null,null,null,null,null,null,null,null,null,null,null,null,null,null,null,null,null,null,null,null,null,null,null,null,null,null,null,null,null,null,null,null,null,null,null,null,null,null,null,null,126,"Ставропольский край","Красногвардейский муниципальный район","07630000","Село Красногвардейское","07630407","26355225","ГУП СК \"Крайтеплоэнерго\"","2635060510","263501001","производство (некомбинированная выработка)+передача+сбыт","Некомбинированная выработка :: Сбыт :: Передача","/Тепловая энергия/Производство/Некомбинированная выработка :: /Тепловая энергия/Сбыт :: /Тепловая энергия/Передача","16-01-2002 00:00:00",null,"16-01-2002 00:00:00"]
[null,null,null,null,null,null,null,null,null,null,null,null,null,null,null,null,null,null,null,null,null,null,null,null,null,null,null,null,null,null,null,null,null,null,null,null,null,null,null,null,null,null,null,null,null,null,null,null,null,null,null,null,null,null,null,null,null,null,null,null,127,"Ставропольский край","Красногвардейский муниципальный район","07630000","Село Ладовская Балка","07630410","26355225","ГУП СК \"Крайтеплоэнерго\"","2635060510","263501001","производство (некомбинированная выработка)+передача+сбыт","Некомбинированная выработка :: Сбыт :: Передача","/Тепловая энергия/Производство/Некомбинированная выработка :: /Тепловая энергия/Сбыт :: /Тепловая энергия/Передача","16-01-2002 00:00:00",null,"16-01-2002 00:00:00"]
[null,null,null,null,null,null,null,null,null,null,null,null,null,null,null,null,null,null,null,null,null,null,null,null,null,null,null,null,null,null,null,null,null,null,null,null,null,null,null,null,null,null,null,null,null,null,null,null,null,null,null,null,null,null,null,null,null,null,null,null,128,"Ставропольский край","Красногвардейский муниципальный район","07630000","Село Новомихайловское","07630416","26355225","ГУП СК \"Крайтеплоэнерго\"","2635060510","263501001","производство (некомбинированная выработка)+передача+сбыт","Некомбинированная выработка :: Сбыт :: Передача","/Тепловая энергия/Производство/Некомбинированная выработка :: /Тепловая энергия/Сбыт :: /Тепловая энергия/Передача","16-01-2002 00:00:00",null,"16-01-2002 00:00:00"]
[null,null,null,null,null,null,null,null,null,null,null,null,null,null,null,null,null,null,null,null,null,null,null,null,null,null,null,null,null,null,null,null,null,null,null,null,null,null,null,null,null,null,null,null,null,null,null,null,null,null,null,null,null,null,null,null,null,null,null,null,129,"Ставропольский край","Красногвардейский муниципальный район","07630000","Село Покровское","07630419","26355225","ГУП СК \"Крайтеплоэнерго\"","2635060510","263501001","производство (некомбинированная выработка)+передача+сбыт","Некомбинированная выработка :: Сбыт :: Передача","/Тепловая энергия/Производство/Некомбинированная выработка :: /Тепловая энергия/Сбыт :: /Тепловая энергия/Передача","16-01-2002 00:00:00",null,"16-01-2002 00:00:00"]
[null,null,null,null,null,null,null,null,null,null,null,null,null,null,null,null,null,null,null,null,null,null,null,null,null,null,null,null,null,null,null,null,null,null,null,null,null,null,null,null,null,null,null,null,null,null,null,null,null,null,null,null,null,null,null,null,null,null,null,null,130,"Ставропольский край","Красногвардейский муниципальный район","07630000","Село Преградное","07630422","26355225","ГУП СК \"Крайтеплоэнерго\"","2635060510","263501001","производство (некомбинированная выработка)+передача+сбыт","Некомбинированная выработка :: Сбыт :: Передача","/Тепловая энергия/Производство/Некомбинированная выработка :: /Тепловая энергия/Сбыт :: /Тепловая энергия/Передача","16-01-2002 00:00:00",null,"16-01-2002 00:00:00"]
[null,null,null,null,null,null,null,null,null,null,null,null,null,null,null,null,null,null,null,null,null,null,null,null,null,null,null,null,null,null,null,null,null,null,null,null,null,null,null,null,null,null,null,null,null,null,null,null,null,null,null,null,null,null,null,null,null,null,null,null,131,"Ставропольский край","Красногвардейский муниципальный район","07630000","Штурмовский сельсовет","07630443","26355225","ГУП СК \"Крайтеплоэнерго\"","2635060510","263501001","производство (некомбинированная выработка)+передача+сбыт","Некомбинированная выработка :: Сбыт :: Передача","/Тепловая энергия/Производство/Некомбинированная выработка :: /Тепловая энергия/Сбыт :: /Тепловая энергия/Передача","16-01-2002 00:00:00",null,"16-01-2002 00:00:00"]
[null,null,null,null,null,null,null,null,null,null,null,null,null,null,null,null,null,null,null,null,null,null,null,null,null,null,null,null,null,null,null,null,null,null,null,null,null,null,null,null,null,null,null,null,null,null,null,null,null,null,null,null,null,null,null,null,null,null,null,null,132,"Ставропольский край","Курский муниципальный район","07633000","Галюгаевский сельсовет","07633404","26355225","ГУП СК \"Крайтеплоэнерго\"","2635060510","263501001","производство (некомбинированная выработка)+сбыт","Некомбинированная выработка :: Сбыт","/Тепловая энергия/Производство/Некомбинированная выработка :: /Тепловая энергия/Сбыт","16-01-2002 00:00:00",null,"01-12-2015 00:00:00"]
[null,null,null,null,null,null,null,null,null,null,null,null,null,null,null,null,null,null,null,null,null,null,null,null,null,null,null,null,null,null,null,null,null,null,null,null,null,null,null,null,null,null,null,null,null,null,null,null,null,null,null,null,null,null,null,null,null,null,null,null,133,"Ставропольский край","Курский муниципальный район","07633000","Курский сельсовет","07633407","26355225","ГУП СК \"Крайтеплоэнерго\"","2635060510","263501001","производство (некомбинированная выработка)+передача+сбыт","Некомбинированная выработка :: Сбыт :: Передача","/Тепловая энергия/Производство/Некомбинированная выработка :: /Тепловая энергия/Сбыт :: /Тепловая энергия/Передача","16-01-2002 00:00:00",null,"16-01-2002 00:00:00"]
[null,null,null,null,null,null,null,null,null,null,null,null,null,null,null,null,null,null,null,null,null,null,null,null,null,null,null,null,null,null,null,null,null,null,null,null,null,null,null,null,null,null,null,null,null,null,null,null,null,null,null,null,null,null,null,null,null,null,null,null,134,"Ставропольский край","Курский муниципальный район","07633000","Курский сельсовет","07633407","26355178","МУП КМР СК « ЖКХ Курского района»","2612016970","261201001","производство (некомбинированная выработка)+передача+сбыт","Некомбинированная выработка :: Сбыт :: Передача","/Тепловая энергия/Производство/Некомбинированная выработка :: /Тепловая энергия/Сбыт :: /Тепловая энергия/Передача","08-08-2002 00:00:00",null,"08-08-2002 00:00:00"]
[null,null,null,null,null,null,null,null,null,null,null,null,null,null,null,null,null,null,null,null,null,null,null,null,null,null,null,null,null,null,null,null,null,null,null,null,null,null,null,null,null,null,null,null,null,null,null,null,null,null,null,null,null,null,null,null,null,null,null,null,135,"Ставропольский край","Левокумский муниципальный район","07636000","Бургун-Маджарский сельсовет","07636402","26355225","ГУП СК \"Крайтеплоэнерго\"","2635060510","263501001","производство (некомбинированная выработка)+передача+сбыт","Некомбинированная выработка :: Сбыт :: Передача","/Тепловая энергия/Производство/Некомбинированная выработка :: /Тепловая энергия/Сбыт :: /Тепловая энергия/Передача","16-01-2002 00:00:00",null,"16-01-2002 00:00:00"]
[null,null,null,null,null,null,null,null,null,null,null,null,null,null,null,null,null,null,null,null,null,null,null,null,null,null,null,null,null,null,null,null,null,null,null,null,null,null,null,null,null,null,null,null,null,null,null,null,null,null,null,null,null,null,null,null,null,null,null,null,136,"Ставропольский край","Левокумский муниципальный район","07636000","Величаевский сельсовет","07636404","26355225","ГУП СК \"Крайтеплоэнерго\"","2635060510","263501001","производство (некомбинированная выработка)+передача+сбыт","Некомбинированная выработка :: Сбыт :: Передача","/Тепловая энергия/Производство/Некомбинированная выработка :: /Тепловая энергия/Сбыт :: /Тепловая энергия/Передача","16-01-2002 00:00:00",null,"16-01-2002 00:00:00"]
[null,null,null,null,null,null,null,null,null,null,null,null,null,null,null,null,null,null,null,null,null,null,null,null,null,null,null,null,null,null,null,null,null,null,null,null,null,null,null,null,null,null,null,null,null,null,null,null,null,null,null,null,null,null,null,null,null,null,null,null,137,"Ставропольский край","Левокумский муниципальный район","07636000","Заринский сельсовет","07636409","26355225","ГУП СК \"Крайтеплоэнерго\"","2635060510","263501001","производство (некомбинированная выработка)+передача+сбыт","Некомбинированная выработка :: Сбыт :: Передача","/Тепловая энергия/Производство/Некомбинированная выработка :: /Тепловая энергия/Сбыт :: /Тепловая энергия/Передача","16-01-2002 00:00:00",null,"16-01-2002 00:00:00"]
[null,null,null,null,null,null,null,null,null,null,null,null,null,null,null,null,null,null,null,null,null,null,null,null,null,null,null,null,null,null,null,null,null,null,null,null,null,null,null,null,null,null,null,null,null,null,null,null,null,null,null,null,null,null,null,null,null,null,null,null,138,"Ставропольский край","Левокумский муниципальный район","07636000","Николо-Александровский сельсовет","07636413","26355225","ГУП СК \"Крайтеплоэнерго\"","2635060510","263501001","производство (некомбинированная выработка)+передача+сбыт","Некомбинированная выработка :: Сбыт :: Передача","/Тепловая энергия/Производство/Некомбинированная выработка :: /Тепловая энергия/Сбыт :: /Тепловая энергия/Передача","16-01-2002 00:00:00",null,"16-01-2002 00:00:00"]
[null,null,null,null,null,null,null,null,null,null,null,null,null,null,null,null,null,null,null,null,null,null,null,null,null,null,null,null,null,null,null,null,null,null,null,null,null,null,null,null,null,null,null,null,null,null,null,null,null,null,null,null,null,null,null,null,null,null,null,null,139,"Ставропольский край","Левокумский муниципальный район","07636000","Поселок Новокумский","07636414","26355225","ГУП СК \"Крайтеплоэнерго\"","2635060510","263501001","производство (некомбинированная выработка)+передача+сбыт","Некомбинированная выработка :: Сбыт :: Передача","/Тепловая энергия/Производство/Некомбинированная выработка :: /Тепловая энергия/Сбыт :: /Тепловая энергия/Передача","16-01-2002 00:00:00",null,"16-01-2002 00:00:00"]
[null,null,null,null,null,null,null,null,null,null,null,null,null,null,null,null,null,null,null,null,null,null,null,null,null,null,null,null,null,null,null,null,null,null,null,null,null,null,null,null,null,null,null,null,null,null,null,null,null,null,null,null,null,null,null,null,null,null,null,null,140,"Ставропольский край","Левокумский муниципальный район","07636000","Село Левокумское","07636410","26355225","ГУП СК \"Крайтеплоэнерго\"","2635060510","263501001","производство (некомбинированная выработка)+передача+сбыт","Некомбинированная выработка :: Сбыт :: Передача","/Тепловая энергия/Производство/Некомбинированная выработка :: /Тепловая энергия/Сбыт :: /Тепловая энергия/Передача","16-01-2002 00:00:00",null,"16-01-2002 00:00:00"]
[null,null,null,null,null,null,null,null,null,null,null,null,null,null,null,null,null,null,null,null,null,null,null,null,null,null,null,null,null,null,null,null,null,null,null,null,null,null,null,null,null,null,null,null,null,null,null,null,null,null,null,null,null,null,null,null,null,null,null,null,141,"Ставропольский край","Левокумский муниципальный район","07636000","Село Правокумское","07636416","26355225","ГУП СК \"Крайтеплоэнерго\"","2635060510","263501001","производство (некомбинированная выработка)+передача+сбыт","Некомбинированная выработка :: Сбыт :: Передача","/Тепловая энергия/Производство/Некомбинированная выработка :: /Тепловая энергия/Сбыт :: /Тепловая энергия/Передача","16-01-2002 00:00:00",null,"16-01-2002 00:00:00"]
[null,null,null,null,null,null,null,null,null,null,null,null,null,null,null,null,null,null,null,null,null,null,null,null,null,null,null,null,null,null,null,null,null,null,null,null,null,null,null,null,null,null,null,null,null,null,null,null,null,null,null,null,null,null,null,null,null,null,null,null,142,"Ставропольский край","Левокумский муниципальный район","07636000","Село Урожайное","07636422","26355225","ГУП СК \"Крайтеплоэнерго\"","2635060510","263501001","производство (некомбинированная выработка)+передача+сбыт","Некомбинированная выработка :: Сбыт :: Передача","/Тепловая энергия/Производство/Некомбинированная выработка :: /Тепловая энергия/Сбыт :: /Тепловая энергия/Передача","16-01-2002 00:00:00",null,"16-01-2002 00:00:00"]
[null,null,null,null,null,null,null,null,null,null,null,null,null,null,null,null,null,null,null,null,null,null,null,null,null,null,null,null,null,null,null,null,null,null,null,null,null,null,null,null,null,null,null,null,null,null,null,null,null,null,null,null,null,null,null,null,null,null,null,null,143,"Ставропольский край","Минераловодский","07721000","Минераловодский","07721000","26355222","ГБУЗ СК \"ККБ\"","2630019702","263001001","производство (некомбинированная выработка)+передача+сбыт","Некомбинированная выработка :: Сбыт :: Передача","/Тепловая энергия/Производство/Некомбинированная выработка :: /Тепловая энергия/Сбыт :: /Тепловая энергия/Передача","10-04-1996 00:00:00",null,"04-01-2012 00:00:00"]
[null,null,null,null,null,null,null,null,null,null,null,null,null,null,null,null,null,null,null,null,null,null,null,null,null,null,null,null,null,null,null,null,null,null,null,null,null,null,null,null,null,null,null,null,null,null,null,null,null,null,null,null,null,null,null,null,null,null,null,null,144,"Ставропольский край","Минераловодский","07721000","Минераловодский","07721000","26355225","ГУП СК \"Крайтеплоэнерго\"","2635060510","263501001","производство (некомбинированная выработка)+передача+сбыт","Некомбинированная выработка :: Сбыт :: Передача","/Тепловая энергия/Производство/Некомбинированная выработка :: /Тепловая энергия/Сбыт :: /Тепловая энергия/Передача","16-01-2002 00:00:00",null,"16-01-2002 00:00:00"]
[null,null,null,null,null,null,null,null,null,null,null,null,null,null,null,null,null,null,null,null,null,null,null,null,null,null,null,null,null,null,null,null,null,null,null,null,null,null,null,null,null,null,null,null,null,null,null,null,null,null,null,null,null,null,null,null,null,null,null,null,145,"Ставропольский край","Минераловодский","07721000","Минераловодский","07721000","26800337","ОАО \"Международный аэропорт Минеральные Воды\"","2630800970","263001001","производство (некомбинированная выработка)+передача+сбыт","Некомбинированная выработка :: Сбыт :: Передача","/Тепловая энергия/Производство/Некомбинированная выработка :: /Тепловая энергия/Сбыт :: /Тепловая энергия/Передача","25-01-2012 00:00:00",null,"29-03-2011 00:00:00"]
[null,null,null,null,null,null,null,null,null,null,null,null,null,null,null,null,null,null,null,null,null,null,null,null,null,null,null,null,null,null,null,null,null,null,null,null,null,null,null,null,null,null,null,null,null,null,null,null,null,null,null,null,null,null,null,null,null,null,null,null,146,"Ставропольский край","Минераловодский","07721000","Минераловодский","07721000","26816056","Северо-Кавказская дирекция по тепловодоснабжению структурное подразделение Центральной дирекции по тепловодоснабжению - филиала ОАО \"РЖД\"","7708503727","616745019","производство (некомбинированная выработка)+передача+сбыт","Некомбинированная выработка :: Сбыт :: Передача","/Тепловая энергия/Производство/Некомбинированная выработка :: /Тепловая энергия/Сбыт :: /Тепловая энергия/Передача",null,null,"25-04-2011 00:00:00"]
[null,null,null,null,null,null,null,null,null,null,null,null,null,null,null,null,null,null,null,null,null,null,null,null,null,null,null,null,null,null,null,null,null,null,null,null,null,null,null,null,null,null,null,null,null,null,null,null,null,null,null,null,null,null,null,null,null,null,null,null,147,"Ставропольский край","Минераловодский","07721000","Минераловодский","07721000","30923515","ФГБУ \"Центральное жилищно-коммунальное управление\" Министерства обороны РФ","7729314745","616543001","производство (некомбинированная выработка)+передача+сбыт","Некомбинированная выработка :: Сбыт :: Передача","/Тепловая энергия/Производство/Некомбинированная выработка :: /Тепловая энергия/Сбыт :: /Тепловая энергия/Передача","14-11-2002 00:00:00",null,"01-07-2017 00:00:00"]
[null,null,null,null,null,null,null,null,null,null,null,null,null,null,null,null,null,null,null,null,null,null,null,null,null,null,null,null,null,null,null,null,null,null,null,null,null,null,null,null,null,null,null,null,null,null,null,null,null,null,null,null,null,null,null,null,null,null,null,null,148,"Ставропольский край","Нефтекумский","07725000","Нефтекумский","07725000","26355225","ГУП СК \"Крайтеплоэнерго\"","2635060510","263501001","производство (некомбинированная выработка)+передача+сбыт","Некомбинированная выработка :: Сбыт :: Передача","/Тепловая энергия/Производство/Некомбинированная выработка :: /Тепловая энергия/Сбыт :: /Тепловая энергия/Передача","16-01-2002 00:00:00",null,"16-01-2002 00:00:00"]
[null,null,null,null,null,null,null,null,null,null,null,null,null,null,null,null,null,null,null,null,null,null,null,null,null,null,null,null,null,null,null,null,null,null,null,null,null,null,null,null,null,null,null,null,null,null,null,null,null,null,null,null,null,null,null,null,null,null,null,null,149,"Ставропольский край","Новоалександровский","07726000","Новоалександровский","07726000","26355225","ГУП СК \"Крайтеплоэнерго\"","2635060510","263501001","производство (некомбинированная выработка)+передача+сбыт","Некомбинированная выработка :: Сбыт :: Передача","/Тепловая энергия/Производство/Некомбинированная выработка :: /Тепловая энергия/Сбыт :: /Тепловая энергия/Передача","16-01-2002 00:00:00",null,"16-01-2002 00:00:00"]
[null,null,null,null,null,null,null,null,null,null,null,null,null,null,null,null,null,null,null,null,null,null,null,null,null,null,null,null,null,null,null,null,null,null,null,null,null,null,null,null,null,null,null,null,null,null,null,null,null,null,null,null,null,null,null,null,null,null,null,null,150,"Ставропольский край","Новоалександровский","07726000","Новоалександровский","07726000","26816056","Северо-Кавказская дирекция по тепловодоснабжению структурное подразделение Центральной дирекции по тепловодоснабжению - филиала ОАО \"РЖД\"","7708503727","616745019","производство (некомбинированная выработка)+передача+сбыт","Некомбинированная выработка :: Сбыт :: Передача","/Тепловая энергия/Производство/Некомбинированная выработка :: /Тепловая энергия/Сбыт :: /Тепловая энергия/Передача",null,null,"25-04-2011 00:00:00"]
[null,null,null,null,null,null,null,null,null,null,null,null,null,null,null,null,null,null,null,null,null,null,null,null,null,null,null,null,null,null,null,null,null,null,null,null,null,null,null,null,null,null,null,null,null,null,null,null,null,null,null,null,null,null,null,null,null,null,null,null,151,"Ставропольский край","Новоселицкий муниципальный район","07644000","Журавский сельсовет","07644404","26355225","ГУП СК \"Крайтеплоэнерго\"","2635060510","263501001","производство (некомбинированная выработка)+передача+сбыт","Некомбинированная выработка :: Сбыт :: Передача","/Тепловая энергия/Производство/Некомбинированная выработка :: /Тепловая энергия/Сбыт :: /Тепловая энергия/Передача","16-01-2002 00:00:00",null,"16-01-2002 00:00:00"]
[null,null,null,null,null,null,null,null,null,null,null,null,null,null,null,null,null,null,null,null,null,null,null,null,null,null,null,null,null,null,null,null,null,null,null,null,null,null,null,null,null,null,null,null,null,null,null,null,null,null,null,null,null,null,null,null,null,null,null,null,152,"Ставропольский край","Новоселицкий муниципальный район","07644000","Новомаякский сельсовет","07644409","26355225","ГУП СК \"Крайтеплоэнерго\"","2635060510","263501001","производство (некомбинированная выработка)+передача+сбыт","Некомбинированная выработка :: Сбыт :: Передача","/Тепловая энергия/Производство/Некомбинированная выработка :: /Тепловая энергия/Сбыт :: /Тепловая энергия/Передача","16-01-2002 00:00:00",null,"16-01-2002 00:00:00"]
[null,null,null,null,null,null,null,null,null,null,null,null,null,null,null,null,null,null,null,null,null,null,null,null,null,null,null,null,null,null,null,null,null,null,null,null,null,null,null,null,null,null,null,null,null,null,null,null,null,null,null,null,null,null,null,null,null,null,null,null,153,"Ставропольский край","Новоселицкий муниципальный район","07644000","Поселок Щелкан","07644420","26355225","ГУП СК \"Крайтеплоэнерго\"","2635060510","263501001","производство (некомбинированная выработка)+передача+сбыт","Некомбинированная выработка :: Сбыт :: Передача","/Тепловая энергия/Производство/Некомбинированная выработка :: /Тепловая энергия/Сбыт :: /Тепловая энергия/Передача","16-01-2002 00:00:00",null,"16-01-2002 00:00:00"]
[null,null,null,null,null,null,null,null,null,null,null,null,null,null,null,null,null,null,null,null,null,null,null,null,null,null,null,null,null,null,null,null,null,null,null,null,null,null,null,null,null,null,null,null,null,null,null,null,null,null,null,null,null,null,null,null,null,null,null,null,154,"Ставропольский край","Новоселицкий муниципальный район","07644000","Село Долиновка","07644402","26355225","ГУП СК \"Крайтеплоэнерго\"","2635060510","263501001","производство (некомбинированная выработка)+передача+сбыт","Некомбинированная выработка :: Сбыт :: Передача","/Тепловая энергия/Производство/Некомбинированная выработка :: /Тепловая энергия/Сбыт :: /Тепловая энергия/Передача","16-01-2002 00:00:00",null,"16-01-2002 00:00:00"]
[null,null,null,null,null,null,null,null,null,null,null,null,null,null,null,null,null,null,null,null,null,null,null,null,null,null,null,null,null,null,null,null,null,null,null,null,null,null,null,null,null,null,null,null,null,null,null,null,null,null,null,null,null,null,null,null,null,null,null,null,155,"Ставропольский край","Новоселицкий муниципальный район","07644000","Село Китаевское","07644407","31311400","ООО \"Теплострой\"","2625033363","262501001","производство (некомбинированная выработка)+передача+сбыт","Некомбинированная выработка :: Сбыт :: Передача","/Тепловая энергия/Производство/Некомбинированная выработка :: /Тепловая энергия/Сбыт :: /Тепловая энергия/Передача","11-05-2007 00:00:00",null,"17-05-2019 00:00:00"]
[null,null,null,null,null,null,null,null,null,null,null,null,null,null,null,null,null,null,null,null,null,null,null,null,null,null,null,null,null,null,null,null,null,null,null,null,null,null,null,null,null,null,null,null,null,null,null,null,null,null,null,null,null,null,null,null,null,null,null,null,156,"Ставропольский край","Новоселицкий муниципальный район","07644000","Село Новоселицкое","07644410","26355225","ГУП СК \"Крайтеплоэнерго\"","2635060510","263501001","производство (некомбинированная выработка)+передача+сбыт","Некомбинированная выработка :: Сбыт :: Передача","/Тепловая энергия/Производство/Некомбинированная выработка :: /Тепловая энергия/Сбыт :: /Тепловая энергия/Передача","16-01-2002 00:00:00",null,"16-01-2002 00:00:00"]
[null,null,null,null,null,null,null,null,null,null,null,null,null,null,null,null,null,null,null,null,null,null,null,null,null,null,null,null,null,null,null,null,null,null,null,null,null,null,null,null,null,null,null,null,null,null,null,null,null,null,null,null,null,null,null,null,null,null,null,null,157,"Ставропольский край","Новоселицкий муниципальный район","07644000","Село Падинское","07644412","26355225","ГУП СК \"Крайтеплоэнерго\"","2635060510","263501001","производство (некомбинированная выработка)+передача+сбыт","Некомбинированная выработка :: Сбыт :: Передача","/Тепловая энергия/Производство/Некомбинированная выработка :: /Тепловая энергия/Сбыт :: /Тепловая энергия/Передача","16-01-2002 00:00:00",null,"16-01-2002 00:00:00"]
[null,null,null,null,null,null,null,null,null,null,null,null,null,null,null,null,null,null,null,null,null,null,null,null,null,null,null,null,null,null,null,null,null,null,null,null,null,null,null,null,null,null,null,null,null,null,null,null,null,null,null,null,null,null,null,null,null,null,null,null,158,"Ставропольский край","Новоселицкий муниципальный район","07644000","Село Чернолесское","07644413","26355225","ГУП СК \"Крайтеплоэнерго\"","2635060510","263501001","производство (некомбинированная выработка)+передача+сбыт","Некомбинированная выработка :: Сбыт :: Передача","/Тепловая энергия/Производство/Некомбинированная выработка :: /Тепловая энергия/Сбыт :: /Тепловая энергия/Передача","16-01-2002 00:00:00",null,"16-01-2002 00:00:00"]
[null,null,null,null,null,null,null,null,null,null,null,null,null,null,null,null,null,null,null,null,null,null,null,null,null,null,null,null,null,null,null,null,null,null,null,null,null,null,null,null,null,null,null,null,null,null,null,null,null,null,null,null,null,null,null,null,null,null,null,null,159,"Ставропольский край","Петровский","07731000","Петровский","07731000","26355225","ГУП СК \"Крайтеплоэнерго\"","2635060510","263501001","производство (некомбинированная выработка)+передача+сбыт","Некомбинированная выработка :: Сбыт :: Передача","/Тепловая энергия/Производство/Некомбинированная выработка :: /Тепловая энергия/Сбыт :: /Тепловая энергия/Передача","16-01-2002 00:00:00",null,"16-01-2002 00:00:00"]
[null,null,null,null,null,null,null,null,null,null,null,null,null,null,null,null,null,null,null,null,null,null,null,null,null,null,null,null,null,null,null,null,null,null,null,null,null,null,null,null,null,null,null,null,null,null,null,null,null,null,null,null,null,null,null,null,null,null,null,null,160,"Ставропольский край","Петровский","07731000","Петровский","07731000","26414029","КП СК «Надежда»","2617013148","261701001","производство (некомбинированная выработка)+сбыт","Некомбинированная выработка :: Сбыт","/Тепловая энергия/Производство/Некомбинированная выработка :: /Тепловая энергия/Сбыт","04-02-2008 00:00:00",null,"12-01-2018 00:00:00"]
[null,null,null,null,null,null,null,null,null,null,null,null,null,null,null,null,null,null,null,null,null,null,null,null,null,null,null,null,null,null,null,null,null,null,null,null,null,null,null,null,null,null,null,null,null,null,null,null,null,null,null,null,null,null,null,null,null,null,null,null,161,"Ставропольский край","Петровский","07731000","Петровский","07731000","26816056","Северо-Кавказская дирекция по тепловодоснабжению структурное подразделение Центральной дирекции по тепловодоснабжению - филиала ОАО \"РЖД\"","7708503727","616745019","производство (некомбинированная выработка)+передача+сбыт","Некомбинированная выработка :: Сбыт :: Передача","/Тепловая энергия/Производство/Некомбинированная выработка :: /Тепловая энергия/Сбыт :: /Тепловая энергия/Передача",null,null,"25-04-2011 00:00:00"]
[null,null,null,null,null,null,null,null,null,null,null,null,null,null,null,null,null,null,null,null,null,null,null,null,null,null,null,null,null,null,null,null,null,null,null,null,null,null,null,null,null,null,null,null,null,null,null,null,null,null,null,null,null,null,null,null,null,null,null,null,162,"Ставропольский край","Петровский","07731000","Петровский","07731000","26322297","Северо-Кавказский филиал ООО \"Газпром энерго\"","7736186950","263602001","производство (некомбинированная выработка)+передача","Некомбинированная выработка :: Передача","/Тепловая энергия/Производство/Некомбинированная выработка :: /Тепловая энергия/Передача","27-07-1998 00:00:00",null,"02-01-2012 00:00:00"]
[null,null,null,null,null,null,null,null,null,null,null,null,null,null,null,null,null,null,null,null,null,null,null,null,null,null,null,null,null,null,null,null,null,null,null,null,null,null,null,null,null,null,null,null,null,null,null,null,null,null,null,null,null,null,null,null,null,null,null,null,163,"Ставропольский край","Предгорный муниципальный район","07648000","Винсадский сельсовет","07648410","26355225","ГУП СК \"Крайтеплоэнерго\"","2635060510","263501001","производство (некомбинированная выработка)+передача+сбыт","Некомбинированная выработка :: Сбыт :: Передача","/Тепловая энергия/Производство/Некомбинированная выработка :: /Тепловая энергия/Сбыт :: /Тепловая энергия/Передача","16-01-2002 00:00:00",null,"16-01-2002 00:00:00"]
[null,null,null,null,null,null,null,null,null,null,null,null,null,null,null,null,null,null,null,null,null,null,null,null,null,null,null,null,null,null,null,null,null,null,null,null,null,null,null,null,null,null,null,null,null,null,null,null,null,null,null,null,null,null,null,null,null,null,null,null,164,"Ставропольский край","Предгорный муниципальный район","07648000","Ессентукский сельсовет","07648413","26355225","ГУП СК \"Крайтеплоэнерго\"","2635060510","263501001","производство (некомбинированная выработка)+передача+сбыт","Некомбинированная выработка :: Сбыт :: Передача","/Тепловая энергия/Производство/Некомбинированная выработка :: /Тепловая энергия/Сбыт :: /Тепловая энергия/Передача","16-01-2002 00:00:00",null,"16-01-2002 00:00:00"]
[null,null,null,null,null,null,null,null,null,null,null,null,null,null,null,null,null,null,null,null,null,null,null,null,null,null,null,null,null,null,null,null,null,null,null,null,null,null,null,null,null,null,null,null,null,null,null,null,null,null,null,null,null,null,null,null,null,null,null,null,165,"Ставропольский край","Предгорный муниципальный район","07648000","Нежинский сельсовет","07648416","26355225","ГУП СК \"Крайтеплоэнерго\"","2635060510","263501001","производство (некомбинированная выработка)+передача+сбыт","Некомбинированная выработка :: Сбыт :: Передача","/Тепловая энергия/Производство/Некомбинированная выработка :: /Тепловая энергия/Сбыт :: /Тепловая энергия/Передача","16-01-2002 00:00:00",null,"16-01-2002 00:00:00"]
[null,null,null,null,null,null,null,null,null,null,null,null,null,null,null,null,null,null,null,null,null,null,null,null,null,null,null,null,null,null,null,null,null,null,null,null,null,null,null,null,null,null,null,null,null,null,null,null,null,null,null,null,null,null,null,null,null,null,null,null,166,"Ставропольский край","Предгорный муниципальный район","07648000","Новоблагодарненский сельсовет","07648422","26355225","ГУП СК \"Крайтеплоэнерго\"","2635060510","263501001","производство (некомбинированная выработка)+передача+сбыт","Некомбинированная выработка :: Сбыт :: Передача","/Тепловая энергия/Производство/Некомбинированная выработка :: /Тепловая энергия/Сбыт :: /Тепловая энергия/Передача","16-01-2002 00:00:00",null,"16-01-2002 00:00:00"]
[null,null,null,null,null,null,null,null,null,null,null,null,null,null,null,null,null,null,null,null,null,null,null,null,null,null,null,null,null,null,null,null,null,null,null,null,null,null,null,null,null,null,null,null,null,null,null,null,null,null,null,null,null,null,null,null,null,null,null,null,167,"Ставропольский край","Предгорный муниципальный район","07648000","Подкумский сельсовет","07648424","26355225","ГУП СК \"Крайтеплоэнерго\"","2635060510","263501001","производство (некомбинированная выработка)+передача+сбыт","Некомбинированная выработка :: Сбыт :: Передача","/Тепловая энергия/Производство/Некомбинированная выработка :: /Тепловая энергия/Сбыт :: /Тепловая энергия/Передача","16-01-2002 00:00:00",null,"16-01-2002 00:00:00"]
[null,null,null,null,null,null,null,null,null,null,null,null,null,null,null,null,null,null,null,null,null,null,null,null,null,null,null,null,null,null,null,null,null,null,null,null,null,null,null,null,null,null,null,null,null,null,null,null,null,null,null,null,null,null,null,null,null,null,null,null,168,"Ставропольский край","Предгорный муниципальный район","07648000","Пятигорский сельсовет","07648428","26355225","ГУП СК \"Крайтеплоэнерго\"","2635060510","263501001","производство (некомбинированная выработка)+передача+сбыт","Некомбинированная выработка :: Сбыт :: Передача","/Тепловая энергия/Производство/Некомбинированная выработка :: /Тепловая энергия/Сбыт :: /Тепловая энергия/Передача","16-01-2002 00:00:00",null,"16-01-2002 00:00:00"]
[null,null,null,null,null,null,null,null,null,null,null,null,null,null,null,null,null,null,null,null,null,null,null,null,null,null,null,null,null,null,null,null,null,null,null,null,null,null,null,null,null,null,null,null,null,null,null,null,null,null,null,null,null,null,null,null,null,null,null,null,169,"Ставропольский край","Предгорный муниципальный район","07648000","Станица Бекешевская","07648402","26355225","ГУП СК \"Крайтеплоэнерго\"","2635060510","263501001","производство (некомбинированная выработка)+передача+сбыт","Некомбинированная выработка :: Сбыт :: Передача","/Тепловая энергия/Производство/Некомбинированная выработка :: /Тепловая энергия/Сбыт :: /Тепловая энергия/Передача","16-01-2002 00:00:00",null,"16-01-2002 00:00:00"]
[null,null,null,null,null,null,null,null,null,null,null,null,null,null,null,null,null,null,null,null,null,null,null,null,null,null,null,null,null,null,null,null,null,null,null,null,null,null,null,null,null,null,null,null,null,null,null,null,null,null,null,null,null,null,null,null,null,null,null,null,170,"Ставропольский край","Предгорный муниципальный район","07648000","Станица Боргустанская","07648407","26355225","ГУП СК \"Крайтеплоэнерго\"","2635060510","263501001","производство (некомбинированная выработка)+передача+сбыт","Некомбинированная выработка :: Сбыт :: Передача","/Тепловая энергия/Производство/Некомбинированная выработка :: /Тепловая энергия/Сбыт :: /Тепловая энергия/Передача","16-01-2002 00:00:00",null,"16-01-2002 00:00:00"]
[null,null,null,null,null,null,null,null,null,null,null,null,null,null,null,null,null,null,null,null,null,null,null,null,null,null,null,null,null,null,null,null,null,null,null,null,null,null,null,null,null,null,null,null,null,null,null,null,null,null,null,null,null,null,null,null,null,null,null,null,171,"Ставропольский край","Предгорный муниципальный район","07648000","Суворовский сельсовет","07648431","26355225","ГУП СК \"Крайтеплоэнерго\"","2635060510","263501001","производство (некомбинированная выработка)+передача+сбыт","Некомбинированная выработка :: Сбыт :: Передача","/Тепловая энергия/Производство/Некомбинированная выработка :: /Тепловая энергия/Сбыт :: /Тепловая энергия/Передача","16-01-2002 00:00:00",null,"16-01-2002 00:00:00"]
[null,null,null,null,null,null,null,null,null,null,null,null,null,null,null,null,null,null,null,null,null,null,null,null,null,null,null,null,null,null,null,null,null,null,null,null,null,null,null,null,null,null,null,null,null,null,null,null,null,null,null,null,null,null,null,null,null,null,null,null,172,"Ставропольский край","Предгорный муниципальный район","07648000","Тельмановский сельсовет","07648432","26355225","ГУП СК \"Крайтеплоэнерго\"","2635060510","263501001","производство (некомбинированная выработка)+сбыт","Некомбинированная выработка :: Сбыт","/Тепловая энергия/Производство/Некомбинированная выработка :: /Тепловая энергия/Сбыт","16-01-2002 00:00:00",null,"01-12-2015 00:00:00"]
[null,null,null,null,null,null,null,null,null,null,null,null,null,null,null,null,null,null,null,null,null,null,null,null,null,null,null,null,null,null,null,null,null,null,null,null,null,null,null,null,null,null,null,null,null,null,null,null,null,null,null,null,null,null,null,null,null,null,null,null,173,"Ставропольский край","Предгорный муниципальный район","07648000","Этокский сельсовет","07648434","26355225","ГУП СК \"Крайтеплоэнерго\"","2635060510","263501001","производство (некомбинированная выработка)+передача+сбыт","Некомбинированная выработка :: Сбыт :: Передача","/Тепловая энергия/Производство/Некомбинированная выработка :: /Тепловая энергия/Сбыт :: /Тепловая энергия/Передача","16-01-2002 00:00:00",null,"16-01-2002 00:00:00"]
[null,null,null,null,null,null,null,null,null,null,null,null,null,null,null,null,null,null,null,null,null,null,null,null,null,null,null,null,null,null,null,null,null,null,null,null,null,null,null,null,null,null,null,null,null,null,null,null,null,null,null,null,null,null,null,null,null,null,null,null,174,"Ставропольский край","Предгорный муниципальный район","07648000","Юцкий сельсовет","07648437","26355225","ГУП СК \"Крайтеплоэнерго\"","2635060510","263501001","производство (некомбинированная выработка)+передача+сбыт","Некомбинированная выработка :: Сбыт :: Передача","/Тепловая энергия/Производство/Некомбинированная выработка :: /Тепловая энергия/Сбыт :: /Тепловая энергия/Передача","16-01-2002 00:00:00",null,"16-01-2002 00:00:00"]
[null,null,null,null,null,null,null,null,null,null,null,null,null,null,null,null,null,null,null,null,null,null,null,null,null,null,null,null,null,null,null,null,null,null,null,null,null,null,null,null,null,null,null,null,null,null,null,null,null,null,null,null,null,null,null,null,null,null,null,null,175,"Ставропольский край","Предгорный муниципальный район","07648000","Яснополянский сельсовет","07648440","26355225","ГУП СК \"Крайтеплоэнерго\"","2635060510","263501001","производство (некомбинированная выработка)+передача+сбыт","Некомбинированная выработка :: Сбыт :: Передача","/Тепловая энергия/Производство/Некомбинированная выработка :: /Тепловая энергия/Сбыт :: /Тепловая энергия/Передача","16-01-2002 00:00:00",null,"16-01-2002 00:00:00"]
[null,null,null,null,null,null,null,null,null,null,null,null,null,null,null,null,null,null,null,null,null,null,null,null,null,null,null,null,null,null,null,null,null,null,null,null,null,null,null,null,null,null,null,null,null,null,null,null,null,null,null,null,null,null,null,null,null,null,null,null,176,"Ставропольский край","Советский","07735000","Советский","07735000","26355225","ГУП СК \"Крайтеплоэнерго\"","2635060510","263501001","производство (некомбинированная выработка)+передача+сбыт","Некомбинированная выработка :: Сбыт :: Передача","/Тепловая энергия/Производство/Некомбинированная выработка :: /Тепловая энергия/Сбыт :: /Тепловая энергия/Передача","16-01-2002 00:00:00",null,"16-01-2002 00:00:00"]
[null,null,null,null,null,null,null,null,null,null,null,null,null,null,null,null,null,null,null,null,null,null,null,null,null,null,null,null,null,null,null,null,null,null,null,null,null,null,null,null,null,null,null,null,null,null,null,null,null,null,null,null,null,null,null,null,null,null,null,null,177,"Ставропольский край","Советский","07735000","Советский","07735000","26355185","ГУП СК \"Теплосеть\"","2625002189","262501001","производство (некомбинированная выработка)+передача+сбыт","Некомбинированная выработка :: Сбыт :: Передача","/Тепловая энергия/Производство/Некомбинированная выработка :: /Тепловая энергия/Сбыт :: /Тепловая энергия/Передача",null,null,"01-08-2018 00:00:00"]
[null,null,null,null,null,null,null,null,null,null,null,null,null,null,null,null,null,null,null,null,null,null,null,null,null,null,null,null,null,null,null,null,null,null,null,null,null,null,null,null,null,null,null,null,null,null,null,null,null,null,null,null,null,null,null,null,null,null,null,null,178,"Ставропольский край","Советский","07735000","Советский","07735000","26816056","Северо-Кавказская дирекция по тепловодоснабжению структурное подразделение Центральной дирекции по тепловодоснабжению - филиала ОАО \"РЖД\"","7708503727","616745019","производство (некомбинированная выработка)+передача+сбыт","Некомбинированная выработка :: Сбыт :: Передача","/Тепловая энергия/Производство/Некомбинированная выработка :: /Тепловая энергия/Сбыт :: /Тепловая энергия/Передача",null,null,"25-04-2011 00:00:00"]
[null,null,null,null,null,null,null,null,null,null,null,null,null,null,null,null,null,null,null,null,null,null,null,null,null,null,null,null,null,null,null,null,null,null,null,null,null,null,null,null,null,null,null,null,null,null,null,null,null,null,null,null,null,null,null,null,null,null,null,null,179,"Ставропольский край","Степновский муниципальный район","07652000","Степновский сельсовет","07652426","26355182","МУП \"КХ\" Степновского муниципального района Ставропольского края","2620000580","262001001","производство (некомбинированная выработка)+передача+сбыт","Некомбинированная выработка :: Сбыт :: Передача","/Тепловая энергия/Производство/Некомбинированная выработка :: /Тепловая энергия/Сбыт :: /Тепловая энергия/Передача","26-05-2009 00:00:00",null,"26-05-2009 00:00:00"]
[null,null,null,null,null,null,null,null,null,null,null,null,null,null,null,null,null,null,null,null,null,null,null,null,null,null,null,null,null,null,null,null,null,null,null,null,null,null,null,null,null,null,null,null,null,null,null,null,null,null,null,null,null,null,null,null,null,null,null,null,180,"Ставропольский край","Труновский муниципальный район","07654000","Безопасненский сельсовет","07654402","26355225","ГУП СК \"Крайтеплоэнерго\"","2635060510","263501001","производство (некомбинированная выработка)+передача+сбыт","Некомбинированная выработка :: Сбыт :: Передача","/Тепловая энергия/Производство/Некомбинированная выработка :: /Тепловая энергия/Сбыт :: /Тепловая энергия/Передача","16-01-2002 00:00:00",null,"16-01-2002 00:00:00"]
[null,null,null,null,null,null,null,null,null,null,null,null,null,null,null,null,null,null,null,null,null,null,null,null,null,null,null,null,null,null,null,null,null,null,null,null,null,null,null,null,null,null,null,null,null,null,null,null,null,null,null,null,null,null,null,null,null,null,null,null,181,"Ставропольский край","Труновский муниципальный район","07654000","Донской сельсовет","07654404","26355225","ГУП СК \"Крайтеплоэнерго\"","2635060510","263501001","производство (некомбинированная выработка)+передача+сбыт","Некомбинированная выработка :: Сбыт :: Передача","/Тепловая энергия/Производство/Некомбинированная выработка :: /Тепловая энергия/Сбыт :: /Тепловая энергия/Передача","16-01-2002 00:00:00",null,"16-01-2002 00:00:00"]
[null,null,null,null,null,null,null,null,null,null,null,null,null,null,null,null,null,null,null,null,null,null,null,null,null,null,null,null,null,null,null,null,null,null,null,null,null,null,null,null,null,null,null,null,null,null,null,null,null,null,null,null,null,null,null,null,null,null,null,null,182,"Ставропольский край","Труновский муниципальный район","07654000","Село Новая Кугульта","07654410","26355225","ГУП СК \"Крайтеплоэнерго\"","2635060510","263501001","производство (некомбинированная выработка)+передача+сбыт","Некомбинированная выработка :: Сбыт :: Передача","/Тепловая энергия/Производство/Некомбинированная выработка :: /Тепловая энергия/Сбыт :: /Тепловая энергия/Передача","16-01-2002 00:00:00",null,"16-01-2002 00:00:00"]
[null,null,null,null,null,null,null,null,null,null,null,null,null,null,null,null,null,null,null,null,null,null,null,null,null,null,null,null,null,null,null,null,null,null,null,null,null,null,null,null,null,null,null,null,null,null,null,null,null,null,null,null,null,null,null,null,null,null,null,null,183,"Ставропольский край","Труновский муниципальный район","07654000","Село Подлесное","07654413","26355225","ГУП СК \"Крайтеплоэнерго\"","2635060510","263501001","производство (некомбинированная выработка)+передача+сбыт","Некомбинированная выработка :: Сбыт :: Передача","/Тепловая энергия/Производство/Некомбинированная выработка :: /Тепловая энергия/Сбыт :: /Тепловая энергия/Передача","16-01-2002 00:00:00",null,"16-01-2002 00:00:00"]
[null,null,null,null,null,null,null,null,null,null,null,null,null,null,null,null,null,null,null,null,null,null,null,null,null,null,null,null,null,null,null,null,null,null,null,null,null,null,null,null,null,null,null,null,null,null,null,null,null,null,null,null,null,null,null,null,null,null,null,null,184,"Ставропольский край","Труновский муниципальный район","07654000","Труновский сельсовет","07654416","26355225","ГУП СК \"Крайтеплоэнерго\"","2635060510","263501001","производство (некомбинированная выработка)+передача+сбыт","Некомбинированная выработка :: Сбыт :: Передача","/Тепловая энергия/Производство/Некомбинированная выработка :: /Тепловая энергия/Сбыт :: /Тепловая энергия/Передача","16-01-2002 00:00:00",null,"16-01-2002 00:00:00"]
[null,null,null,null,null,null,null,null,null,null,null,null,null,null,null,null,null,null,null,null,null,null,null,null,null,null,null,null,null,null,null,null,null,null,null,null,null,null,null,null,null,null,null,null,null,null,null,null,null,null,null,null,null,null,null,null,null,null,null,null,185,"Ставропольский край","Туркменский муниципальный район","07656000","Кендже-Кулакский сельсовет","07656407","31235882","ООО \"Коммунальное хозяйство\" Туркменского муниципального района Ставропольского края","2622005600","262201001","производство (некомбинированная выработка)+передача+сбыт","Некомбинированная выработка :: Сбыт :: Передача","/Тепловая энергия/Производство/Некомбинированная выработка :: /Тепловая энергия/Сбыт :: /Тепловая энергия/Передача","02-07-2018 00:00:00",null,"01-01-2019 00:00:00"]
[null,null,null,null,null,null,null,null,null,null,null,null,null,null,null,null,null,null,null,null,null,null,null,null,null,null,null,null,null,null,null,null,null,null,null,null,null,null,null,null,null,null,null,null,null,null,null,null,null,null,null,null,null,null,null,null,null,null,null,null,186,"Ставропольский край","Туркменский муниципальный район","07656000","Красноманычский сельсовет","07656410","31235882","ООО \"Коммунальное хозяйство\" Туркменского муниципального района Ставропольского края","2622005600","262201001","производство (некомбинированная выработка)+передача+сбыт","Некомбинированная выработка :: Сбыт :: Передача","/Тепловая энергия/Производство/Некомбинированная выработка :: /Тепловая энергия/Сбыт :: /Тепловая энергия/Передача","02-07-2018 00:00:00",null,"01-01-2019 00:00:00"]
[null,null,null,null,null,null,null,null,null,null,null,null,null,null,null,null,null,null,null,null,null,null,null,null,null,null,null,null,null,null,null,null,null,null,null,null,null,null,null,null,null,null,null,null,null,null,null,null,null,null,null,null,null,null,null,null,null,null,null,null,187,"Ставропольский край","Туркменский муниципальный район","07656000","Куликово-Копанский сельсовет","07656413","31235882","ООО \"Коммунальное хозяйство\" Туркменского муниципального района Ставропольского края","2622005600","262201001","производство (некомбинированная выработка)+сбыт","Некомбинированная выработка :: Сбыт","/Тепловая энергия/Производство/Некомбинированная выработка :: /Тепловая энергия/Сбыт","02-07-2018 00:00:00",null,"01-01-2019 00:00:00"]
[null,null,null,null,null,null,null,null,null,null,null,null,null,null,null,null,null,null,null,null,null,null,null,null,null,null,null,null,null,null,null,null,null,null,null,null,null,null,null,null,null,null,null,null,null,null,null,null,null,null,null,null,null,null,null,null,null,null,null,null,188,"Ставропольский край","Туркменский муниципальный район","07656000","Кучерлинский сельсовет","07656416","31235882","ООО \"Коммунальное хозяйство\" Туркменского муниципального района Ставропольского края","2622005600","262201001","производство (некомбинированная выработка)+сбыт","Некомбинированная выработка :: Сбыт","/Тепловая энергия/Производство/Некомбинированная выработка :: /Тепловая энергия/Сбыт","02-07-2018 00:00:00",null,"01-01-2019 00:00:00"]
[null,null,null,null,null,null,null,null,null,null,null,null,null,null,null,null,null,null,null,null,null,null,null,null,null,null,null,null,null,null,null,null,null,null,null,null,null,null,null,null,null,null,null,null,null,null,null,null,null,null,null,null,null,null,null,null,null,null,null,null,189,"Ставропольский край","Туркменский муниципальный район","07656000","Летнеставочный сельсовет","07656419","31235882","ООО \"Коммунальное хозяйство\" Туркменского муниципального района Ставропольского края","2622005600","262201001","производство (некомбинированная выработка)+передача+сбыт","Некомбинированная выработка :: Сбыт :: Передача","/Тепловая энергия/Производство/Некомбинированная выработка :: /Тепловая энергия/Сбыт :: /Тепловая энергия/Передача","02-07-2018 00:00:00",null,"01-01-2019 00:00:00"]
[null,null,null,null,null,null,null,null,null,null,null,null,null,null,null,null,null,null,null,null,null,null,null,null,null,null,null,null,null,null,null,null,null,null,null,null,null,null,null,null,null,null,null,null,null,null,null,null,null,null,null,null,null,null,null,null,null,null,null,null,190,"Ставропольский край","Туркменский муниципальный район","07656000","Новокучерлинский сельсовет","07656424","31235882","ООО \"Коммунальное хозяйство\" Туркменского муниципального района Ставропольского края","2622005600","262201001","производство (некомбинированная выработка)+передача+сбыт","Некомбинированная выработка :: Сбыт :: Передача","/Тепловая энергия/Производство/Некомбинированная выработка :: /Тепловая энергия/Сбыт :: /Тепловая энергия/Передача","02-07-2018 00:00:00",null,"01-01-2019 00:00:00"]
[null,null,null,null,null,null,null,null,null,null,null,null,null,null,null,null,null,null,null,null,null,null,null,null,null,null,null,null,null,null,null,null,null,null,null,null,null,null,null,null,null,null,null,null,null,null,null,null,null,null,null,null,null,null,null,null,null,null,null,null,191,"Ставропольский край","Туркменский муниципальный район","07656000","Овощинский сельсовет","07656426","31235882","ООО \"Коммунальное хозяйство\" Туркменского муниципального района Ставропольского края","2622005600","262201001","производство (некомбинированная выработка)+сбыт","Некомбинированная выработка :: Сбыт","/Тепловая энергия/Производство/Некомбинированная выработка :: /Тепловая энергия/Сбыт","02-07-2018 00:00:00",null,"01-01-2019 00:00:00"]
[null,null,null,null,null,null,null,null,null,null,null,null,null,null,null,null,null,null,null,null,null,null,null,null,null,null,null,null,null,null,null,null,null,null,null,null,null,null,null,null,null,null,null,null,null,null,null,null,null,null,null,null,null,null,null,null,null,null,null,null,192,"Ставропольский край","Туркменский муниципальный район","07656000","Село Казгулак","07656402","31235882","ООО \"Коммунальное хозяйство\" Туркменского муниципального района Ставропольского края","2622005600","262201001","производство (некомбинированная выработка)+сбыт","Некомбинированная выработка :: Сбыт","/Тепловая энергия/Производство/Некомбинированная выработка :: /Тепловая энергия/Сбыт","02-07-2018 00:00:00",null,"01-01-2019 00:00:00"]
[null,null,null,null,null,null,null,null,null,null,null,null,null,null,null,null,null,null,null,null,null,null,null,null,null,null,null,null,null,null,null,null,null,null,null,null,null,null,null,null,null,null,null,null,null,null,null,null,null,null,null,null,null,null,null,null,null,null,null,null,193,"Ставропольский край","Туркменский муниципальный район","07656000","Село Камбулат","07656404","31235882","ООО \"Коммунальное хозяйство\" Туркменского муниципального района Ставропольского края","2622005600","262201001","производство (некомбинированная выработка)+передача+сбыт","Некомбинированная выработка :: Сбыт :: Передача","/Тепловая энергия/Производство/Некомбинированная выработка :: /Тепловая энергия/Сбыт :: /Тепловая энергия/Передача","02-07-2018 00:00:00",null,"01-01-2019 00:00:00"]
[null,null,null,null,null,null,null,null,null,null,null,null,null,null,null,null,null,null,null,null,null,null,null,null,null,null,null,null,null,null,null,null,null,null,null,null,null,null,null,null,null,null,null,null,null,null,null,null,null,null,null,null,null,null,null,null,null,null,null,null,194,"Ставропольский край","Туркменский муниципальный район","07656000","Село Малые Ягуры","07656422","31235882","ООО \"Коммунальное хозяйство\" Туркменского муниципального района Ставропольского края","2622005600","262201001","производство (некомбинированная выработка)+сбыт","Некомбинированная выработка :: Сбыт","/Тепловая энергия/Производство/Некомбинированная выработка :: /Тепловая энергия/Сбыт","02-07-2018 00:00:00",null,"01-01-2019 00:00:00"]
[null,null,null,null,null,null,null,null,null,null,null,null,null,null,null,null,null,null,null,null,null,null,null,null,null,null,null,null,null,null,null,null,null,null,null,null,null,null,null,null,null,null,null,null,null,null,null,null,null,null,null,null,null,null,null,null,null,null,null,null,195,"Ставропольский край","Шпаковский муниципальный район","07658000","Город Михайловск","07658101","26355225","ГУП СК \"Крайтеплоэнерго\"","2635060510","263501001","производство (некомбинированная выработка)+передача+сбыт","Некомбинированная выработка :: Сбыт :: Передача","/Тепловая энергия/Производство/Некомбинированная выработка :: /Тепловая энергия/Сбыт :: /Тепловая энергия/Передача","16-01-2002 00:00:00",null,"16-01-2002 00:00:00"]
[null,null,null,null,null,null,null,null,null,null,null,null,null,null,null,null,null,null,null,null,null,null,null,null,null,null,null,null,null,null,null,null,null,null,null,null,null,null,null,null,null,null,null,null,null,null,null,null,null,null,null,null,null,null,null,null,null,null,null,null,196,"Ставропольский край","Шпаковский муниципальный район","07658000","Деминский сельсовет","07658404","26355225","ГУП СК \"Крайтеплоэнерго\"","2635060510","263501001","производство (некомбинированная выработка)+передача+сбыт","Некомбинированная выработка :: Сбыт :: Передача","/Тепловая энергия/Производство/Некомбинированная выработка :: /Тепловая энергия/Сбыт :: /Тепловая энергия/Передача","16-01-2002 00:00:00",null,"16-01-2002 00:00:00"]
[null,null,null,null,null,null,null,null,null,null,null,null,null,null,null,null,null,null,null,null,null,null,null,null,null,null,null,null,null,null,null,null,null,null,null,null,null,null,null,null,null,null,null,null,null,null,null,null,null,null,null,null,null,null,null,null,null,null,null,null,197,"Ставропольский край","Шпаковский муниципальный район","07658000","Дубовский сельсовет","07658406","26355225","ГУП СК \"Крайтеплоэнерго\"","2635060510","263501001","производство (некомбинированная выработка)+передача+сбыт","Некомбинированная выработка :: Сбыт :: Передача","/Тепловая энергия/Производство/Некомбинированная выработка :: /Тепловая энергия/Сбыт :: /Тепловая энергия/Передача","16-01-2002 00:00:00",null,"16-01-2002 00:00:00"]
[null,null,null,null,null,null,null,null,null,null,null,null,null,null,null,null,null,null,null,null,null,null,null,null,null,null,null,null,null,null,null,null,null,null,null,null,null,null,null,null,null,null,null,null,null,null,null,null,null,null,null,null,null,null,null,null,null,null,null,null,198,"Ставропольский край","Шпаковский муниципальный район","07658000","Казинский сельсовет","07658408","26355225","ГУП СК \"Крайтеплоэнерго\"","2635060510","263501001","производство (некомбинированная выработка)+передача+сбыт","Некомбинированная выработка :: Сбыт :: Передача","/Тепловая энергия/Производство/Некомбинированная выработка :: /Тепловая энергия/Сбыт :: /Тепловая энергия/Передача","16-01-2002 00:00:00",null,"16-01-2002 00:00:00"]
[null,null,null,null,null,null,null,null,null,null,null,null,null,null,null,null,null,null,null,null,null,null,null,null,null,null,null,null,null,null,null,null,null,null,null,null,null,null,null,null,null,null,null,null,null,null,null,null,null,null,null,null,null,null,null,null,null,null,null,null,199,"Ставропольский край","Шпаковский муниципальный район","07658000","Надеждинский сельсовет","07658410","26355225","ГУП СК \"Крайтеплоэнерго\"","2635060510","263501001","производство (некомбинированная выработка)+передача+сбыт","Некомбинированная выработка :: Сбыт :: Передача","/Тепловая энергия/Производство/Некомбинированная выработка :: /Тепловая энергия/Сбыт :: /Тепловая энергия/Передача","16-01-2002 00:00:00",null,"16-01-2002 00:00:00"]
[null,null,null,null,null,null,null,null,null,null,null,null,null,null,null,null,null,null,null,null,null,null,null,null,null,null,null,null,null,null,null,null,null,null,null,null,null,null,null,null,null,null,null,null,null,null,null,null,null,null,null,null,null,null,null,null,null,null,null,null,200,"Ставропольский край","Шпаковский муниципальный район","07658000","Пелагиадский сельсовет","07658416","26355225","ГУП СК \"Крайтеплоэнерго\"","2635060510","263501001","производство (некомбинированная выработка)+передача+сбыт","Некомбинированная выработка :: Сбыт :: Передача","/Тепловая энергия/Производство/Некомбинированная выработка :: /Тепловая энергия/Сбыт :: /Тепловая энергия/Передача","16-01-2002 00:00:00",null,"16-01-2002 00:00:00"]
[null,null,null,null,null,null,null,null,null,null,null,null,null,null,null,null,null,null,null,null,null,null,null,null,null,null,null,null,null,null,null,null,null,null,null,null,null,null,null,null,null,null,null,null,null,null,null,null,null,null,null,null,null,null,null,null,null,null,null,null,201,"Ставропольский край","Шпаковский муниципальный район","07658000","Сенгилеевский сельсовет","07658419","26355225","ГУП СК \"Крайтеплоэнерго\"","2635060510","263501001","производство (некомбинированная выработка)+передача+сбыт","Некомбинированная выработка :: Сбыт :: Передача","/Тепловая энергия/Производство/Некомбинированная выработка :: /Тепловая энергия/Сбыт :: /Тепловая энергия/Передача","16-01-2002 00:00:00",null,"16-01-2002 00:00:00"]
[null,null,null,null,null,null,null,null,null,null,null,null,null,null,null,null,null,null,null,null,null,null,null,null,null,null,null,null,null,null,null,null,null,null,null,null,null,null,null,null,null,null,null,null,null,null,null,null,null,null,null,null,null,null,null,null,null,null,null,null,202,"Ставропольский край","Шпаковский муниципальный район","07658000","Станица Новомарьевская","07658413","26355225","ГУП СК \"Крайтеплоэнерго\"","2635060510","263501001","производство (некомбинированная выработка)+передача+сбыт","Некомбинированная выработка :: Сбыт :: Передача","/Тепловая энергия/Производство/Некомбинированная выработка :: /Тепловая энергия/Сбыт :: /Тепловая энергия/Передача","16-01-2002 00:00:00",null,"16-01-2002 00:00:00"]
[null,null,null,null,null,null,null,null,null,null,null,null,null,null,null,null,null,null,null,null,null,null,null,null,null,null,null,null,null,null,null,null,null,null,null,null,null,null,null,null,null,null,null,null,null,null,null,null,null,null,null,null,null,null,null,null,null,null,null,null,203,"Ставропольский край","Шпаковский муниципальный район","07658000","Татарский сельсовет","07658422","26355225","ГУП СК \"Крайтеплоэнерго\"","2635060510","263501001","производство (некомбинированная выработка)+передача+сбыт","Некомбинированная выработка :: Сбыт :: Передача","/Тепловая энергия/Производство/Некомбинированная выработка :: /Тепловая энергия/Сбыт :: /Тепловая энергия/Передача","16-01-2002 00:00:00",null,"16-01-2002 00:00:00"]
[null,null,null,null,null,null,null,null,null,null,null,null,null,null,null,null,null,null,null,null,null,null,null,null,null,null,null,null,null,null,null,null,null,null,null,null,null,null,null,null,null,null,null,null,null,null,null,null,null,null,null,null,null,null,null,null,null,null,null,null,204,"Ставропольский край","Шпаковский муниципальный район","07658000","Темнолесский сельсовет","07658425","26355225","ГУП СК \"Крайтеплоэнерго\"","2635060510","263501001","производство (некомбинированная выработка)+передача+сбыт","Некомбинированная выработка :: Сбыт :: Передача","/Тепловая энергия/Производство/Некомбинированная выработка :: /Тепловая энергия/Сбыт :: /Тепловая энергия/Передача","16-01-2002 00:00:00",null,"16-01-2002 00:00:00"]

{"sheet":"REESTR_SOURCE","index":17,"n_rows":0,"n_cols":0,"rows_kept":0,"cut":false,"hidden":true,"merged":[]}

{"sheet":"FILE_STORE_DATA_1","index":18,"n_rows":0,"n_cols":0,"rows_kept":0,"cut":false,"hidden":true,"merged":[]}

{"sheet":"FILE_STORE_DATA_2","index":19,"n_rows":0,"n_cols":0,"rows_kept":0,"cut":false,"hidden":true,"merged":[]}

{"sheet":"FILE_STORE_DATA_3","index":20,"n_rows":0,"n_cols":0,"rows_kept":0,"cut":false,"hidden":true,"merged":[]}

{"sheet":"EGR_BY_ORGN_DATA","index":21,"n_rows":0,"n_cols":0,"rows_kept":0,"cut":false,"hidden":true,"merged":[]}

{"sheet":"modGetGeoBase","index":22,"n_rows":0,"n_cols":0,"rows_kept":0,"cut":false,"hidden":true,"merged":[]}

{"sheet":"REESTR_MO","index":23,"n_rows":202,"n_cols":6,"rows_kept":202,"cut":false,"hidden":true,"merged":[]}
["МР","МО","ОКТМО","ТИП МО","МР","ИМЯ ДИАПАЗОНА"]
["Александровский муниципальный район","Александровский муниципальный район","07602000","муниципальный район","Александровский муниципальный район","MO_LIST_2"]
["Александровский муниципальный район","Александровский сельсовет","07602402","сельское поселение","Андроповский муниципальный район","MO_LIST_3"]
["Александровский муниципальный район","Калиновский сельсовет","07602407","сельское поселение","Апанасенковский муниципальный район","MO_LIST_4"]
["Александровский муниципальный район","Круглолесский сельсовет","07602410","сельское поселение","Арзгирский муниципальный район","MO_LIST_5"]
["Александровский муниципальный район","Новокавказский сельсовет","07602413","сельское поселение","Благодарненский","MO_LIST_6"]
["Александровский муниципальный район","Саблинский сельсовет","07602416","сельское поселение","Будённовский муниципальный район","MO_LIST_7"]
["Александровский муниципальный район","Село Грушевское","07602404","сельское поселение","Георгиевский","MO_LIST_8"]
["Александровский муниципальный район","Село Северное","07602419","сельское поселение","Город Лермонтов","MO_LIST_9"]
["Александровский муниципальный район","Средненский сельсовет","07602422","сельское поселение","Город Невинномысск","MO_LIST_10"]
["Андроповский муниципальный район","Андроповский муниципальный район","07632000","муниципальный район","Город Ставрополь","MO_LIST_11"]
["Андроповский муниципальный район","Водораздельный сельсовет","07632402","сельское поселение","Город-курорт Ессентуки","MO_LIST_12"]
["Андроповский муниципальный район","Казинский сельсовет","07632406","сельское поселение","Город-курорт Железноводск","MO_LIST_13"]
["Андроповский муниципальный район","Красноярский сельсовет","07632407","сельское поселение","Город-курорт Кисловодск","MO_LIST_14"]
["Андроповский муниципальный район","Курсавский сельсовет","07632410","сельское поселение","Город-курорт Пятигорск","MO_LIST_15"]
["Андроповский муниципальный район","Куршавский сельсовет","07632412","сельское поселение","Грачёвский муниципальный район","MO_LIST_16"]
["Андроповский муниципальный район","Новоянкульский сельсовет","07632414","сельское поселение","Изобильненский","MO_LIST_17"]
["Андроповский муниципальный район","Село Крымгиреевское","07632408","сельское поселение","Ипатовский","MO_LIST_18"]
["Андроповский муниципальный район","Село Султан","07632419","сельское поселение","Кировский","MO_LIST_19"]
["Андроповский муниципальный район","Солуно-Дмитриевский сельсовет","07632416","сельское поселение","Кочубеевский муниципальный район","MO_LIST_20"]
["Андроповский муниципальный район","Станица Воровсколесская","07632404","сельское поселение","Красногвардейский муниципальный район","MO_LIST_21"]
["Андроповский муниципальный район","Янкульский сельсовет","07632422","сельское поселение","Курский муниципальный район","MO_LIST_22"]
["Апанасенковский муниципальный район","Айгурский сельсовет","07605402","сельское поселение","Левокумский муниципальный район","MO_LIST_23"]
["Апанасенковский муниципальный район","Апанасенковский муниципальный район","07605000","муниципальный район","Минераловодский","MO_LIST_24"]
["Апанасенковский муниципальный район","Дербетовский сельсовет","07605416","сельское поселение","Нефтекумский","MO_LIST_25"]
["Апанасенковский муниципальный район","Село Апанасенковское","07605404","сельское поселение","Новоалександровский","MO_LIST_26"]
["Апанасенковский муниципальный район","Село Белые Копани","07605407","сельское поселение","Новоселицкий муниципальный район","MO_LIST_27"]
["Апанасенковский муниципальный район","Село Воздвиженское","07605410","сельское поселение","Петровский","MO_LIST_28"]
["Апанасенковский муниципальный район","Село Вознесеновское","07605413","сельское поселение","Предгорный муниципальный район","MO_LIST_29"]
["Апанасенковский муниципальный район","Село Дивное","07605419","сельское поселение","Советский","MO_LIST_30"]
["Апанасенковский муниципальный район","Село Киевка","07605422","сельское поселение","Степновский муниципальный район","MO_LIST_31"]
["Апанасенковский муниципальный район","Село Малая Джалга","07605425","сельское поселение","Труновский муниципальный район","MO_LIST_32"]
["Апанасенковский муниципальный район","Село Манычское","07605428","сельское поселение","Туркменский муниципальный район","MO_LIST_33"]
["Апанасенковский муниципальный район","Село Рагули","07605431","сельское поселение","Шпаковский муниципальный район","MO_LIST_34"]
["Арзгирский муниципальный район","Арзгирский муниципальный район","07607000","муниципальный район"]
["Арзгирский муниципальный район","Арзгирский сельсовет","07607402","сельское поселение"]
["Арзгирский муниципальный район","Новоромановский сельсовет","07607404","сельское поселение"]
["Арзгирский муниципальный район","Село Каменная Балка","07607403","сельское поселение"]
["Арзгирский муниципальный район","Село Петропавловское","07607407","сельское поселение"]
["Арзгирский муниципальный район","Село Родниковское","07607410","сельское поселение"]
["Арзгирский муниципальный район","Село Садовое","07607413","сельское поселение"]
["Арзгирский муниципальный район","Село Серафимовское","07607416","сельское поселение"]
["Арзгирский муниципальный район","Чограйский сельсовет","07607422","сельское поселение"]
["Благодарненский","Благодарненский","07705000","городской округ"]
["Будённовский муниципальный район","Архиповский сельсовет","07612404","сельское поселение"]
["Будённовский муниципальный район","Будённовский муниципальный район","07612000","муниципальный район"]
["Будённовский муниципальный район","Город Буденновск","07612101","городское поселение, в состав которого входит город"]
["Будённовский муниципальный район","Искровский сельсовет","07612407","сельское поселение"]
["Будённовский муниципальный район","Краснооктябрьский сельсовет","07612409","сельское поселение"]
["Будённовский муниципальный район","Новожизненский сельсовет","07612410","сельское поселение"]
["Будённовский муниципальный район","Орловский сельсовет","07612413","сельское поселение"]
["Будённовский муниципальный район","Покойненский сельсовет","07612416","сельское поселение"]
["Будённовский муниципальный район","Преображенский сельсовет","07612420","сельское поселение"]
["Будённовский муниципальный район","Село Архангельское","07612402","сельское поселение"]
["Будённовский муниципальный район","Село Прасковея","07612419","сельское поселение"]
["Будённовский муниципальный район","Село Толстово-Васюковское","07612427","сельское поселение"]
["Будённовский муниципальный район","Стародубский сельсовет","07612422","сельское поселение"]
["Будённовский муниципальный район","Терский сельсовет","07612425","сельское поселение"]
["Будённовский муниципальный район","Томузловский сельсовет","07612429","сельское поселение"]
["Георгиевский","Георгиевский","07707000","городской округ"]
["Город Лермонтов","Город Лермонтов","07718000","городской округ"]
["Город Невинномысск","Город Невинномысск","07724000","городской округ"]
["Город Ставрополь","Город Ставрополь","07701000","городской округ"]
["Город-курорт Ессентуки","Город-курорт Ессентуки","07710000","городской округ"]
["Город-курорт Железноводск","Город-курорт Железноводск","07712000","городской округ"]
["Город-курорт Кисловодск","Город-курорт Кисловодск","07715000","городской округ"]
["Город-курорт Пятигорск","Город-курорт Пятигорск","07727000","городской округ"]
["Грачёвский муниципальный район","Грачёвский муниципальный район","07617000","муниципальный район"]
["Грачёвский муниципальный район","Грачевский сельсовет","07617404","сельское поселение"]
["Грачёвский муниципальный район","Красный сельсовет","07617407","сельское поселение"]
["Грачёвский муниципальный район","Кугультинский сельсовет","07617410","сельское поселение"]
["Грачёвский муниципальный район","Село Бешпагир","07617401","сельское поселение"]
["Грачёвский муниципальный район","Село Тугулук","07617422","сельское поселение"]
["Грачёвский муниципальный район","Сергиевский сельсовет","07617413","сельское поселение"]
["Грачёвский муниципальный район","Спицевский сельсовет","07617416","сельское поселение"]
["Грачёвский муниципальный район","Старомарьевский сельсовет","07617419","сельское поселение"]
["Изобильненский","Изобильненский","07713000","городской округ"]
["Ипатовский","Ипатовский","07714000","городской округ"]
["Кировский","Кировский","07716000","городской округ"]
["Кочубеевский муниципальный район","Балахоновский сельсовет","07628402","сельское поселение"]
["Кочубеевский муниципальный район","Барсуковский сельсовет","07628404","сельское поселение"]
["Кочубеевский муниципальный район","Васильевский сельсовет","07628440","сельское поселение"]
["Кочубеевский муниципальный район","Вревский сельсовет","07628407","сельское поселение"]
["Кочубеевский муниципальный район","Георгиевский сельсовет","07628408","сельское поселение"]
["Кочубеевский муниципальный район","Заветненский сельсовет","07628413","сельское поселение"]
["Кочубеевский муниципальный район","Ивановский сельсовет","07628416","сельское поселение"]
["Кочубеевский муниципальный район","Казьминский сельсовет","07628419","сельское поселение"]
["Кочубеевский муниципальный район","Кочубеевский муниципальный район","07628000","муниципальный район"]
["Кочубеевский муниципальный район","Мищенский сельсовет","07628423","сельское поселение"]
["Кочубеевский муниципальный район","Надзорненский сельсовет","07628424","сельское поселение"]
["Кочубеевский муниципальный район","Новодеревенский сельсовет","07628425","сельское поселение"]
["Кочубеевский муниципальный район","Село Кочубеевское","07628422","сельское поселение"]
["Кочубеевский муниципальный район","Станица Беломечетская","07628406","сельское поселение"]
["Кочубеевский муниципальный район","Стародворцовский сельсовет","07628430","сельское поселение"]
["Кочубеевский муниципальный район","Усть-Невинский сельсовет","07628435","сельское поселение"]
["Красногвардейский муниципальный район","Коммунаровский сельсовет","07630404","сельское поселение"]
["Красногвардейский муниципальный район","Красногвардейский муниципальный район","07630000","муниципальный район"]
["Красногвардейский муниципальный район","Медвеженский сельсовет","07630413","сельское поселение"]
["Красногвардейский муниципальный район","Привольненский сельсовет","07630425","сельское поселение"]
["Красногвардейский муниципальный район","Родыковский сельсовет","07630428","сельское поселение"]
["Красногвардейский муниципальный район","Село Дмитриевское","07630402","сельское поселение"]
["Красногвардейский муниципальный район","Село Красногвардейское","07630407","сельское поселение"]
["Красногвардейский муниципальный район","Село Ладовская Балка","07630410","сельское поселение"]
["Красногвардейский муниципальный район","Село Новомихайловское","07630416","сельское поселение"]
["Красногвардейский муниципальный район","Село Покровское","07630419","сельское поселение"]
["Красногвардейский муниципальный район","Село Преградное","07630422","сельское поселение"]
["Красногвардейский муниципальный район","Штурмовский сельсовет","07630443","сельское поселение"]
["Курский муниципальный район","Балтийский сельсовет","07633402","сельское поселение"]
["Курский муниципальный район","Галюгаевский сельсовет","07633404","сельское поселение"]
["Курский муниципальный район","Кановский сельсовет","07633406","сельское поселение"]
["Курский муниципальный район","Курский муниципальный район","07633000","муниципальный район"]
["Курский муниципальный район","Курский сельсовет","07633407","сельское поселение"]
["Курский муниципальный район","Мирненский сельсовет","07633410","сельское поселение"]
["Курский муниципальный район","Полтавский сельсовет","07633413","сельское поселение"]
["Курский муниципальный район","Ростовановский сельсовет","07633416","сельское поселение"]
["Курский муниципальный район","Рощинский сельсовет","07633419","сельское поселение"]
["Курский муниципальный район","Русский сельсовет","07633422","сельское поселение"]
["Курский муниципальный район","Село Эдиссия","07633428","сельское поселение"]
["Курский муниципальный район","Серноводский сельсовет","07633425","сельское поселение"]
["Курский муниципальный район","Станица Стодеревская","07633426","сельское поселение"]
["Левокумский муниципальный район","Бургун-Маджарский сельсовет","07636402","сельское поселение"]
["Левокумский муниципальный район","Величаевский сельсовет","07636404","сельское поселение"]
["Левокумский муниципальный район","Владимировский сельсовет","07636407","сельское поселение"]
["Левокумский муниципальный район","Заринский сельсовет","07636409","сельское поселение"]
["Левокумский муниципальный район","Левокумский муниципальный район","07636000","муниципальный район"]
["Левокумский муниципальный район","Николо-Александровский сельсовет","07636413","сельское поселение"]
["Левокумский муниципальный район","Поселок Новокумский","07636414","сельское поселение"]
["Левокумский муниципальный район","Село Левокумское","07636410","сельское поселение"]
["Левокумский муниципальный район","Село Правокумское","07636416","сельское поселение"]
["Левокумский муниципальный район","Село Приозерское","07636417","сельское поселение"]
["Левокумский муниципальный район","Село Урожайное","07636422","сельское поселение"]
["Левокумский муниципальный район","Турксадский сельсовет","07636419","сельское поселение"]
["Минераловодский","Минераловодский","07721000","городской округ"]
["Нефтекумский","Нефтекумский","07725000","городской округ"]
["Новоалександровский","Новоалександровский","07726000","городской округ"]
["Новоселицкий муниципальный район","Журавский сельсовет","07644404","сельское поселение"]
["Новоселицкий муниципальный район","Новомаякский сельсовет","07644409","сельское поселение"]
["Новоселицкий муниципальный район","Новоселицкий муниципальный район","07644000","муниципальный район"]
["Новоселицкий муниципальный район","Поселок Щелкан","07644420","сельское поселение"]
["Новоселицкий муниципальный район","Село Долиновка","07644402","сельское поселение"]
["Новоселицкий муниципальный район","Село Китаевское","07644407","сельское поселение"]
["Новоселицкий муниципальный район","Село Новоселицкое","07644410","сельское поселение"]
["Новоселицкий муниципальный район","Село Падинское","07644412","сельское поселение"]
["Новоселицкий муниципальный район","Село Чернолесское","07644413","сельское поселение"]
["Петровский","Петровский","07731000","городской округ"]
["Предгорный муниципальный район","Винсадский сельсовет","07648410","сельское поселение"]
["Предгорный муниципальный район","Ессентукский сельсовет","07648413","сельское поселение"]
["Предгорный муниципальный район","Нежинский сельсовет","07648416","сельское поселение"]
["Предгорный муниципальный район","Новоблагодарненский сельсовет","07648422","сельское поселение"]
["Предгорный муниципальный район","Подкумский сельсовет","07648424","сельское поселение"]
["Предгорный муниципальный район","Поселок Мирный","07648415","сельское поселение"]
["Предгорный муниципальный район","Предгорный муниципальный район","07648000","муниципальный район"]
["Предгорный муниципальный район","Пригородный сельсовет","07648425","сельское поселение"]
["Предгорный муниципальный район","Пятигорский сельсовет","07648428","сельское поселение"]
["Предгорный муниципальный район","Станица Бекешевская","07648402","сельское поселение"]
["Предгорный муниципальный район","Станица Боргустанская","07648407","сельское поселение"]
["Предгорный муниципальный район","Суворовский сельсовет","07648431","сельское поселение"]
["Предгорный муниципальный район","Тельмановский сельсовет","07648432","сельское поселение"]
["Предгорный муниципальный район","Этокский сельсовет","07648434","сельское поселение"]
["Предгорный муниципальный район","Юцкий сельсовет","07648437","сельское поселение"]
["Предгорный муниципальный район","Яснополянский сельсовет","07648440","сельское поселение"]
["Советский","Советский","07735000","городской округ"]
["Степновский муниципальный район","Богдановский сельсовет","07652402","сельское поселение"]
["Степновский муниципальный район","Варениковский сельсовет","07652404","сельское поселение"]
["Степновский муниципальный район","Верхнестепновский сельсовет","07652407","сельское поселение"]
["Степновский муниципальный район","Иргаклинский сельсовет","07652410","сельское поселение"]
["Степновский муниципальный район","Ольгинский сельсовет","07652415","сельское поселение"]
["Степновский муниципальный район","Село Соломенское","07652420","сельское поселение"]
["Степновский муниципальный район","Степновский муниципальный район","07652000","муниципальный район"]
["Степновский муниципальный район","Степновский сельсовет","07652426","сельское поселение"]
["Труновский муниципальный район","Безопасненский сельсовет","07654402","сельское поселение"]
["Труновский муниципальный район","Донской сельсовет","07654404","сельское поселение"]
["Труновский муниципальный район","Кировский сельсовет","07654407","сельское поселение"]
["Труновский муниципальный район","Село Новая Кугульта","07654410","сельское поселение"]
["Труновский муниципальный район","Село Подлесное","07654413","сельское поселение"]
["Труновский муниципальный район","Труновский муниципальный район","07654000","муниципальный район"]
["Труновский муниципальный район","Труновский сельсовет","07654416","сельское поселение"]
["Туркменский муниципальный район","Владимировский сельсовет","07656401","сельское поселение"]
["Туркменский муниципальный район","Кендже-Кулакский сельсовет","07656407","сельское поселение"]
["Туркменский муниципальный район","Красноманычский сельсовет","07656410","сельское поселение"]
["Туркменский муниципальный район","Куликово-Копанский сельсовет","07656413","сельское поселение"]
["Туркменский муниципальный район","Кучерлинский сельсовет","07656416","сельское поселение"]
["Туркменский муниципальный район","Летнеставочный сельсовет","07656419","сельское поселение"]
["Туркменский муниципальный район","Новокучерлинский сельсовет","07656424","сельское поселение"]
["Туркменский муниципальный район","Овощинский сельсовет","07656426","сельское поселение"]
["Туркменский муниципальный район","Село Казгулак","07656402","сельское поселение"]
["Туркменский муниципальный район","Село Камбулат","07656404","сельское поселение"]
["Туркменский муниципальный район","Село Малые Ягуры","07656422","сельское поселение"]
["Туркменский муниципальный район","Туркменский муниципальный район","07656000","муниципальный район"]
["Шпаковский муниципальный район","Верхнерусский сельсовет","07658402","сельское поселение"]
["Шпаковский муниципальный район","Город Михайловск","07658101","городское поселение, в состав которого входит город"]
["Шпаковский муниципальный район","Деминский сельсовет","07658404","сельское поселение"]
["Шпаковский муниципальный район","Дубовский сельсовет","07658406","сельское поселение"]
["Шпаковский муниципальный район","Казинский сельсовет","07658408","сельское поселение"]
["Шпаковский муниципальный район","Надеждинский сельсовет","07658410","сельское поселение"]
["Шпаковский муниципальный район","Пелагиадский сельсовет","07658416","сельское поселение"]
["Шпаковский муниципальный район","Сенгилеевский сельсовет","07658419","сельское поселение"]
["Шпаковский муниципальный район","Станица Новомарьевская","07658413","сельское поселение"]
["Шпаковский муниципальный район","Татарский сельсовет","07658422","сельское поселение"]
["Шпаковский муниципальный район","Темнолесский сельсовет","07658425","сельское поселение"]
["Шпаковский муниципальный район","Цимлянский сельсовет","07658428","сельское поселение"]
["Шпаковский муниципальный район","Шпаковский муниципальный район","07658000","муниципальный район"]

{"sheet":"AUTHORISATION","index":24,"n_rows":2,"n_cols":2,"rows_kept":2,"cut":false,"hidden":true,"merged":[]}
["L1","L2"]
["ACCESS GRANTED"]

{"sheet":"PLAN1X_LIST_ORG","index":25,"n_rows":2,"n_cols":17,"rows_kept":2,"cut":false,"hidden":true,"merged":[]}
["RST_ORG_ID","NOMER","MR","MO","OKTMO","INN","KPP","ORG","OKOPF","FIL","VDET","NDS","TRANSFER_AGENTS","NAME","POSITION","PHONE","EMAIL"]
["30479512","1","Город Ставрополь","Город Ставрополь","07701000","263410214911","отсутствует","ИП Согоян Геворг Владимирович","5 01 02 | Индивидуальные предприниматели",null,"Некомбинированное производство :: Сбыт","нет","Тариф: Носитель - горячая вода (К)"]

{"sheet":"PLAN1X_LIST_SRC","index":26,"n_rows":2,"n_cols":31,"rows_kept":2,"cut":false,"hidden":true,"merged":[]}
["CONTEXT_ID","№","ПР-ВО","ТР-КА","СБЫТ","Организация","ИНН","КПП","Филиал","№","Объект","Тип","Адрес. МР","Адрес. МО","Адрес. ОКТМО","Адрес. НП","Адрес. НП ОКТМО","Адрес. Улица","Адрес. Дом","","Территория. МР","Территория. МО","Территория. ОКТМО","Территория. НП","Территория. НП ОКТМО","Производство. Установленная мощность","Производство. Подключенная нагрузка","Передача. Установленная мощность","Передача. Подключенная нагрузка","Сбыт. Установленная мощность","Сбыт. Подключенная нагрузка"]
["4964249672","1","да","нет","нет","ИП Согоян Геворг Владимирович","263410214911","отсутствует",null,"1","Котельная","ТИ","Город Ставрополь","Город Ставрополь","07701000","г Ставрополь","07701000001","проспект К.Маркса","59","1","Город Ставрополь","Город Ставрополь","07701000","г Ставрополь","07701000001",".86",".73"]

{"sheet":"PLAN1X_AGGREGATE","index":27,"n_rows":44,"n_cols":10,"rows_kept":44,"cut":false,"hidden":true,"merged":[]}
["NSRF","FUEL","PRICE","AMOUNT","COSTS","STATUS","FUEL_COMMENTS_Q4","FUEL_COMMENTS_Q3","FUEL_COMMENTS_Q2","FUEL_COMMENTS_Q1"]
["Ставропольский край","1",5796.11,942716.3,5464085.8300000001,"APRL"]
["Ставропольский край","2",5935.61,761868.92,4522159,"APRL"]
["Ставропольский край","3",6302.16,5058.79,31881.3,"APRL"]
["Ставропольский край","4",5176.93,175788.59,910045.53,"APRL"]
["Ставропольский край","5",0,0,0,"APRL"]
["Ставропольский край","6",0,0,0,"APRL"]
["Ставропольский край","7",0,0,0,"APRL"]
["Ставропольский край","8",0,0,0,"APRL"]
["Ставропольский край","9",0,0,0,"APRL"]
["Ставропольский край","10",0,0,0,"APRL"]
["Ставропольский край","11",0,0,0,"APRL"]
["Ставропольский край","12",0,0,0,"APRL"]
["Ставропольский край","13",0,0,0,"APRL"]
["Ставропольский край","14",0,0,0,"APRL"]
["Ставропольский край","15",0,0,0,"APRL"]
["Ставропольский край","16",13727.54,3287.13,45124.22,"APRL"]
["Ставропольский край","17",0,0,0,"APRL"]
["Ставропольский край","18",13727.54,3287.13,45124.22,"APRL"]
["Ставропольский край","19",0,0,0,"APRL"]
["Ставропольский край","20",0,0,0,"APRL"]
["Ставропольский край","21",0,0,0,"APRL"]
["Ставропольский край","22",0,0,0,"APRL"]
["Ставропольский край","23",0,0,0,"APRL"]
["Ставропольский край","24",0,0,0,"APRL"]
["Ставропольский край","25",0,0,0,"APRL"]
["Ставропольский край","26",0,0,0,"APRL"]
["Ставропольский край","27",0,0,0,"APRL"]
["Ставропольский край","28",0,0,0,"APRL"]
["Ставропольский край","29",0,0,0,"APRL"]
["Ставропольский край","30",0,0,0,"APRL"]
["Ставропольский край","31",0,0,0,"APRL"]
["Ставропольский край","32",0,0,0,"APRL"]
["Ставропольский край","33",0,0,0,"APRL"]
["Ставропольский край","34",0,0,0,"APRL"]
["Ставропольский край","35",0,0,0,"APRL"]
["Ставропольский край","36",0,0,0,"APRL"]
["Ставропольский край","37",0,0,0,"APRL"]
["Ставропольский край","38",0,0,0,"APRL"]
["Ставропольский край","39",0,0,0,"APRL"]
["Ставропольский край","40",0,0,0,"APRL"]
["Ставропольский край","41",0,0,0,"APRL"]
["Ставропольский край","42",0,0,0,"APRL"]
["Ставропольский край","43",null,null,0.01,"APRL"]

{"sheet":"PLAN1X_LIST_SUBSIDIARY","index":28,"n_rows":0,"n_cols":0,"rows_kept":0,"cut":false,"hidden":true,"merged":[]}

{"sheet":"PLAN1X_LIST_OKOPF","index":29,"n_rows":98,"n_cols":1,"rows_kept":98,"cut":false,"hidden":true,"merged":[]}
["OKOPF_NAME"]
["1 10 51 | Полные товарищества"]
["1 10 64 | Товарищества на вере (коммандитные товарищества)"]
["1 22 47 | Публичные акционерные общества"]
["1 22 67 | Непубличные акционерные общества"]
["1 23 00 | Общества с ограниченной ответственностью"]
["1 30 00 | Хозяйственные партнерства"]
["1 41 53 | Сельскохозяйственные артели (колхозы)"]
["1 41 54 | Рыболовецкие артели (колхозы)"]
["1 41 55 | Кооперативные хозяйства (коопхозы)"]
["1 42 00 | Производственные кооперативы (кроме сельскохозяйственных производственных кооперативов)"]
["1 53 00 | Крестьянские (фермерские) хозяйства"]
["1 90 00 | Прочие юридические лица, являющиеся коммерческими организациями"]
["2 01 01 | Гаражные и гаражно-строительные кооперативы"]
["2 01 02 | Жилищные или жилищно-строительные кооперативы"]
["2 01 03 | Жилищные накопительные кооперативы"]
["2 01 04 | Кредитные потребительские кооперативы"]
["2 01 05 | Кредитные потребительские кооперативы граждан"]
["2 01 06 | Кредитные кооперативы второго уровня"]
["2 01 07 | Потребительские общества"]
["2 01 08 | Общества взаимного страхования"]
["2 01 09 | Сельскохозяйственные потребительские перерабатывающие кооперативы"]
["2 01 10 | Сельскохозяйственные потребительские сбытовые (торговые) кооперативы"]
["2 01 11 | Сельскохозяйственные потребительские обслуживающие кооперативы"]
["2 01 12 | Сельскохозяйственные потребительские снабженческие кооперативы"]
["2 01 13 | Сельскохозяйственные потребительские садоводческие кооперативы"]
["2 01 14 | Сельскохозяйственные потребительские огороднические кооперативы"]
["2 01 15 | Сельскохозяйственные потребительские животноводческие кооперативы"]
["2 01 20 | Садоводческие, огороднические или дачные потребительские кооперативы"]
["2 01 21 | Фонды проката"]
["2 02 01 | Политические партии"]
["2 02 02 | Профсоюзные организации"]
["2 02 10 | Общественные движения"]
["2 02 11 | Органы общественной самодеятельности"]
["2 02 17 | Территориальные общественные самоуправления"]
["2 06 01 | Ассоциации (союзы) экономического взаимодействия субъектов Российской Федерации"]
["2 06 03 | Советы муниципальных образований субъектов Российской Федерации"]
["2 06 04 | Союзы (ассоциации) кредитных кооперативов"]
["2 06 05 | Союзы (ассоциации) кооперативов"]
["2 06 06 | Союзы (ассоциации) общественных объединений"]
["2 06 07 | Союзы (ассоциации) общин малочисленных народов"]
["2 06 08 | Союзы потребительских обществ"]
["2 06 09 | Адвокатские палаты"]
["2 06 10 | Нотариальные палаты"]
["2 06 11 | Торгово-промышленные палаты"]
["2 06 12 | Объединения работодателей"]
["2 06 13 | Объединения фермерских хозяйств"]
["2 06 14 | Некоммерческие партнерства"]
["2 06 15 | Адвокатские бюро"]
["2 06 16 | Коллегии адвокатов"]
["2 06 17 | Садоводческие, огороднические или дачные некоммерческие партнерства"]
["2 06 18 | Ассоциации (союзы) садоводческих, огороднических и дачных некоммерческих объединений"]
["2 06 19 | Саморегулируемые организации"]
["2 06 20 | Объединения (ассоциации и союзы) благотворительных организаций"]
["2 07 01 | Садоводческие, огороднические или дачные некоммерческие товарищества"]
["2 07 16 | Товарищества собственников жилья"]
["2 11 00 | Казачьи общества, внесенные в государственный реестр казачьих обществ в Российской Федерации"]
["2 12 00 | Общины коренных малочисленных народов Российской Федерации"]
["3 00 01 | Представительства юридических лиц"]
["3 00 02 | Филиалы юридических лиц"]
["3 00 03 | Обособленные подразделения юридических лиц"]
["3 00 04 | Структурные подразделения обособленных подразделений юридических лиц"]
["3 00 05 | Паевые инвестиционные фонды"]
["3 00 06 | Простые товарищества"]
["3 00 08 | Районные суды, городские суды, межрайонные суды (районные суды)"]
["4 00 01 | Межправительственные международные организации"]
["4 00 02 | Неправительственные международные организации"]
["5 01 01 | Главы крестьянских (фермерских) хозяйств"]
["5 01 02 | Индивидуальные предприниматели"]
["5 02 01 | Адвокаты, учредившие адвокатский кабинет"]
["5 02 02 | Нотариусы, занимающиеся частной практикой"]
["6 51 41 | Федеральные казенные предприятия"]
["6 51 42 | Казенные предприятия субъектов Российской Федерации"]
["6 51 43 | Муниципальные казенные предприятия"]
["6 52 41 | Федеральные государственные унитарные предприятия"]
["6 52 42 | Государственные унитарные предприятия субъектов Российской Федерации"]
["6 52 43 | Муниципальные унитарные предприятия"]
["7 04 01 | Благотворительные фонды"]
["7 04 02 | Негосударственные пенсионные фонды"]
["7 04 03 | Общественные фонды"]
["7 04 04 | Экологические фонды"]
["7 14 00 | Автономные некоммерческие организации"]
["7 15 00 | Религиозные организации"]
["7 16 01 | Государственные корпорации"]
["7 16 02 | Государственные компании"]
["7 16 10 | Отделения иностранных некоммерческих неправительственных организаций"]
["7 51 01 | Федеральные государственные автономные учреждения"]
["7 51 03 | Федеральные государственные бюджетные учреждения"]
["7 51 04 | Федеральные государственные казенные учреждения"]
["7 52 01 | Государственные автономные учреждения субъектов Российской Федерации"]
["7 52 03 | Государственные бюджетные учреждения субъектов Российской Федерации"]
["7 52 04 | Государственные казенные учреждения субъектов Российской Федерации"]
["7 53 00 | Государственные академии наук"]
["7 54 01 | Муниципальные автономные учреждения"]
["7 54 03 | Муниципальные бюджетные учреждения"]
["7 54 04 | Муниципальные казенные учреждения"]
["7 55 02 | Благотворительные учреждения"]
["7 55 05 | Общественные учреждения"]

{"sheet":"PLAN1X_FUEL_USAGE","index":30,"n_rows":2,"n_cols":6,"rows_kept":2,"cut":false,"hidden":true,"merged":[]}
["ORG_NAME","INN_NAME","KPP_NAME","FIL_NAME","VDET_NAME","FUEL_COMBO"]
["ИП Согоян Геворг Владимирович","263410214911","отсутствует",null,"Некомбинированное производство :: Сбыт","NGL"]

{"sheet":"ORG_DATA_REGION","index":31,"n_rows":0,"n_cols":0,"rows_kept":0,"cut":false,"hidden":true,"merged":[]}

{"sheet":"SRC_DATA_REGION","index":32,"n_rows":0,"n_cols":0,"rows_kept":0,"cut":false,"hidden":true,"merged":[]}

{"sheet":"FUEL_DATA_REGION","index":33,"n_rows":0,"n_cols":0,"rows_kept":0,"cut":false,"hidden":true,"merged":[]}

{"sheet":"SUPPLY_DATA_REGION","index":34,"n_rows":0,"n_cols":0,"rows_kept":0,"cut":false,"hidden":true,"merged":[]}

{"sheet":"SUPPLY_PREV_DATA_REGION","index":35,"n_rows":1,"n_cols":13,"rows_kept":1,"cut":false,"hidden":true,"merged":[]}
["LGL_ID","NOMER_NAME","DET_NAME","INN_NAME","KPP_NAME","ORG_NAME","FIL_NAME","VDET_NAME","L_TAX","L_FUEL_TYPE","L_FUEL_GRADE","L_PERIOD","L_FUEL_BALANCE"]

{"sheet":"TOTAL_COMS_DATA_REGION","index":36,"n_rows":0,"n_cols":0,"rows_kept":0,"cut":false,"hidden":true,"merged":[]}

{"sheet":"COMS_DATA_REGION","index":37,"n_rows":0,"n_cols":0,"rows_kept":0,"cut":false,"hidden":true,"merged":[]}

{"sheet":"LIST_RST_ORG","index":38,"n_rows":43,"n_cols":3,"rows_kept":43,"cut":false,"hidden":true,"merged":[]}
["ORG_NAME","INN_NAME","KPP_NAME"]
["АО \"ПТЭК\"","2632800936","263201001"]
["АО \"Ставропольсахар\"","2607012219","260701001"]
["АО \"Теплосеть\" г. Невинномысск","2631054298","263101001"]
["АО \"Хлебокомбинат \"Георгиевский\"","2625012571","262501001"]
["АО \"ЭНЕРГОРЕСУРСЫ\"","2626020720","262601001"]
["ГБУЗ СК \"ККБ\"","2630019702","263001001"]
["ГКУЗ \"Ставропольский краевой госпиталь для ветеранов войн\"","2632055946","263201001"]
["ГУП СК \"Крайтеплоэнерго\"","2635060510","263501001"]
["ИП Кашурина Дарья Андреевна","263408566507","отсутствует"]
["ИП Согоян Геворг Владимирович","263410214911","отсутствует"]
["КП СК «Надежда»","2617013148","261701001"]
["ЛПУП  Санаторий \"РОДНИК\"","2632053836","263201001"]
["МУП \"КХ\" Грачёвского муниципального района Ставропольского края","2606000122","260601001"]
["МУП \"КХ\" Степновского муниципального района Ставропольского края","2620000580","262001001"]
["МУП \"Лермонтовгоргаз\"","2629005046","262901001"]
["МУП \"Теплосеть\" г. Железноводск","2627007954","262701001"]
["МУП ЖКХ Александровского района","2601004596","260101001"]
["МУП КМР СК « ЖКХ Курского района»","2612016970","261201001"]
["МУП КХ Арзгирского района","2604000247","260401001"]
["ОАО \"Квант-Энергия\"","2631002155","263101001"]
["ОАО \"Международный аэропорт Минеральные Воды\"","2630800970","263001001"]
["ООО \"Газпром Теплоэнерго Кисловодск\"","2628057299","262801001"]
["ООО \"ККЭБСЕ\" филиал в селе Солуно-Дмитриевское","7701215046","525801001"]
["ООО \"Коммунальное хозяйство\" Туркменского муниципального района Ставропольского края","2622005600","262201001"]
["ООО \"ЛУКОЙЛ-Ставропольэнерго\"","2624033219","262401001"]
["ООО \"Пятигорсктеплосервис\"","2632062277","263201001"]
["ООО \"Санаторий \"Тарханы\"","2632012646","263201001"]
["ООО \"Сфера\"","2601009756","260101001"]
["ООО \"Теплоснаб-НШК\"","2631806212","263101001"]
["ООО \"Теплострой\"","2625033363","262501001"]
["ООО \"Теплый дом\"","2601009690","260101001"]
["ООО \"ЭНЕРГЕТИК\" (котельная \"Машук\" в г. Пятигорске)","2618800660","261801001"]
["ООО \"ЭНЕРГИЯ\"","2630049200","263001001"]
["ООО \"Юг-Ресурс\"","0901047734","090101001"]
["ООО «Газпром трансгаз Ставрополь»","2636032629","263601001"]
["ПАО \"Завод Атлант\"","2607000333","260701001"]
["ПАО \"Ставропольский радиозавод \"Сигнал\"","2635000092","263501001"]
["Санаторий им. И.М.Сеченова - НКФ ФГБУ \" НМИЦ РК\" Минздрава России","7704040281","262643002"]
["Северо-Кавказская дирекция по тепловодоснабжению структурное подразделение Центральной дирекции по тепловодоснабжению - филиала ОАО \"РЖД\"","7708503727","616745019"]
["Северо-Кавказский филиал ООО \"Газпром энерго\"","7736186950","263602001"]
["УФСБ России по Ставропольскому краю","2634025295","263401001"]
["Филиал ПАО \"ОГК-2\"-Ставропольская ГРЭС","2607018122","260702001"]

{"sheet":"TEMPLATE_PARAMS","index":39,"n_rows":0,"n_cols":0,"rows_kept":0,"cut":false,"hidden":true,"merged":[]}

{"sheet":"modLoad","index":40,"n_rows":0,"n_cols":0,"rows_kept":0,"cut":false,"hidden":true,"merged":[]}

{"sheet":"modLoadResults","index":41,"n_rows":0,"n_cols":0,"rows_kept":0,"cut":false,"hidden":true,"merged":[]}

{"sheet":"modLoadFiles","index":42,"n_rows":0,"n_cols":0,"rows_kept":0,"cut":false,"hidden":true,"merged":[]}

{"sheet":"modInfo","index":43,"n_rows":3,"n_cols":2,"rows_kept":3,"cut":false,"hidden":true,"merged":[]}
[]
[null,"• Отчёт предназначен для представления информации о фактически сложившихся ценах и объёмах потребления топлива по итогам I квартала 2020 года\n\n• Отчёт от региона в целом должен содержать в себе все организации и объекты, осуществляющие производство тепловой энергии в течение 2020 года\n\n• Выбор организаций осуществляется либо по данным мониторинга WARM.TOPL.Qx.2020, либо по данным мониторинга SUMMARY.BALANCE.CALC.TARIFF.WARM.2020YEAR, либо из реестра организаций ФАС России"]
[null,"Нет доступных обновлений, версия отчёта актуальна"]

{"sheet":"modUIButtons","index":44,"n_rows":0,"n_cols":0,"rows_kept":0,"cut":false,"hidden":true,"merged":[]}

{"sheet":"modVLDCommon","index":45,"n_rows":0,"n_cols":0,"rows_kept":0,"cut":false,"hidden":true,"merged":[]}

{"sheet":"modVLDIntegrity","index":46,"n_rows":0,"n_cols":0,"rows_kept":0,"cut":false,"hidden":true,"merged":[]}

{"sheet":"modVLDData","index":47,"n_rows":0,"n_cols":0,"rows_kept":0,"cut":false,"hidden":true,"merged":[]}

{"sheet":"modGeneralAPI","index":48,"n_rows":0,"n_cols":0,"rows_kept":0,"cut":false,"hidden":true,"merged":[]}

{"sheet":"modFuelData","index":49,"n_rows":0,"n_cols":0,"rows_kept":0,"cut":false,"hidden":true,"merged":[]}

{"sheet":"modListOrg","index":50,"n_rows":0,"n_cols":0,"rows_kept":0,"cut":false,"hidden":true,"merged":[]}

{"sheet":"modListObjects","index":51,"n_rows":0,"n_cols":0,"rows_kept":0,"cut":false,"hidden":true,"merged":[]}

{"sheet":"modfrmRegion","index":52,"n_rows":0,"n_cols":0,"rows_kept":0,"cut":false,"hidden":true,"merged":[]}

{"sheet":"modVLDGeneral","index":53,"n_rows":0,"n_cols":0,"rows_kept":0,"cut":false,"hidden":true,"merged":[]}

{"sheet":"modVLDUniqueness","index":54,"n_rows":0,"n_cols":0,"rows_kept":0,"cut":false,"hidden":true,"merged":[]}

{"sheet":"modfrmReestr","index":55,"n_rows":0,"n_cols":0,"rows_kept":0,"cut":false,"hidden":true,"merged":[]}

{"sheet":"modfrmOrg","index":56,"n_rows":0,"n_cols":0,"rows_kept":0,"cut":false,"hidden":true,"merged":[]}

{"sheet":"modUpdTemplMain","index":57,"n_rows":0,"n_cols":0,"rows_kept":0,"cut":false,"hidden":true,"merged":[]}

{"sheet":"modfrmCheckUpdates","index":58,"n_rows":0,"n_cols":0,"rows_kept":0,"cut":false,"hidden":true,"merged":[]}

{"sheet":"modfrmHEATAdditionalOrgData","index":59,"n_rows":0,"n_cols":0,"rows_kept":0,"cut":false,"hidden":true,"merged":[]}

{"sheet":"modOpen","index":60,"n_rows":0,"n_cols":0,"rows_kept":0,"cut":false,"hidden":true,"merged":[]}

{"sheet":"modData_TOPL_QX","index":61,"n_rows":0,"n_cols":0,"rows_kept":0,"cut":false,"hidden":true,"merged":[]}

{"sheet":"modDataRegion","index":62,"n_rows":0,"n_cols":0,"rows_kept":0,"cut":false,"hidden":true,"merged":[]}

{"sheet":"modRequestSpecificData","index":63,"n_rows":0,"n_cols":0,"rows_kept":0,"cut":false,"hidden":true,"merged":[]}

{"sheet":"modRequestReestrData","index":64,"n_rows":0,"n_cols":0,"rows_kept":0,"cut":false,"hidden":true,"merged":[]}

{"sheet":"modFuelSupply","index":65,"n_rows":354,"n_cols":2,"rows_kept":354,"cut":false,"hidden":true,"merged":[]}
["DIC_NAME","DIC_VALUE"]
["ALLOW_FUEL_FROM_PREV_YEAR_ORG_LIST","2591::6315376946::370245001"]
["ALLOW_FUEL_FROM_PREV_YEAR_ORG_LIST","2623::3016059510::785150001"]
["ALLOW_FUEL_FROM_PREV_YEAR_ORG_LIST","2624::3435126710::343501001"]
["ALLOW_FUEL_FROM_PREV_YEAR_ORG_LIST","2631::6315376946::183243001"]
["ALLOW_FUEL_FROM_PREV_YEAR_ORG_LIST","2634::6315376946::526043001"]
["ALLOW_FUEL_FROM_PREV_YEAR_ORG_LIST","2635::6315376946::561243001"]
["ALLOW_FUEL_FROM_PREV_YEAR_ORG_LIST","2653::2205001753::220250001"]
["ALLOW_FUEL_FROM_PREV_YEAR_ORG_LIST","2655::4230032075::423001001"]
["ALLOW_FUEL_FROM_PREV_YEAR_ORG_LIST","2666::2801254956::280101001"]
["ALLOW_FUEL_FROM_PREV_YEAR_ORG_LIST","2669::6504016593::650401001"]
["ALLOW_FUEL_FROM_PREV_YEAR_ORG_LIST","REGION_ID::INN::KPP"]
["COA_SUPPLY_MAX_PRICE","50000"]
["COA_VOLUME_VALIDATION","ERROR"]
["DSL_SUPPLY_MAX_PRICE","100000"]
["DSL_VOLUME_VALIDATION","ERROR"]
["EXCLUDE_ORG_ILLEGALY","2355000438::236501001"]
["EXCLUDE_ORG_ILLEGALY","2454017182::245401001"]
["EXCLUDE_ORG_ILLEGALY","4517009896::451701001"]
["EXCLUDE_ORG_ILLEGALY","5940104047::591701001"]
["EXCLUDE_ORG_ILLEGALY","6011000606::601101001"]
["EXCLUDE_ORG_ILLEGALY","6013009121::601301001"]
["EXCLUDE_ORG_ILLEGALY","INN::KPP"]
["EXCLUDE_ORG_LEGALY","0301003566::030101001"]
["EXCLUDE_ORG_LEGALY","0309000133::032601001"]
["EXCLUDE_ORG_LEGALY","1004001744::100401001"]
["EXCLUDE_ORG_LEGALY","1006004155::104050001"]
["EXCLUDE_ORG_LEGALY","1103019252::110301001"]
["EXCLUDE_ORG_LEGALY","1109010658::110901001"]
["EXCLUDE_ORG_LEGALY","1112005577::111201001"]
["EXCLUDE_ORG_LEGALY","1116008650::111601001"]
["EXCLUDE_ORG_LEGALY","1121003135::112101001"]
["EXCLUDE_ORG_LEGALY","1651057954::165101001"]
["EXCLUDE_ORG_LEGALY","1655189422::785150001"]
["EXCLUDE_ORG_LEGALY","2129027450::213001001"]
["EXCLUDE_ORG_LEGALY","2205001753::220250001"]
["EXCLUDE_ORG_LEGALY","2208000010::997850001"]
["EXCLUDE_ORG_LEGALY","2235001430::223501001"]
["EXCLUDE_ORG_LEGALY","2309021440::230750001"]
["EXCLUDE_ORG_LEGALY","2320033802::232001001"]
["EXCLUDE_ORG_LEGALY","2411025781::241101001"]
["EXCLUDE_ORG_LEGALY","2426005386::242601001"]
["EXCLUDE_ORG_LEGALY","2428004780::242801001"]
["EXCLUDE_ORG_LEGALY","2443005570::997550001"]
["EXCLUDE_ORG_LEGALY","2444001602::244401001"]
["EXCLUDE_ORG_LEGALY","2455035064::245501001"]
["EXCLUDE_ORG_LEGALY","2460083169::246001001"]
["EXCLUDE_ORG_LEGALY","2539042519::253901001"]
["EXCLUDE_ORG_LEGALY","2607018122::351043001"]
["EXCLUDE_ORG_LEGALY","2720001629::272001001"]
["EXCLUDE_ORG_LEGALY","2723073068::790131001"]
["EXCLUDE_ORG_LEGALY","2816008657::281601001"]
["EXCLUDE_ORG_LEGALY","2902060361::511243001"]
["EXCLUDE_ORG_LEGALY","2903000446::290301001"]
["EXCLUDE_ORG_LEGALY","2921009226::292101001"]
["EXCLUDE_ORG_LEGALY","3235002178::731345001"]
["EXCLUDE_ORG_LEGALY","3305004083::330501001"]
["EXCLUDE_ORG_LEGALY","3443017506::344301001"]
["EXCLUDE_ORG_LEGALY","3444259579::344401001"]
["EXCLUDE_ORG_LEGALY","3448003962::344803001"]
["EXCLUDE_ORG_LEGALY","3448017919::344801001"]
["EXCLUDE_ORG_LEGALY","3514006119::351401001"]
["EXCLUDE_ORG_LEGALY","3525008750::352501001"]
["EXCLUDE_ORG_LEGALY","3800000742::381045002"]
["EXCLUDE_ORG_LEGALY","3800000742::381645002"]
["EXCLUDE_ORG_LEGALY","3800000742::381845002"]
["EXCLUDE_ORG_LEGALY","3814011769::381401001"]
["EXCLUDE_ORG_LEGALY","3914000337::391401001"]
["EXCLUDE_ORG_LEGALY","4202026697::420201001"]
["EXCLUDE_ORG_LEGALY","4204000253::421650001"]
["EXCLUDE_ORG_LEGALY","4205049090::420202001"]
["EXCLUDE_ORG_LEGALY","4205049090::420202002"]
["EXCLUDE_ORG_LEGALY","4205049090::420202003"]
["EXCLUDE_ORG_LEGALY","4205049090::420202004"]
["EXCLUDE_ORG_LEGALY","4223056766::772501001"]
["EXCLUDE_ORG_LEGALY","4250003450::420501001"]
["EXCLUDE_ORG_LEGALY","4314000305::431401001"]
["EXCLUDE_ORG_LEGALY","4330005910::433001001"]
["EXCLUDE_ORG_LEGALY","4339008232::433901001"]
["EXCLUDE_ORG_LEGALY","4415006543::441501001"]
["EXCLUDE_ORG_LEGALY","4703108005::470301001"]
["EXCLUDE_ORG_LEGALY","4704012472::470401001"]
["EXCLUDE_ORG_LEGALY","5038092909::503801001"]
["EXCLUDE_ORG_LEGALY","5042003203::504201001"]
["EXCLUDE_ORG_LEGALY","5042015689::504201001"]
["EXCLUDE_ORG_LEGALY","5044000039::504401001"]
["EXCLUDE_ORG_LEGALY","5078021799::507801001"]
["EXCLUDE_ORG_LEGALY","5103070023::511843001"]
["EXCLUDE_ORG_LEGALY","5103070023::997350001"]
["EXCLUDE_ORG_LEGALY","5104002234::997550001"]
["EXCLUDE_ORG_LEGALY","5115300200::511501001"]
["EXCLUDE_ORG_LEGALY","5190141373::519001001"]
["EXCLUDE_ORG_LEGALY","5190907139::519001001"]
["EXCLUDE_ORG_LEGALY","5191431170::997550001"]
["EXCLUDE_ORG_LEGALY","5239001108::523901001"]
["EXCLUDE_ORG_LEGALY","5259120135::525901001"]
["EXCLUDE_ORG_LEGALY","5406153744::540601001"]
["EXCLUDE_ORG_LEGALY","5413111495::541301001"]
["EXCLUDE_ORG_LEGALY","5436108763::543601001"]
["EXCLUDE_ORG_LEGALY","5445260186::544501001"]
["EXCLUDE_ORG_LEGALY","5501023216::554250001"]
["EXCLUDE_ORG_LEGALY","5503082471::550101001"]
["EXCLUDE_ORG_LEGALY","5504102498::550701001"]
["EXCLUDE_ORG_LEGALY","5508000955::550401001"]
["EXCLUDE_ORG_LEGALY","5519002087::551901001"]
["EXCLUDE_ORG_LEGALY","5911013780::590150001"]
["EXCLUDE_ORG_LEGALY","5919470019::591901001"]
["EXCLUDE_ORG_LEGALY","6017009683::601701001"]
["EXCLUDE_ORG_LEGALY","6022008251::602201001"]
["EXCLUDE_ORG_LEGALY","6315376946::132843002"]
["EXCLUDE_ORG_LEGALY","6315376946::561243001"]
["EXCLUDE_ORG_LEGALY","6315376946::631543004"]
["EXCLUDE_ORG_LEGALY","6367032625::631201001"]
["EXCLUDE_ORG_LEGALY","6501211998::650101001"]
["EXCLUDE_ORG_LEGALY","6509021565::650901001"]
["EXCLUDE_ORG_LEGALY","6607000556::591102001"]
["EXCLUDE_ORG_LEGALY","6612005052::661201001"]
["EXCLUDE_ORG_LEGALY","6632001031::997550001"]
["EXCLUDE_ORG_LEGALY","6671156423::263102001"]
["EXCLUDE_ORG_LEGALY","6671156423::660302001"]
["EXCLUDE_ORG_LEGALY","6671156423::660602001"]
["EXCLUDE_ORG_LEGALY","6671156423::997450001"]
["EXCLUDE_ORG_LEGALY","6678003000::667801001"]
["EXCLUDE_ORG_LEGALY","7006006139::700601001"]
["EXCLUDE_ORG_LEGALY","7006006146::700601001"]
["EXCLUDE_ORG_LEGALY","7006006153::700601001"]
["EXCLUDE_ORG_LEGALY","7006006178::700601001"]
["EXCLUDE_ORG_LEGALY","7006006298::700601001"]
["EXCLUDE_ORG_LEGALY","7017351521::701701001"]
["EXCLUDE_ORG_LEGALY","7203162698::997450001"]
["EXCLUDE_ORG_LEGALY","7414003633::997550001"]
["EXCLUDE_ORG_LEGALY","7536089691::753601001"]
["EXCLUDE_ORG_LEGALY","7601000086::760401001"]
["EXCLUDE_ORG_LEGALY","7702718564::770901001"]
["EXCLUDE_ORG_LEGALY","7704214548::230750001"]
["EXCLUDE_ORG_LEGALY","7704784450::563543001"]
["EXCLUDE_ORG_LEGALY","7708647905::385143001"]
["EXCLUDE_ORG_LEGALY","7708709686::997650001"]
["EXCLUDE_ORG_LEGALY","7708737490::362345001"]
["EXCLUDE_ORG_LEGALY","7708737500::741745001"]
["EXCLUDE_ORG_LEGALY","7715729877::251143001"]
["EXCLUDE_ORG_LEGALY","7717127211::540402002"]
["EXCLUDE_ORG_LEGALY","7729314745::770101001"]
["EXCLUDE_ORG_LEGALY","7840022997::784001001"]
["EXCLUDE_ORG_LEGALY","7840346335::290502001"]
["EXCLUDE_ORG_LEGALY","7840346335::381702001"]
["EXCLUDE_ORG_LEGALY","8602060555::860201001"]
["EXCLUDE_ORG_LEGALY","8602067092::245902002"]
["EXCLUDE_ORG_LEGALY","8602067092::504902001"]
["EXCLUDE_ORG_LEGALY","8602067092::670502001"]
["HEAT_MAX_PRICE_NO_TR_COAA","12000"]
["HEAT_MAX_PRICE_NO_TR_COAB","17000"]
["HEAT_MAX_PRICE_NO_TR_COAC","10000"]
["HEAT_MAX_PRICE_NO_TR_COAF","12000"]
["HEAT_MAX_PRICE_NO_TR_COAG","25000"]
["HEAT_MAX_PRICE_NO_TR_COALF","15000"]
["HEAT_MAX_PRICE_NO_TR_COAS","10000"]
["HEAT_MAX_PRICE_NO_TR_COASC","10000"]
["HEAT_MAX_PRICE_NO_TR_COAWC","10000"]
["HEAT_MAX_PRICE_NO_TR_CWD","6000"]
["HEAT_MAX_PRICE_NO_TR_DSG","8000"]
["HEAT_MAX_PRICE_NO_TR_DSLA","80000"]
["HEAT_MAX_PRICE_NO_TR_DSLO","80000"]
["HEAT_MAX_PRICE_NO_TR_DSLS","80000"]
["HEAT_MAX_PRICE_NO_TR_DSLW","80000"]
["HEAT_MAX_PRICE_NO_TR_ENR","10"]
["HEAT_MAX_PRICE_NO_TR_GBL","700"]
["HEAT_MAX_PRICE_NO_TR_GCK","2500"]
["HEAT_MAX_PRICE_NO_TR_GCN","40000"]
["HEAT_MAX_PRICE_NO_TR_GOA","7000"]
["HEAT_MAX_PRICE_NO_TR_LNG","65000"]
["HEAT_MAX_PRICE_NO_TR_MSTF12","50000"]
["HEAT_MAX_PRICE_NO_TR_MSTF5","50000"]
["HEAT_MAX_PRICE_NO_TR_MSTM100","50000"]
["HEAT_MAX_PRICE_NO_TR_MSTM200","50000"]
["HEAT_MAX_PRICE_NO_TR_MSTM40","50000"]
["HEAT_MAX_PRICE_NO_TR_MSTT","50000"]
["HEAT_MAX_PRICE_NO_TR_NGC","40000"]
["HEAT_MAX_PRICE_NO_TR_NGL","9000"]
["HEAT_MAX_PRICE_NO_TR_NGU","12000"]
["HEAT_MAX_PRICE_NO_TR_OIL","25000"]
["HEAT_MAX_PRICE_NO_TR_PEA","6000"]
["HEAT_MAX_PRICE_NO_TR_PLT","12000"]
["HEAT_MAX_PRICE_NO_TR_PWR","1000"]
["HEAT_MAX_PRICE_NO_TR_SAW","13000"]
["HEAT_MAX_PRICE_NO_TR_SHL","25000"]
["HEAT_MAX_PRICE_NO_TR_STF","35000"]
["HEAT_MAX_PRICE_NO_TR_WDS","5000"]
["HEAT_MAX_PRICE_TR_COAA","12000"]
["HEAT_MAX_PRICE_TR_COAB","21000"]
["HEAT_MAX_PRICE_TR_COAC","10000"]
["HEAT_MAX_PRICE_TR_COAF","25000"]
["HEAT_MAX_PRICE_TR_COAG","25000"]
["HEAT_MAX_PRICE_TR_COALF","35000"]
["HEAT_MAX_PRICE_TR_COAS","10000"]
["HEAT_MAX_PRICE_TR_COASC","10000"]
["HEAT_MAX_PRICE_TR_COAWC","10000"]
["HEAT_MAX_PRICE_TR_CWD","10000"]
["HEAT_MAX_PRICE_TR_DSG","8000"]
["HEAT_MAX_PRICE_TR_DSLA","90000"]
["HEAT_MAX_PRICE_TR_DSLO","90000"]
["HEAT_MAX_PRICE_TR_DSLS","90000"]
["HEAT_MAX_PRICE_TR_DSLW","90000"]
["HEAT_MAX_PRICE_TR_ENR","10"]
["HEAT_MAX_PRICE_TR_GBL","700"]
["HEAT_MAX_PRICE_TR_GCK","2500"]
["HEAT_MAX_PRICE_TR_GCN","50000"]
["HEAT_MAX_PRICE_TR_GOA","7000"]
["HEAT_MAX_PRICE_TR_LNG","75000"]
["HEAT_MAX_PRICE_TR_MSTF12","60000"]
["HEAT_MAX_PRICE_TR_MSTF5","60000"]
["HEAT_MAX_PRICE_TR_MSTM100","60000"]
["HEAT_MAX_PRICE_TR_MSTM200","60000"]
["HEAT_MAX_PRICE_TR_MSTM40","60000"]
["HEAT_MAX_PRICE_TR_MSTT","60000"]
["HEAT_MAX_PRICE_TR_NGC","40000"]
["HEAT_MAX_PRICE_TR_NGL","15000"]
["HEAT_MAX_PRICE_TR_NGU","15000"]
["HEAT_MAX_PRICE_TR_OIL","50000"]
["HEAT_MAX_PRICE_TR_PEA","15000"]
["HEAT_MAX_PRICE_TR_PLT","12000"]
["HEAT_MAX_PRICE_TR_PWR","1000"]
["HEAT_MAX_PRICE_TR_SAW","13000"]
["HEAT_MAX_PRICE_TR_SHL","25000"]
["HEAT_MAX_PRICE_TR_STF","40000"]
["HEAT_MAX_PRICE_TR_WDS","5000"]
["HEAT_MIN_PRICE_NO_TR_COAA","500"]
["HEAT_MIN_PRICE_NO_TR_COAB","100"]
["HEAT_MIN_PRICE_NO_TR_COAC","400"]
["HEAT_MIN_PRICE_NO_TR_COAF","500"]
["HEAT_MIN_PRICE_NO_TR_COAG","600"]
["HEAT_MIN_PRICE_NO_TR_COALF","350"]
["HEAT_MIN_PRICE_NO_TR_COAS","700"]
["HEAT_MIN_PRICE_NO_TR_COASC","1000"]
["HEAT_MIN_PRICE_NO_TR_COAWC","400"]
["HEAT_MIN_PRICE_NO_TR_CWD","1000"]
["HEAT_MIN_PRICE_NO_TR_DSG","2000"]
["HEAT_MIN_PRICE_NO_TR_DSLA","10000"]
["HEAT_MIN_PRICE_NO_TR_DSLO","10000"]
["HEAT_MIN_PRICE_NO_TR_DSLS","10000"]
["HEAT_MIN_PRICE_NO_TR_DSLW","2500"]
["HEAT_MIN_PRICE_NO_TR_ENR","0,5"]
["HEAT_MIN_PRICE_NO_TR_GBL","200"]
["HEAT_MIN_PRICE_NO_TR_GCK","300"]
["HEAT_MIN_PRICE_NO_TR_GCN","10000"]
["HEAT_MIN_PRICE_NO_TR_GOA","300"]
["HEAT_MIN_PRICE_NO_TR_LNG","5000"]
["HEAT_MIN_PRICE_NO_TR_MSTF12","10000"]
["HEAT_MIN_PRICE_NO_TR_MSTF5","10000"]
["HEAT_MIN_PRICE_NO_TR_MSTM100","350"]
["HEAT_MIN_PRICE_NO_TR_MSTM200","8000"]
["HEAT_MIN_PRICE_NO_TR_MSTM40","2500"]
["HEAT_MIN_PRICE_NO_TR_MSTT","2500"]
["HEAT_MIN_PRICE_NO_TR_NGC","500"]
["HEAT_MIN_PRICE_NO_TR_NGL","300"]
["HEAT_MIN_PRICE_NO_TR_NGU","400"]
["HEAT_MIN_PRICE_NO_TR_OIL","1000"]
["HEAT_MIN_PRICE_NO_TR_PEA","50"]
["HEAT_MIN_PRICE_NO_TR_PLT","100"]
["HEAT_MIN_PRICE_NO_TR_PWR","100"]
["HEAT_MIN_PRICE_NO_TR_SAW","10"]
["HEAT_MIN_PRICE_NO_TR_SHL","50"]
["HEAT_MIN_PRICE_NO_TR_STF","2000"]
["HEAT_MIN_PRICE_NO_TR_WDS","50"]
["HEAT_MIN_PRICE_TR_COAA","500"]
["HEAT_MIN_PRICE_TR_COAB","100"]
["HEAT_MIN_PRICE_TR_COAC","400"]
["HEAT_MIN_PRICE_TR_COAF","500"]
["HEAT_MIN_PRICE_TR_COAG","600"]
["HEAT_MIN_PRICE_TR_COALF","350"]
["HEAT_MIN_PRICE_TR_COAS","700"]
["HEAT_MIN_PRICE_TR_COASC","1000"]
["HEAT_MIN_PRICE_TR_COAWC","400"]
["HEAT_MIN_PRICE_TR_CWD","1000"]
["HEAT_MIN_PRICE_TR_DSG","2000"]
["HEAT_MIN_PRICE_TR_DSLA","10000"]
["HEAT_MIN_PRICE_TR_DSLO","10000"]
["HEAT_MIN_PRICE_TR_DSLS","10000"]
["HEAT_MIN_PRICE_TR_DSLW","2500"]
["HEAT_MIN_PRICE_TR_ENR","0,5"]
["HEAT_MIN_PRICE_TR_GBL","200"]
["HEAT_MIN_PRICE_TR_GCK","300"]
["HEAT_MIN_PRICE_TR_GCN","10000"]
["HEAT_MIN_PRICE_TR_GOA","300"]
["HEAT_MIN_PRICE_TR_LNG","5000"]
["HEAT_MIN_PRICE_TR_MSTF12","10000"]
["HEAT_MIN_PRICE_TR_MSTF5","10000"]
["HEAT_MIN_PRICE_TR_MSTM100","350"]
["HEAT_MIN_PRICE_TR_MSTM200","8000"]
["HEAT_MIN_PRICE_TR_MSTM40","2500"]
["HEAT_MIN_PRICE_TR_MSTT","2500"]
["HEAT_MIN_PRICE_TR_NGC","500"]
["HEAT_MIN_PRICE_TR_NGL","300"]
["HEAT_MIN_PRICE_TR_NGU","400"]
["HEAT_MIN_PRICE_TR_OIL","1000"]
["HEAT_MIN_PRICE_TR_PEA","50"]
["HEAT_MIN_PRICE_TR_PLT","100"]
["HEAT_MIN_PRICE_TR_PWR","100"]
["HEAT_MIN_PRICE_TR_SAW","10"]
["HEAT_MIN_PRICE_TR_SHL","50"]
["HEAT_MIN_PRICE_TR_STF","2000"]
["HEAT_MIN_PRICE_TR_WDS","50"]
["MST_SUPPLY_MAX_PRICE","60000"]
["MST_VOLUME_VALIDATION","ERROR"]
["PURCHASES_URL_LIST","https://zakupki.gov.ru/223/clause/public/order-clause/info/documents.html?clauseId="]
["PURCHASES_URL_LIST","https://zakupki.gov.ru/223/contract/public/contract/view/general-information.html?"]
["PURCHASES_URL_LIST","https://zakupki.gov.ru/223/contract/public/contract/view/general-information.html?id={number}"]
["PURCHASES_URL_LIST","https://zakupki.gov.ru/223/purchase/public/purchase/info/common-info.html?noticeId={number}"]
["PURCHASES_URL_LIST","https://zakupki.gov.ru/223/purchase/public/purchase/info/common-info.html?noticeInfoId={number}"]
["PURCHASES_URL_LIST","https://zakupki.gov.ru/223/purchase/public/purchase/info/common-info.html?regNumber={number}"]
["PURCHASES_URL_LIST","https://zakupki.gov.ru/epz/contract/contractCard/common-info.html?reestrNumber={number}"]
["PURCHASES_URL_LIST","https://zakupki.gov.ru/epz/order/notice/ea44/view/common-info.html?regNumber={number}"]
["PURCHASES_URL_LIST","https://zakupki.gov.ru/epz/order/notice/ep44/view/common-info.html?regNumber={number}"]
["PURCHASES_URL_LIST","https://zakupki.gov.ru/epz/order/notice/inm111/view/common-info.html?regNumber={number}"]
["PURCHASES_URL_LIST","https://zakupki.gov.ru/epz/order/notice/zk44/view/common-info.html?regNumber={number}"]
["PURCHASES_URL_LIST","https://zakupki.gov.ru/epz/order/notice/zk504/view/common-info.html?regNumber={number}"]
["PURCHASES_URL_LIST","https://zakupki.gov.ru/epz/order/notice/zp44/view/common-info.html?regNumber={number}"]
["PURCHASES_URL_LIST","https://zakupki.gov.ru/epz/orderplan/plan-graph-card/special-purchase.html?revision-id="]
["PURCHASE_MIN_PRICE","300"]
["RST_SRC_SKIP_FILTER_BY_KPP","NO"]
["SUPPLIER_DETERMINING_METHOD_LIST","№ 223-ФЗ: Закупка у единственного поставщика (исполнителя, подрядчика)"]
["SUPPLIER_DETERMINING_METHOD_LIST","№ 223-ФЗ: Запрос котировок"]
["SUPPLIER_DETERMINING_METHOD_LIST","№ 223-ФЗ: Запрос предложений"]
["SUPPLIER_DETERMINING_METHOD_LIST","№ 223-ФЗ: Запрос цен"]
["SUPPLIER_DETERMINING_METHOD_LIST","№ 223-ФЗ: Открытые конкурентные переговоры"]
["SUPPLIER_DETERMINING_METHOD_LIST","№ 223-ФЗ: Открытый аукцион"]
["SUPPLIER_DETERMINING_METHOD_LIST","№ 223-ФЗ: Открытый конкурс"]
["SUPPLIER_DETERMINING_METHOD_LIST","№ 223-ФЗ: Открытый одноэтапный запрос предложений"]
["SUPPLIER_DETERMINING_METHOD_LIST","№ 223-ФЗ: Электронный аукцион"]
["SUPPLIER_DETERMINING_METHOD_LIST","№ 44-ФЗ: Двухэтапный конкурс"]
["SUPPLIER_DETERMINING_METHOD_LIST","№ 44-ФЗ: Закрытый аукцион"]
["SUPPLIER_DETERMINING_METHOD_LIST","№ 44-ФЗ: Закрытый двухэтапный конкурс"]
["SUPPLIER_DETERMINING_METHOD_LIST","№ 44-ФЗ: Закрытый конкурс"]
["SUPPLIER_DETERMINING_METHOD_LIST","№ 44-ФЗ: Закрытый конкурс с ограниченным участием"]
["SUPPLIER_DETERMINING_METHOD_LIST","№ 44-ФЗ: Закупка у единственного поставщика (исполнителя, подрядчика)"]
["SUPPLIER_DETERMINING_METHOD_LIST","№ 44-ФЗ: Запрос котировок"]
["SUPPLIER_DETERMINING_METHOD_LIST","№ 44-ФЗ: Запрос котировок без размещения извещения"]
["SUPPLIER_DETERMINING_METHOD_LIST","№ 44-ФЗ: Запрос предложений"]
["SUPPLIER_DETERMINING_METHOD_LIST","№ 44-ФЗ: Запрос предложений в электронном виде"]
["SUPPLIER_DETERMINING_METHOD_LIST","№ 44-ФЗ: Иной способ"]
["SUPPLIER_DETERMINING_METHOD_LIST","№ 44-ФЗ: Конкурс c ограниченным участием"]
["SUPPLIER_DETERMINING_METHOD_LIST","№ 44-ФЗ: Открытый конкурс"]
["SUPPLIER_DETERMINING_METHOD_LIST","№ 44-ФЗ: Предварительный отбор"]
["SUPPLIER_DETERMINING_METHOD_LIST","№ 44-ФЗ: Способ определения поставщика (подрядчика, исполнителя), установленный Правительством Российской Федерации в соответствии со статьей 111 Федерального закона № 44-ФЗ"]
["SUPPLIER_DETERMINING_METHOD_LIST","№ 44-ФЗ: Электронный аукцион"]
["SUPPLIER_DETERMINING_METHOD_LIST","Брокерские услуги"]
["SUPPLIER_DETERMINING_METHOD_LIST","Внеконкурсные процедуры (действие 223-ФЗ и 44-ФЗ не распространяется на организацию)"]
["SUPPLIER_DETERMINING_METHOD_LIST","Внеконкурсные процедуры (закупки в соответствии с Положением организации о закупках)"]
["SUPPLIER_DETERMINING_METHOD_LIST","Внеконкурсные процедуры (закупки у взаимозависимых юридических лиц)"]
["SUPPLIER_DETERMINING_METHOD_LIST","Внеконкурсные процедуры (организация должна проводить закупки по 223-ФЗ или 44-ФЗ, но требование не выполнено)"]
["SUPPLIER_DETERMINING_METHOD_LIST","Закупка стоимостью менее порогового значения, необходимого для проведения конкурсных процедур по 223-ФЗ или 44-ФЗ"]
["SUPPLIER_DETERMINING_METHOD_LIST","Открытые конкурентные переговоры"]
["SUPPLIER_DETERMINING_METHOD_LIST","Покупка на бирже нефтепродуктов по договору с Биржей"]
["SUPPLIER_DETERMINING_METHOD_LIST","Топливо собственного производства"]

{"sheet":"modfrmFuelTransferMethods","index":66,"n_rows":0,"n_cols":0,"rows_kept":0,"cut":false,"hidden":true,"merged":[]}

{"sheet":"modfrmDateChoose","index":67,"n_rows":0,"n_cols":0,"rows_kept":0,"cut":false,"hidden":true,"merged":[]}

{"sheet":"modfrmPurchaseRegNumber","index":68,"n_rows":0,"n_cols":0,"rows_kept":0,"cut":false,"hidden":true,"merged":[]}

{"sheet":"modfrmEGRSearch","index":69,"n_rows":0,"n_cols":0,"rows_kept":0,"cut":false,"hidden":true,"merged":[]}